{"text_format":"3","workbook":"xlsx","n_sheets":19,"sheets":["Anleit","DVO","T1 Deck","T2 EO","T3 Ausg","T4 Indi","T5.1 Invest","T5.2 Forsch","T5.3 Quali","T5.4 Abs+Kom","T5.5 Bild","T5.6 Berat","T5.7 Umwelt","T5.8 Krise","T5.9 Sonst","T6.1 Sam_Indi NSt","T6.2 Sam_Indi EU (T4)","T6.3_Sam_Ausg (T3)","Auswahl"],"not_rendered":{"defined_names":71},"read":"whole","date_system":"1900"}

{"sheet":"Anleit","index":0,"n_rows":62,"n_cols":12,"rows_kept":62,"merged":[[0,12,1,12],[1,0,1,11],[5,3,5,10],[6,3,6,10],[7,11,9,11],[10,3,10,10],[20,3,20,10],[26,0,26,11],[28,0,28,11],[29,0,29,11],[31,0,31,11],[32,0,32,11],[33,0,33,11],[35,0,35,9],[36,0,36,9],[37,0,37,9],[38,0,38,9],[40,0,40,11],[42,0,42,11],[44,0,44,11],[46,0,46,1],[46,3,46,11],[47,0,47,11],[48,0,51,1],[48,3,48,11],[49,3,49,11],[50,3,50,11],[51,3,51,11],[52,0,52,11],[53,0,53,1],[53,3,53,11],[54,0,54,1],[54,3,54,11],[55,0,55,1],[55,3,55,11],[56,0,56,11],[57,0,57,1],[57,3,57,11],[58,0,58,11],[59,0,59,1],[59,3,59,11],[60,0,60,11],[61,0,61,1],[61,3,61,11]]}
[{"$nulls":11},"Vorblatt 1"]
["Tabellenverzeichnis"]
[]
[null,"Anleit",null,"Tabellenverzeichnis und Ausfüllanleitung"]
[null,"DVO",null,"DVO (EU) 2017/892, Anhang II geändert mit DVO (EU) 2018/1146 (Anmerkungen und Fußnoten)"]
[null,"Tabelle 1",null,"Deckblatt",{"$nulls":7},"DVO"]
[null,"       2.-4.",null,"Jahresbericht gemäß Art. 54 b) der Deleg. VO (EU) 2017/891"]
[null,"Tabelle 2",null,"Angaben zu den Erzeugerorganisationen",{"$nulls":7},"Art. 21,\nAnhang II"]
[null,"Tabelle 3",null,"Angaben zu den Ausgaben"]
[null,"Tabelle 4",null,"Überwachung des Operationellen Programmes"]
[null,"            5. ",null,"Erfassung Aktionen-Ziele-Ausgaben-Indikatoren i.V.m. Nationaler Strategie und Überwachung des OPs hinsichtlich der Ausgaben und einiger Indikatoren"]
[null,"Tabelle 5.1",null,null,"Investitionen"]
[null,"Tabelle 5.2",null,null,"Forschung und Versuchslandbau"]
[null,"Tabelle 5.3",null,null,"Qualitätsregelungen (EU und Mitgliedstaaten) und Maßnahmen zur Qualitätsverbesserung"]
[null,"Tabelle 5.4",null,null,"Absatzförderung und Kommunikation"]
[null,"Tabelle 5.5",null,null,"Aus- und Weiterbildung und Austausch über bewährte Verfahren"]
[null,"Tabelle 5.6",null,null,"Beratungsdienste und technische Hilfe"]
[null,"Tabelle 5.7",null,null,"Umweltmaßnahmen"]
[null,"Tabelle 5.8",null,null,"Krisenprävention und Krisenmanagement"]
[null,"Tabelle 5.9",null,null,"Sonstige"]
[null,"            6. ",null,"Fortlaufende Überwachung und Bewertung des OP anhand der Indikatoren",{"$nulls":7},"Deleg. VO"]
[null,"Tabelle 6.1",null,null,"Datensammlung der Indikatoren gemäß Nationaler Strategie (s. Anhang 1 und 4)",{"$nulls":6},"Art. 56+58"]
[null,"Tabelle 6.2",null,null,"Datensammlung der Indikatoren gemäß EU-VO anhand Tabelle 4",{"$nulls":6},"Art. 56+57"]
[null,"Tabelle 6.3",null,null,"Datensammlung der Ausgaben lt. Tabelle 3 (Evaluierung Nationaler Strategie)"]
[null,"Auswahl",null,"Inhalt bestimmter Auswahlfelder in den Tabellen"]
[]
["Ausfüllanleitung"]
[]
["Mit diesem Formular werden die grundlegenden Anforderungen an den Bericht der EO / LEO gemäß Art. 21 DVO (EU) Nr. 2017/892 geändert durch DVO (EU) 2018/1146 abgedeckt. Ggf. können die zuständigen Stellen zusätzliche Unterlagen und Erläuterungen in einem gesonderten Bericht anfordern."]
["Gleichzeitig findet mit diesem Formular eine fortlaufende Sammlung von Indikatoren während der Laufzeit des gesamten OP zur Überwachung und Bewertung gem. Art. 56, 57 (3) und 58 der Deleg. VO (EU) 2017/891 geändert durch Deleg. VO (EU) 2018/1145 statt."]
[]
["Blau hinterlegte Tabellenblätter (T2 bis T4) enthalten die Daten für die Erstellung des Jahresberichtes an die EU-Kommission gemäß Art. 54 b) der deleg. VO(EU) 2017/891. \n"]
["Orange hinterlegten Tabellenblätter (T5.1 bis T5.9) stellen mit der Erfassung von Aktionen, Zielen, Ausgaben und Indikatoren die Verbindung zur Nationalen Strategie her und zeigen Änderungen im OP auf. Mit der Erfassung von T5.1 bis T5.9 (orange) werden bereits viele Daten in T3 und T4 (blau) übernommen und berechnet."]
["Grün hinterlegte Tabellenblätter (T6.1 bis T6.3) ermöglichen die fortlaufende Sammlung der Indikatoren je OP-Jahr zur Überwachung und Bewertung während der gesamten Laufzeit des OPs gem. Art. 56 und 58 der Deleg. VO (EU) 2017/891. Die Indikatoren dieser Tabellenblätter bilden die Datengrundlage für den Bewertungsbericht gem. Art. 57 Abs. 3 gleicher VO, der im vorletzten Jahr der Durchführung des OP dem entsprechenden Jahresbericht  beizufügen ist (Art. 21 DVO (EU) 2017/892).\nEinige Daten werden bereits mit erfassten und berechneten Daten aus den Tabellen 3 (blau) und 5.1 bis 5.9 (orange) gefüllt, andere Daten müssen noch ergänzt werden. In Tabelle 6.1 (grün) sind Indikatoren zum Umweltziel für die Berechnung in Tabelle 4 (blau) zu erfassen, die der Tabelle 5.7 (orange) zuzuordnen sind."]
[]
["Bitte füllen Sie die gelb hinterlegten Felder in T1 bis T6.3 aus!",{"$nulls":10},"Ausfüllen"]
["Felder mit Berechnungen und wiederkehrende Angaben sind blau hinterlegt und geschützt. Hier werden Werte mittels Formeln berechnet oder erfasste Daten an anderer Stelle übernommen. ",{"$nulls":10},"Formel"]
["Grau hinterlegte Felder werden nicht ausgefüllt.",{"$nulls":10},"keine Angaben"]
["Weiß hinterlegte Felder sind zum großen Teil vorgegeben und geschützt."]
[]
["Gelb hinterlegte Zellen bitte grundsätzlich nicht frei lassen. Sofern ein abgefragter Zellinhalt nicht Bestandteil des operationellen Programms ist, tragen Sie in diesem Feld bei Werten eine Null ('0') und bei Texten 'entfällt' ein. Beispielsweise wurde in den Tabellen 5.1 bis 5.9 der Spalte \"D) Indikatoren\" der Wert '0' voreingestellt und das Auswahlfeld der Spalte \"E) Änderungen-OP\" der Tabellen 5.1 bis 5.9 enthält auch 'entfällt'. Eine Ausnahme bilden Felder in Tabelle 2 und die Zeilen der Tabellen 5.1 bis 5.9, wenn keine oder keine weiteren Aktionen durchgeführt wurden. Es ist dann ausreichend bei Aktion in 1. Zeile oder in 1. Zeile nach letzter Angabe 'entfällt' einzutragen. "]
[]
["Mit Schriftfarbe Orange werden Ausfüllhinweise gegeben und Kontrollrechnungen angeboten. Rote Schriftfarbe kennzeichnet Abweichungen gegenüber EU- und nationalen Regularien. \nIm unteren Teil der Tabellen werden mit Sternchen gekennzeichnete Angaben und Fußnoten erläutert."]
[]
["Das Formular wird als Excel-Vorlage-Datei im Format '.xltx' zur Verfügung gestellt. \nNach Öffnen einer Excel-Vorlage-Datei wird automatisch eine normale Excel-Arbeitsmappe im Format '.xlsx' erzeugt, die Sie bitte auch im 'xlsx' Datei-Format separat abspeichern. Die Excel-Dokumentenvorlage bleibt unverändert bestehen, sofern sie nicht mit gleichem Format überschrieben wird."]
[]
["DVO",null,null,"Zusammenfassung aller Anmerkungen und Fußnoten von Anhang II der DVO (EU) 2017/892 geändert durch DVO (EU) 2018/1146. Diese finden sich neben zusätzlichen Erläuterungen der Kommission auch in den einzelnen Tabellenblättern wieder."]
[]
["T1 Deck",null,null,"Die Häkchen für den Jahresbericht (n = Berichtsjahr) und für die Überwachung und Bewertung des OP\n(n-1; n-2; etc. = vorangegangene Berichtsjahre) sind bereits voreingestellt. Alle nachfolgenden Tabellen-blätter mit Ausnahme 'Auswahl' sind auszufüllen."]
[{"$nulls":3},"Das Häkchen für den Bewertungsbericht ist nur im vorletzten Jahr des OP für die Abgabe gem. Art. 57 Abs. 3 Deleg. VO (EU) 2017/891 zum entsprechenden Jahresbericht gem. Art 21 DVO (EU) 2017/892 zu setzen.\nDer Bewertungsbericht (= Sachbericht) muss dem Jahresbericht beigefügt werden!\nDatengrundlage bilden die grünen Tabellenblättter (T6.1 bis T6.3) für die Sammlung von Indikatoren zur Überwachung und Bewertung."]
[{"$nulls":3},"Der EO / LEO-Code ist die Identifikationsnummer, unter der die EO / LEO bei den Behörden in Deutschland und bei der EU-Kommission geführt wird. Sie wurde im Rahmen der Anerkennung vergeben und setzt sich aus dem Kennzeichen \"DE\" und einer vierstelligen Nummer zusammen."]
[{"$nulls":3},"Als Durchführungsphase geben Sie an, auf welches Durchführungsjahr (X) im Verhältnis zur gesamten Laufzeit des operationellen Programms (Y) sich der Bericht bezieht (Bsp. 2/5)."]
["Jahresbericht gemäß Art. 54 b) der Deleg. VO (EU) 2017/891"]
["T2 EO",null,null,"Tragen Sie alle Angaben zu EO / LEO bis auf die Berechnung der Anzahl der gesamten Mitglieder ein. Einige Felder bleiben evtl. leer."]
["T3 Ausg",null,null,"Bei den Ausgaben sind nur der genehmigte und der endgültige Betriebsfonds, der WvE, der WvE im Referenzzeitraum und die Verwaltungskosten gesplittet nach Zielen einzutragen. Alle anderen tatsächlichen Gesamtausgaben des Berichtsjahres werden aus den Tabellen T5.1 bis T5.9 automatisch mittels Formeln gefüllt. Bitte beachten Sie die Kontrollrechnungen auf der rechten Tabellenseite.\nDie vorgegebenen Inhalte der Angaben entsprechen, außer dem WvE im Referenzzeitraum, dem Jahresbericht gemäß Art. 21 DVO (EU) 2017/892."]
["T4 Indi",null,null,"Keine Eintragungen erforderlich, da die Indikatoren vollständig aus den Tabellen T5.1 bis T6.1 mittels Formeln übertragen werden."]
["5. Erfassung Aktionen-Ziele-Ausgaben-Indikatoren i.V.m. nationaler Strategie und \nÜberwachung des OPs hinsichtlich der Ausgaben und einiger Indikatoren"]
["T5.1 bis T5.9",null,null,"Mit den zu erfassenden Daten in diesen Tabellen werden zum großen Teil die Ausgaben in Tabelle 3 (blau) und die Indikatoren der Tabelle 4 (blau) gefüllt. Zugleich werden viele Daten in den Tabellen 6.1 bis T6.3 (grün) übernommen.\nBitte beachten Sie sowohl die Hinweise (Schriftfarbe Orange) im Tabellenkopf bzw. innerhalb der Tabelle, als auch die Erläuterungen im jeweils unteren Tabellenbereich.\nZu erfassen sind alle Aktionen des Berichtsjahres und der vorangegangenen Berichtsjahre. Alle Aktionen sind den Zielen gemäß VO (EU) Nr. 1308/2013 und gemäß der Nationalen Strategie zuzuordnen. Für jede Aktion ist grundsätzlich die Anzahl der beteiligten Betriebe und der Gesamtwert der Ausgaben einzutragen. Zudem werden weitere Indikatoren, die in Tabelle 4 vorgegeben sind, entsprechend den Zielen bzw. Maßnahmen erfasst. Weitere Indikatoren der Tabelle 4 zum Umweltziel müssen z.T. in Tabelle 6.2 erfasst werden.\nBei der Erfassung der Daten aus vorangegangenen Berichtsjahren sind 'zahlungsrelevante Daten' zu verwenden. Bitte stimmen Sie sich dazu mit der zuständigen Bewilligungsstelle ab."]
["6. Fortlaufende Überwachung und Bewertung des OP anhand der Indikatoren"]
["T6.1 bis 6.3",null,null,"Diese Tabellen dienen der Sammlung der Indikatoren zur laufenden Überwachung und Bewertung des OP. Nach Rücksprache mit der zuständigen Stelle kann diese Datensammlung auch als separate Datei zur Verfügung gestellt werden, die dem Jahresbericht beizufügen ist.\nMit diesen Tabellen werden die Indikatoren eines jeden Berichtsjahres des OP nebeneinander dargestellt, um eine Beurteilung zu Effizienz und Wirksamkeit des OP anhand der Änderungen dieser quantifizierten Werte zu ermöglichen. \nIn Tabelle 6.1 werden hauptsächlich Daten erfasst, wogegen die Tabelle 6.2 bereits viele berechnete und übertragene Daten aus den Tabellen 5.9 bis 6.1 enthält. Erfasst werden in Tabelle 6.2 noch Daten, wie Ausgangswert, Zielwert und Entwicklungstendenz. Auch in Tabelle 6.3 wird ein Großteil der Angaben bereits mit den Tabellen 3 und 5.1 bis 5.9 übertragen. Es werden nur noch einige zahlungsrelevante Daten aus vorangegangenen Berichtsjahren und Entwicklungstendenzen angegeben."]
[]
["Auswahl",null,null,"In diesem Tabellenblatt finden sich die Inhalte der Auswahlfelder wieder."]

{"sheet":"DVO","index":1,"n_rows":63,"n_cols":8,"rows_kept":63,"merged":[[1,0,1,7],[4,1,4,7],[5,1,5,7],[6,1,6,7],[7,1,7,7],[8,1,8,7],[9,1,9,7],[10,1,10,7],[11,1,11,7],[14,1,14,7],[15,1,15,7],[16,1,16,7],[17,1,17,7],[18,1,18,7],[19,1,19,7],[20,1,20,7],[21,1,21,7]]}
[{"$nulls":7},"Vorblatt 2"]
["DVO (EU) 2017/892, Anhang II geändert mit DVO (EU) 2018/1146"]
[]
[null,"Anmerkung:"]
["Ziel","Die Verordnung (EU) Nr. 1308/2013 sieht folgende Ziele vor:  \n"]
["1.","— Planung der Produktion Artikel 33 Absatz 1 Buchstabe a und Artikel 152 Absatz 1 Buchstabe c Ziffern i, ii und xi  \n"]
["2.","— Verbesserung der Qualität der Erzeugnisse Artikel 33 Absatz 1 Buchstabe b und Artikel 152 Absatz 1 Buchstabe c Ziffern i, iv und vi  \n"]
["3.","— Steigerung des Vermarktungswerts der Erzeugnisse Artikel 33 Absatz 1 Buchstabe c und Artikel 152 Absatz 1 Buchstabe c Ziffern i, ii, iii, iv, ix und xi "]
["4.","— Förderung des Absatzes der Erzeugnisse Artikel 33 Absatz 1 Buchstabe d und Artikel 152 Absatz 1 Buchstabe c Ziffern vi und ix  "]
["5.","— Umweltmaßnahmen Artikel 33 Absatz 1 Buchstabe e und Artikel 152 Absatz 1 Buchstabe c Ziffern iii, iv, v, vii und viii"]
["6.","— Krisenprävention und Krisenmanagement Artikel 33 Absatz 1 Buchstabe f, Artikel 33 Absatz 3 Buchstabe a und Artikel 152 Absatz 1 Buchstabe c Ziffern iv und xi  "]
["7.","— Forschung Artikel 152 Absatz 1 Buchstabe c Ziffer iv  "]
[]
[null,"Fußnoten"]
["(1)","Einschließlich nicht produktiver Investitionen in Verbindung mit der Erfüllung von Verpflichtungen im Rahmen des operationellen Programms. "]
["(2)","EU-Qualitätsregelungen sind als eine Reihe präziser Verpflichtungen in Bezug auf die Produktionsmethoden zu verstehen, \na) deren Einhaltung von einer unabhängigen Kontrollstelle überprüft wird und \nb) die ein Endprodukt gewährleisten, dessen Qualität\n     i) in Bezug auf Gesundheits-, Pflanzengesundheits- und Umweltnormen weit über die gängigen Handelsnormen hinausgeht, und\n     ii) den gegenwärtigen und absehbaren Absatzmöglichkeiten gerecht wird. \nEs wird vorgeschlagen, dass die wichtigsten Arten von ‚Qualitätssicherungssystemen‘ Folgendes abdecken sollten: \na) den zertifizierten ökologischen Landbau; \nb) geschützte geografische Angaben und geschützte Ursprungsbezeichnungen, \nc) den zertifizierten integrierten Landbau, \nd) private zertifizierte Qualitätssicherungssysteme."]
["(3)","Geschützte Ursprungsbezeichnungen / geschützte geografische Angaben / garantiert traditionelle Spezialitäten "]
["(4)","Jeder Tag einer Absatzförderungs-/Kommunikationskampagne zählt als eine Aktion. "]
["(5)","Als ‚bodenerosionsgefährdet‘ gelten Parzellen in Hanglage mit einer Neigung von über 10 %, und zwar unabhängig davon, ob Maßnahmen zum Erosionsschutz (z.B. Bodenbegrünung, Fruchtfolge usw.) getroffen wurden oder nicht. Liegen die betreffenden Informationen nicht vor, kann der Mitgliedstaat stattdessen die folgende Definition verwenden: \nAls ‚bodenerosionsgefährdet‘ gelten Parzellen mit einem absehbaren über die Rate der natürlichen Bodenbildung hinausgehenden Bodenverlust, und zwar unabhängig davon, ob Maßnahmen zum Erosionsschutz (z.B. Bodenbegrünung, Fruchtfolge usw.) getroffen wurden oder nicht. "]
["(6)","Maßnahmen im Zusammenhang mit der Errichtung/Neubefüllung von unterschiedlichen Risikofonds auf Gegenseitigkeit zählen als unterschiedliche Maßnahmen. "]
["(7)","Marktrücknahmen ein und desselben Erzeugnisses zu unterschiedlichen Zeiten des Jahres und Marktrücknahmen unterschiedlicher Erzeugnisse zählen als unterschiedliche Maßnahmen. Jede Marktrücknahme für ein bestimmtes Erzeugnis zählt als eine Aktion. "]
["(8)","Die Ernte vor der Reifung und das Nichternten unterschiedlicher Erzeugnisse zählen als unterschiedliche Maßnahmen. Die Ernte vor der Reifung und das Nichternten ein und desselben Erzeugnisses zählen als eine Aktion, unabhängig von der dafür benötigten Anzahl an Tagen, der Zahl der teilnehmenden Betriebe und der Anzahl der betroffenen Parzellen oder Hektar. "]
{"$rows_empty":40}
["Auswahl"]

{"sheet":"T1 Deck","index":2,"n_rows":30,"n_cols":9,"rows_kept":30,"merged":[[0,9,1,10],[1,0,1,8],[2,0,2,8],[2,9,2,10],[13,3,13,6],[15,3,15,6],[17,3,17,4],[19,3,19,4],[21,3,21,4],[23,3,23,4],[25,3,25,4],[27,1,27,2],[27,3,27,4],[29,3,29,4]]}
[{"$nulls":8},"Tabelle 1"]
["Bericht der Erzeugerorganisation (EO) \nbzw. Länderübergreifenden EO (LEO)"]
["gemäß Verordnung (EU) Nr. 1308/2013,\nDurchführungsverordnung (EU) 2017/892 \nund Delegierter Verordnung (EU) 2017/891"]
[]
[{"$nulls":4},"Jahresbericht"]
[{"$nulls":4},"gemäß Art. 21 DVO (EU) 2017/892"]
[]
[{"$nulls":4},"Überwachung und Bewertung "]
[{"$nulls":4},"gemäß Art. 56 und 58 Deleg. VO (EU) 2017/891"]
[]
[{"$nulls":4},"Bewertungsbericht (vorletztes OP-Jahr)"]
[{"$nulls":4},"gemäß Art. 57 Abs. 3 Deleg. VO (EU) 2017/891"]
[]
[null,"Name der EO / LEO\n(gem. Handelsregistereintrag)",null,"Name_der_EO_LEO"]
[]
[null,"Anschrift",null,"Adresse"]
[]
[null,"EO oder LEO"]
[]
[null,"EO- / LEO-Code",null,"DE XXXX"]
[]
[null,"InVeKos-Nr."]
[]
[null,"Berichtsjahr",null,"2020"]
[]
[null,"Berichtszeitraum",null,"01.01.2020 - 31.12.2020"]
[]
[null,"Laufzeit des OP",null,"JJJJ - JJJJ"]
[]
[null,"Durchführungsphase",null,"X/Y"]

{"sheet":"T2 EO","index":3,"n_rows":36,"n_cols":9,"rows_kept":36,"merged":[[2,1,2,2],[7,0,10,1],[7,2,7,4],[8,2,8,4],[9,2,9,4],[10,2,10,4],[11,0,13,1],[11,2,11,4],[12,2,12,4],[13,2,13,4],[14,0,16,1],[14,2,14,4],[15,2,15,4],[16,2,16,4],[17,0,20,1],[17,2,17,4],[18,2,18,4],[19,2,19,4],[20,2,20,4],[21,0,21,1],[21,3,21,4],[23,0,24,1],[23,2,23,3],[24,2,24,3],[25,0,26,1],[25,2,25,3],[26,2,26,3],[27,0,27,1],[27,2,27,4],[30,1,30,6],[31,1,31,6],[33,1,33,6],[35,1,35,6]]}
[{"$nulls":6},"Tabelle 2"]
[]
["Name der EO / LEO ",{"$f":"Name_der_EO_LEO","v":"Name_der_EO_LEO"},null,"Berichtsjahr ",{"$f":"Berichtsjahr","v":"2020"},null,"Formel"]
[]
["EO- / LEO-Code ",{"$f":"EO_Code","v":"DE XXXX"},{"$nulls":4},"Ausfüllen"]
[]
["Tabelle 2: Mitglieder, Mitgliedschaft, Bestimmung der Erzeugnisse, Fläche",{"$nulls":5},"(Zus.fassg. KOM-Tab. 2.1-2.4)"]
["Zahl der Mitglieder",null,"Insgesamt",{"$nulls":3},{"$f":"SUM(G9:G10)","v":0}]
[null,null,"Juristische Personen",{"$nulls":3},0]
[null,null,"Natürliche Personen",{"$nulls":3},0]
[null,null,"Zahl der Obst- und/oder Gemüserzeuger (*)",{"$nulls":3},0," übernommen in T6.1 (H14)"]
["Eintrag nur bei Länderübergreifender EO (LEO)",null,"Liste der MS, in denen die EO-Mitglieder ihren Sitz haben",{"$nulls":4}," MS; MS; etc."]
[null,null,"mit ganzem OP (**)",{"$nulls":4}," Auswahlfeld"]
[null,null,"mit partiellem OP (***)",{"$nulls":4}," Auswahlfeld"]
["Eintrag nur bei Mitgliedschaft in einer VEO",null,"Angabe der Identifikationsnummer der betreffenden VEO",{"$nulls":4}," DE XXXX"]
[null,null,"mit ganzem OP (**)",{"$nulls":4}," Auswahlfeld"]
[null,null,"mit partiellem OP (***)",{"$nulls":4}," Auswahlfeld"]
["Eintrag nur bei Mitgliedschaft in einer Länderübergreifenden VEO (LVEO)",null,"Angabe der Identifikationsnummer der betreffenden LVEO",{"$nulls":4}," DE XXXX"]
[null,null,"Liste der MS, in denen die EO/LEO/VEO-Mitglieder ihren Sitz haben",{"$nulls":4}," MS; MS; etc."]
[null,null,"mit ganzem OP (**)",{"$nulls":4}," Auswahlfeld"]
[null,null,"mit partiellem OP (***)",{"$nulls":4}," Auswahlfeld"]
["Ist die Organisation von einer Fusion betroffen?",null,null,"Angabe der neuen Identifikationsnummer",{"$nulls":3}," Auswahlfeld"," DE XXXX"]
[]
["Teil der für den Frischmarkt bestimmten Erzeugung\n(nur frische, anerkannte Erzeugnisse, die von der EO vermarktet werden und von eigenen Mitgliedern erzeugt wurden)",null,"Wert (in €) (****)",null,"WvE",null,{"v":0,"d":"0.00"}]
[null,null,"Menge (in Tonnen)",null,"MvE",null,{"v":0,"d":"0.000"}]
["Teil der für Verarbeitung bestimmten Erzeugung\n(nur zur Verarbeitung bestimmte frische, anerkannte Erzeugnisse, die von der EO vermarktet werden und von eigenen Mitgliedern erzeugt wurden)",null,"Wert (in €) (****)",null,"WvE",null,{"v":0,"d":"0.00"}]
[null,null,"Menge (in Tonnen)",null,"MvE",null,{"v":0,"d":"0.000"}]
["Gesamtfläche der Obst- und Gemüseerzeugung ausgenommen Pilze\n(nur von anerkannten Erzeugnissen, die von der EO vermarktet wurden)",null,"Fläche (in ha)",{"$nulls":3},{"v":0,"d":"0.000"}]
[]
["Erläuterungen der EU-KOM in DE vom 09.10.2019 (s. auch Felder 24-28AB)"]
["(*) Erzeuger","Aktive Landwirte sind natürliche und/oder juristische Personen, die Mitglieder der EO/VEO sind und Erzeugnisse an diese liefern."]
[null,"(s. auch Definition gem. Deleg. VO (EU) 2017/891 Art. 2 a)\n\"... einen Betriebsinhaber gemäß Artikel 4 Absatz 1 Buchstabe a der Verordnung (EU) Nr. 1307/2013 des Europäischen Parlaments und des Rates (1), der Obst und Gemüse gemäß Artikel 1 Absatz 2 Buchstabe i der Verordnung (EU) Nr. 1308/2013 und solches Obst und Gemüse erzeugt, das ausschließlich zur Verarbeitung bestimmt ist.\")"]
["(**) mit ganzem OP ","Alle Maßnahmen werden auf der Ebene der VEO/LVEO/LEO durchgeführt."]
["(***) mit partiellem OP","Maßnahmen werden sowohl auf der Ebene der VEO/LVEO/LEO als auch auf der Ebene der angeschlossenen Mitglieder durchgeführt."]
[null,"KOM 18.09.18: Ein Teil-OP kann es nur geben, wenn eine EO Mitglied in einer VEO ist."]
["(****) Wert (in €)","… beruht auf dem von der EO vermarkteten Wert (im Unterschied zum Wert der vermarkteten Erzeugung, der für die finanzielle Unterstützung durch die EU herangezogen wird.\n(s. Tabelle 3 Zeile 15, WvE im Referenzzeitraum gem. Art. 23 der Deleg. VO (EU) 2017/891)"]

{"sheet":"T3 Ausg","index":4,"n_rows":88,"n_cols":13,"rows_kept":88,"merged":[[0,7,1,7],[0,8,1,9],[0,10,1,11],[2,1,2,2],[4,2,6,4],[6,7,6,11],[7,0,9,0],[7,1,7,4],[8,1,8,4],[9,1,9,4],[10,0,12,0],[10,1,10,4],[10,9,12,11],[11,1,11,4],[12,1,12,4],[13,0,13,3],[14,0,14,3],[14,9,15,11],[17,0,17,1],[17,2,17,4],[18,0,23,1],[18,2,18,4],[19,2,19,4],[20,2,20,4],[21,2,21,4],[22,2,22,4],[23,2,23,4],[24,0,27,1],[24,2,24,4],[25,2,25,4],[26,2,26,4],[27,2,27,4],[28,0,28,1],[28,2,28,4],[29,0,31,1],[29,2,29,4],[30,2,30,4],[31,2,31,4],[32,0,36,1],[32,2,32,4],[33,2,33,4],[34,2,34,4],[35,2,35,4],[36,2,36,4],[37,0,40,1],[37,2,37,4],[38,2,38,4],[39,2,39,4],[41,0,41,1],[41,2,49,4],[42,0,42,1],[43,0,43,1],[44,0,44,1],[45,0,45,1],[46,0,46,1],[47,0,47,1],[48,0,48,1],[49,0,49,1],[50,0,50,1],[50,2,59,4],[51,0,51,1],[52,0,52,1],[53,0,53,1],[54,0,54,1],[55,0,55,1],[56,0,56,1],[57,0,57,1],[57,9,59,10],[57,11,59,11],[57,12,59,12],[58,0,58,1],[58,7,59,8],[59,0,59,1],[60,0,66,1],[60,2,60,4],[60,7,60,8],[60,9,66,10],[60,11,66,11],[60,12,66,12],[61,2,61,4],[61,7,61,8],[62,2,62,4],[62,7,62,8],[63,2,63,4],[63,7,63,8],[64,2,64,4],[64,7,64,8],[65,2,65,4],[65,7,65,8],[66,2,66,4],[66,7,66,8],[67,0,70,1],[67,2,67,4],[68,2,68,4],[69,2,69,4],[70,2,70,4],[76,0,76,6],[77,0,77,6],[78,0,78,6],[80,0,80,6],[81,0,81,6],[82,0,82,6],[83,0,83,6],[84,0,84,6],[86,0,86,6],[87,0,87,6]]}
[{"$nulls":6},"Tabelle 3"]
[]
["Name der EO / LEO ",{"$f":"Name_der_EO_LEO","v":"Name_der_EO_LEO"},null,"Berichtsjahr ",{"$f":"Berichtsjahr","v":"2020"},null,"Formel","keine Angaben"]
[]
["EO- / LEO-Code ",{"$f":"EO_Code","v":"DE XXXX"},"Zum großen Teil werden diese Angaben\nin T5.1 bis T5.9 erfasst!",{"$nulls":3},"Ausfüllen"]
[]
["Tabelle 3.1: Betriebsfonds und WVE (in EUR)",{"$nulls":5},"(KOM-Tab. 3.1)","Kontrollrechnungen und Hinweise"]
["Betriebsfonds (Jahr n)","Insgesamt genehmigt",{"$nulls":4},{"$f":"SUM(G9:G10)","v":{"v":0,"d":"0.00"}}]
[null,"(davon) — Höhe des finanziellen Beitrags der EO und/oder EO-Mitglieder",{"$nulls":4},{"v":0,"d":"0.00"}]
[null,"(davon) — Höhe der finanziellen Unterstützung durch die EU",{"$nulls":4},{"v":0,"d":"0.00"},".","Differenz"]
["Endgültiger Betriebsfonds\n(Jahr n+1)","Ausgaben insgesamt",{"$nulls":4},{"$f":"SUM(G12:G13)","v":{"v":0,"d":"0.00"}},{"$f":"SUM(G19:G71)","v":{"v":0,"d":"0.00"}},{"$f":"G11-H11","v":{"v":0,"d":"0.00"}},"Antrag auf\nendgültigen Betriebsfonds!"]
[null,"(davon) — Höhe des finanziellen Beitrags EO-Mitglieder",{"$nulls":4},{"v":0,"d":"0.00"},{"$f":"$G$11/2","v":{"v":0,"d":"0.00"}},"(50% der Ausgaben)"]
[null,"(davon) — Höhe der finanziellen Unterstützung durch die EU",{"$nulls":4},{"v":0,"d":"0.00"},{"$f":"H11/2","v":{"v":0,"d":"0.00"}},"(50% der Ausgaben)"]
["Wert der vermarkteten Erzeugung (berechnet gem. Art. 22 der Deleg. VO (EU) 2017/891) im Berichtsjahr:",{"$nulls":3},{"$f":"Berichtszeitraum","v":"01.01.2020 - 31.12.2020"},null,{"$f":"SUM('T2 EO'!G24,'T2 EO'!G26)","v":{"v":0,"d":"0.00"}},"      = Summe aus T2 (G24+G26)  = Wert Frischmarkt + Verarbeitung = T6.1 (H13)"]
["Wert der vermarkteten Erzeugung (berechnet gem. Art. 23 der Deleg. VO (EU) 2017/891) im Referenzzeitraum:",{"$nulls":3},"TT.MM.JJJJ - TT.MM.JJJJ",null,{"v":0,"d":"0.00"},{"$f":"G15*I15","v":{"v":0,"d":"0.00"}},{"v":0.041,"d":"4.10%"},"zur Berechnung Obergrenze der Beihilfe\ngem. VO (EU) Nr. 1308/2013 Art. 34 Abs. 2"]
[{"$nulls":7},{"$f":"G15*I16","v":{"v":0,"d":"0.00"}},{"v":0.046,"d":"4.60%"}]
["Tabelle 3.2: Tatsächliche Ausgaben des operationellen Programmes der EO/LEO insgesamt (in EUR)",{"$nulls":5},"(KOM-Tab. 3.2)"]
["Aktionen / Maßnahmen\nArt. 2 (f) + (g) der Deleg. VO (EU) 2017/891",null,"Ziele\nArt. 33 (1) + (3) und 152 (1) (c) der VO (EU) Nr. 1308/2013",{"$nulls":3},"Tatsächliche Ausgaben insgesamt\n(Summen und Beträge\naus T5.1-T5.9 Spalte H)"]
["Investitionen",null,"Planung der Produktion",{"$nulls":3},{"$f":"'T5.1 Invest'!K12","v":{"v":0,"d":"0.00"}}]
[null,null,"Verbesserung der Qualität der Erzeugnisse",{"$nulls":3},{"$f":"'T5.1 Invest'!K20","v":{"v":0,"d":"0.00"}}]
[null,null,"Steigerung des Vermarktungswerts der Erzeugnisse",{"$nulls":3},{"$f":"'T5.1 Invest'!K28","v":{"v":0,"d":"0.00"}}]
[null,null,"Umweltmaßnahmen",{"$nulls":3},{"$f":"'T5.1 Invest'!K36","v":{"v":0,"d":"0.00"}}]
[null,null,"Krisenprävention und Krisenmanagement",{"$nulls":3},{"$f":"'T5.1 Invest'!K44","v":{"v":0,"d":"0.00"}}]
[null,null,"Forschung",{"$nulls":3},{"$f":"'T5.1 Invest'!K52","v":{"v":0,"d":"0.00"}}]
["Forschung und Versuchslandbau",null,"Planung der Produktion",{"$nulls":3},{"$f":"'T5.2 Forsch'!K12","v":{"v":0,"d":"0.00"}}]
[null,null,"Verbesserung der Qualität der Erzeugnisse",{"$nulls":3},{"$f":"'T5.2 Forsch'!K20","v":{"v":0,"d":"0.00"}}]
[null,null,"Steigerung des Vermarktungswerts der Erzeugnisse",{"$nulls":3},{"$f":"'T5.2 Forsch'!K28","v":{"v":0,"d":"0.00"}}]
[null,null,"Umweltmaßnahmen",{"$nulls":3},{"$f":"'T5.2 Forsch'!K36","v":{"v":0,"d":"0.00"}}]
["Qualitätsregelungen (EU und Mitgliedstaaten) und Maßnahmen zur Qualitätsverbesserung",null,"Verbesserung der Qualität der Erzeugnisse",{"$nulls":3},{"$f":"'T5.3 Quali'!K12","v":{"v":0,"d":"0.00"}}]
["Absatzförderung und Kommunikation",null,"Steigerung des Vermarktungswerts der Erzeugnisse",{"$nulls":3},{"$f":"'T5.4 Abs+Kom'!K12","v":{"v":0,"d":"0.00"}}]
[null,null,"Förderung des Absatzes der Erzeugnisse",{"$nulls":3},{"$f":"'T5.4 Abs+Kom'!K20","v":{"v":0,"d":"0.00"}}]
[null,null,"Krisenprävention und Krisenmanagement",{"$nulls":3},{"$f":"'T5.4 Abs+Kom'!K28","v":{"v":0,"d":"0.00"}}]
["Aus- und Weiterbildung und Austausch über bewährte Verfahren",null,"Planung der Produktion",{"$nulls":3},{"$f":"'T5.5 Bild'!K12","v":{"v":0,"d":"0.00"}}]
[null,null,"Verbesserung der Qualität der Erzeugnisse",{"$nulls":3},{"$f":"'T5.5 Bild'!K20","v":{"v":0,"d":"0.00"}}]
[null,null,"Steigerung des Vermarktungswerts der Erzeugnisse",{"$nulls":3},{"$f":"'T5.5 Bild'!K28","v":{"v":0,"d":"0.00"}}]
[null,null,"Umweltmaßnahmen",{"$nulls":3},{"$f":"'T5.5 Bild'!K36","v":{"v":0,"d":"0.00"}}]
[null,null,"Krisenprävention und Krisenmanagement",{"$nulls":3},{"$f":"'T5.5 Bild'!K44","v":{"v":0,"d":"0.00"}}]
["Beratungsdienste und technische Hilfe",null,"Planung der Produktion",{"$nulls":3},{"$f":"'T5.6 Berat'!K12","v":{"v":0,"d":"0.00"}}]
[null,null,"Verbesserung der Qualität der Erzeugnisse",{"$nulls":3},{"$f":"'T5.6 Berat'!K20","v":{"v":0,"d":"0.00"}}]
[null,null,"Steigerung des Vermarktungswerts der Erzeugnisse",{"$nulls":3},{"$f":"'T5.6 Berat'!K28","v":{"v":0,"d":"0.00"}}]
[null,null,"Umweltmaßnahmen",{"$nulls":3},{"$f":"'T5.6 Berat'!K36","v":{"v":0,"d":"0.00"}}]
["Ökologischer / biologischer Landbau",null,"Umweltmaßnahmen",{"$nulls":3},{"$f":"'T5.7 Umwelt'!K13","v":{"v":0,"d":"0.00"}}]
["Integrierter Landbau",{"$nulls":5},{"$f":"'T5.7 Umwelt'!K14","v":{"v":0,"d":"0.00"}}]
["Bessere Nutzung oder Bewirtschaftung von Wasser, einschließlich Wassereinsparung und -ableitung",{"$nulls":5},{"$f":"'T5.7 Umwelt'!K15","v":{"v":0,"d":"0.00"}}]
["Maßnahmen zur Bodenerhaltung",{"$nulls":5},{"$f":"'T5.7 Umwelt'!K20","v":{"v":0,"d":"0.00"}}]
["Maßnahmen zur Schaffung und Erhaltung von Lebensräumen, die die biologische Vielfalt begünstigen, und zur Landschaftspflege, einschließlich Erhaltung historischer Merkmale",{"$nulls":5},{"$f":"'T5.7 Umwelt'!K25","v":{"v":0,"d":"0.00"}}]
["Maßnahmen zur Energieeinsparung (ohne Verkehr)",{"$nulls":5},{"$f":"'T5.7 Umwelt'!K30","v":{"v":0,"d":"0.00"}}]
["Maßnahmen zur Verringerung der Abfallproduktion und Verbesserung der Abfallbewirtschaftung",{"$nulls":5},{"$f":"'T5.7 Umwelt'!K35","v":{"v":0,"d":"0.00"}}]
["Verkehr",{"$nulls":5},{"$f":"'T5.7 Umwelt'!K40","v":{"v":0,"d":"0.00"}}]
["Vermarktung",{"$nulls":5},{"$f":"'T5.7 Umwelt'!K45","v":{"v":0,"d":"0.00"}}]
["Einrichtung von Fonds auf Gegenseitigkeit",null,"Krisenprävention und Krisenmanagement"]
["Neubefüllung von Fonds auf Gegenseitigkeit"]
["Wiederbepflanzung von Obstplantagen",{"$nulls":5},{"$f":"'T5.8 Krise'!K14","v":{"v":0,"d":"0.00"}}]
["Marktrücknahmen"]
["— Freier Vertrieb"]
["— Sonstige"]
["Ernte vor der Reifung"]
["Nichternten",{"$nulls":8},"Summe VwKosten\n(Sum G61:G67)",null,"Ausgaben ohne VvK / 98 * 2","Summe aller Ausgaben \n*2%-Pauschale"]
["Ernteversicherung",{"$nulls":5},{"$f":"'T5.8 Krise'!K22","v":{"v":0,"d":"0.00"}},"Formel für Verwaltungskosten ggf. überschreiben"]
["Coaching"]
["Verwaltungskosten",null,"Planung der Produktion",{"$nulls":3},{"$f":"SUM(G19,G25,G33,G38,G68)/98*2","v":{"v":0,"d":"0.00"}},"(Summe Ziel-Beträge / 98 * 2)",null,{"$f":"IF((SUM(G61:G67))<=180000,(SUM(G61:G67)),\"Achtung >180.000,00€\")","v":{"v":0,"d":"0.00"}},{"$f":"IF((SUM(K19,K25,K33,K38,K68)/98*2)<=180000,(SUM(K19,K25,K33,K38,K68)/98*2),\"Achtung<180.000\")","v":{"v":0,"d":"0.00"}},{"$f":"IF((SUM(G19:G50,G53,G59,G68:G71)/98*2<=180000),(SUM(G19:G50,G53,G59,G68:G71)/98*2),\"Achtung >180.000,00 €\")","v":{"v":0,"d":"0.00"}},{"$f":"IF(G73*2%>180000,\"Achtung >180.000,00 €\",G73*2%)","v":{"v":0,"d":"0.00"}}]
[null,null,"Verbesserung der Qualität der Erzeugnisse",{"$nulls":3},{"$f":"SUM(G20,G26,G29,G34,G39,G69)/98*2","v":{"v":0,"d":"0.00"}},"(Summe Ziel-Beträge / 98 * 2)",null,{"$f":"IF((SUM(J20,J26,J34,J39,J69)/98*2)<=180000,(SUM(J20,J26,J34,J39,J69)/98*2),\"Achtung<180.000\")","v":{"v":0,"d":"0.00"}},{"$f":"IF((SUM(K20,K26,K34,K39,K69)/98*2)<=180000,(SUM(K20,K26,K34,K39,K69)/98*2),\"Achtung<180.000\")","v":{"v":0,"d":"0.00"}}]
[null,null,"Steigerung des Vermarktungswerts der Erzeugnisse",{"$nulls":3},{"$f":"SUM(G21,G27,G30,G35,G40,G70)/98*2","v":{"v":0,"d":"0.00"}},"(Summe Ziel-Beträge / 98 * 2)",null,{"$f":"IF((SUM(J21,J27,J35,J40,J70)/98*2)<=180000,(SUM(J21,J27,J35,J40,J70)/98*2),\"Achtung<180.000\")","v":{"v":0,"d":"0.00"}},{"$f":"IF((SUM(K21,K27,K35,K40,K70)/98*2)<=180000,(SUM(K21,K27,K35,K40,K70)/98*2),\"Achtung<180.000\")","v":{"v":0,"d":"0.00"}}]
[null,null,"Förderung des Absatzes der Erzeugnisse",{"$nulls":3},{"$f":"SUM(G31)/98*2","v":{"v":0,"d":"0.00"}},"(Summe Ziel-Beträge / 98 * 2)",null,{"$f":"IF((SUM(J22,J28,J36,J41,J71)/98*2)<=180000,(SUM(J22,J28,J36,J41,J71)/98*2),\"Achtung<180.000\")","v":{"v":0,"d":"0.00"}},{"v":0,"d":"0.00"}]
[null,null,"Umweltmaßnahmen",{"$nulls":3},{"$f":"SUM(G22,G28,G36,G41:G50,G71)/98*2","v":{"v":0,"d":"0.00"}},"(Summe Ziel-Beträge / 98 * 2)",null,{"$f":"IF((SUM(J23,J29,J37,J42,J72)/98*2)<=180000,(SUM(J23,J29,J37,J42,J72)/98*2),\"Achtung<180.000\")","v":{"v":0,"d":"0.00"}},{"v":0,"d":"0.00"}]
[null,null,"Krisenprävention und Krisenmanagement",{"$nulls":3},{"$f":"SUM(G23,G32,G37,G53,G59,)/98*2","v":{"v":0,"d":"0.00"}},"(Summe Ziel-Beträge / 98 * 2)",null,{"v":0,"d":"0.00"},{"v":0,"d":"0.00"}]
[null,null,"Forschung",{"$nulls":3},{"$f":"SUM(G24)/98*2","v":{"v":0,"d":"0.00"}},"(Summe Ziel-Beträge / 98 * 2)",null,{"v":0,"d":"0.00"},{"v":0,"d":"0.00"}]
["Sonstige",null,"Planung der Produktion",{"$nulls":3},{"$f":"'T5.9 Sonst'!K12","v":{"v":0,"d":"0.00"}}]
[null,null,"Verbesserung der Qualität der Erzeugnisse",{"$nulls":3},{"$f":"'T5.9 Sonst'!K20","v":{"v":0,"d":"0.00"}}]
[null,null,"Steigerung des Vermarktungswerts der Erzeugnisse",{"$nulls":3},{"$f":"'T5.9 Sonst'!K28","v":{"v":0,"d":"0.00"}}]
[null,null,"Umweltmaßnahmen",{"$nulls":3},{"$f":"'T5.9 Sonst'!K36","v":{"v":0,"d":"0.00"}}]
[{"$nulls":7}," = Summe Ausgaben T5.1-T5.9 abzüglich Verwaltungskosten"]
[{"$nulls":4},"Summe:",null,{"$f":"SUM(G19:G71)","v":{"v":0,"d":"0.00"}},{"$f":"SUM('T5.1 Invest'!K61,'T5.2 Forsch'!K45,'T5.3 Quali'!K21,'T5.4 Abs+Kom'!K37,'T5.5 Bild'!K53,'T5.6 Berat'!K45,'T5.7 Umwelt'!K51,'T5.8 Krise'!K29,'T5.9 Sonst'!K45,)","v":{"v":0,"d":"0.00"}},{"$f":"G73-H73","v":{"v":0,"d":"0.00"}}]
[]
["Erläuterungen der EU-KOM in deutscher Fassung vom 09.10.2019"]
["Investitionen - Ausgaben"]
["Die Ausgaben für den Erwerb/die Anmietung/das Leasing eines Anlagegutes können vom entsprechenden Wert der getätigten Investition abweichen."]
["Dies ist beispielsweise der Fall, wenn die EO/VEO für den Erwerb des Anlagegutes ein Darlehen bei einem Kreditinstitut aufgenommen hat. In diesem Fall entsprächen die Ausgaben der jährlichen Rate für das Darlehen, das für den Erwerb des Anlagegutes aufgenommen wurde (oder der Summe mehrerer jährlicher Raten, wenn im Berichtsjahr mehrere Anlagegüter erworben wurden)."]
["Gleiches gilt beispielsweise, wenn ein Anlagegut (z. B. Ausstattung) im Jahr N erworben, aber erst im darauf folgenden Jahr auf- oder eingebaut wird und erst dann voll nutzbar ist (d. h. die Investition ist getätigt = die betreffende EO oder ihre Mitglieder können sie so nutzen, wie es im genehmigten operationellen Programm vorgesehen ist). In diesem Fall sind die Ausgaben für den Erwerb/die Anmietung/das Leasing des Anlageguts im Jahr N zu erfassen."]
["Übrige Felder - Ausgaben"]
["Die übrigen Ausgaben werden durch Addition aller nichtinvestiven Ausgaben je Art von Einrichtung in jedem Mitgliedstaat (Gesamtbetrag EO, Gesamtbetrag LEO, Gesamtbetrag VEO und/oder Gesamtbetrag LVEO) für die einzelnen Maßnahmen und Ziele, wie sie in den einzelnen operationellen Programmen genehmigt wurden, angegeben."]
["Verwaltungskosten  - Ausgaben"]
["In diesen Feldern sind die Ausgaben für Maßnahmen im Zusammenhang mit den Verwaltungskosten für die Durchführung des Betriebsfonds anzugeben (Anhang III Nummer 2 Buchstabe b der Delegierten Verordnung (EU) 2017/891 der Kommission)."]
["Andere Aktionen - Ausgaben"]
["Sonstige Maßnahmen sind Maßnahmen, die nicht unter die vorhergehenden Zeilen fallen und nicht mit dem Erwerb von Anlagegütern zusammenhängen."]
[]
["Anmerkung gem. DVO (EU) 2017/892, Anhang II  geändert mit DVO (EU) 2018/1146 - ergänzt um Nummerierung"]
["Die Verordnung (EU) Nr. 1308/2013 sieht folgende Ziele vor:  \n1. — Planung der Produktion Artikel 33 Absatz 1 Buchstabe a und Artikel 152 Absatz 1 Buchstabe c Ziffern i, ii und xi  \n2. — Verbesserung der Qualität der Erzeugnisse Artikel 33 Absatz 1 Buchstabe b und Artikel 152 Absatz 1 Buchstabe c Ziffern i, iv und vi  \n3. — Steigerung des Vermarktungswerts der Erzeugnisse Artikel 33 Absatz 1 Buchstabe c und Artikel 152 Absatz 1 Buchstabe c Ziffern i, ii, iii, iv, ix und xi  \n4. — Förderung des Absatzes der Erzeugnisse Artikel 33 Absatz 1 Buchstabe d und Artikel 152 Absatz 1 Buchstabe c Ziffern vi und ix  \n5. — Umweltmaßnahmen Artikel 33 Absatz 1 Buchstabe e und Artikel 152 Absatz 1 Buchstabe c Ziffern iii, iv, v, vii und viii  \n6. — Krisenprävention und Krisenmanagement Artikel 33 Absatz 1 Buchstabe f, Artikel 33 Absatz 3 Buchstabe a und Artikel 152 Absatz 1 Buchstabe c Ziffern iv und xi  \n7. — Forschung Artikel 152 Absatz 1 Buchstabe c Ziffer iv  "]

{"sheet":"T4 Indi","index":5,"n_rows":118,"n_cols":9,"rows_kept":118,"merged":[[0,9,1,11],[2,2,2,3],[4,3,6,5],[6,0,6,2],[7,0,7,2],[7,4,7,5],[9,0,21,2],[9,3,10,3],[9,4,9,5],[10,4,10,5],[11,3,12,3],[11,4,11,5],[12,4,12,5],[13,3,15,3],[13,4,13,5],[14,4,14,5],[15,4,15,5],[16,3,17,3],[16,4,16,5],[17,4,17,5],[18,3,19,3],[18,4,18,5],[19,4,19,5],[20,3,21,3],[20,4,20,5],[21,4,21,5],[22,0,29,2],[22,3,23,3],[22,4,22,5],[23,4,23,5],[24,3,25,3],[24,4,24,5],[25,4,25,5],[26,3,27,3],[26,4,26,5],[27,4,27,5],[28,3,29,3],[28,4,28,5],[29,4,29,5],[30,0,32,2],[30,3,32,3],[30,4,30,5],[31,4,31,5],[32,4,32,5],[33,0,38,2],[33,3,34,3],[33,4,33,5],[34,4,34,5],[35,3,36,3],[35,4,35,5],[36,4,36,5],[37,3,38,3],[37,4,37,5],[38,4,38,5],[39,0,48,2],[39,3,40,3],[39,4,39,5],[40,4,40,5],[41,3,42,3],[41,4,41,5],[42,4,42,5],[43,3,44,3],[43,4,43,5],[44,4,44,5],[45,3,46,3],[45,4,45,5],[46,4,46,5],[47,3,48,3],[47,4,47,5],[48,4,48,5],[49,0,56,2],[49,3,50,3],[49,4,49,5],[50,4,50,5],[51,3,52,3],[51,4,51,5],[52,4,52,5],[53,3,54,3],[53,4,53,5],[54,4,54,5],[55,3,56,3],[55,4,55,5],[56,4,56,5],[57,0,58,2],[57,3,66,3],[57,4,57,5],[58,4,58,5],[59,0,60,2],[59,4,59,5],[60,4,60,5],[61,0,63,2],[61,4,61,5],[62,4,62,5],[63,4,63,5],[64,0,66,2],[64,4,64,5],[65,4,65,5],[66,4,66,5],[67,0,68,2],[67,3,86,3],[67,4,67,5],[68,4,68,5],[69,0,75,2],[69,4,69,5],[70,4,70,5],[71,4,71,5],[76,4,76,5],[77,4,77,5],[79,4,79,5],[81,0,84,2],[81,4,81,5],[85,0,86,2],[85,4,85,5],[86,4,86,5],[87,0,87,2],[87,3,96,3],[87,4,87,5],[88,0,88,2],[88,4,88,5],[88,9,93,15],[89,0,89,2],[89,4,89,5],[90,0,90,2],[90,4,90,5],[91,0,92,2],[91,4,91,5],[92,4,92,5],[93,0,94,2],[93,4,93,5],[94,4,94,5],[95,0,95,2],[95,4,95,5],[96,0,96,2],[96,4,96,5],[97,0,100,2],[97,4,97,5],[98,4,98,5],[99,4,99,5],[100,4,100,5],[102,0,102,6],[102,14,102,20],[102,21,102,27],[102,28,102,34],[102,35,102,41],[102,42,102,48],[102,49,102,55],[102,56,102,62],[102,63,102,69],[102,70,102,76],[102,77,102,83],[102,84,102,90],[102,91,102,97],[102,98,102,104],[102,105,102,111],[102,112,102,118],[102,119,102,125],[102,126,102,132],[102,133,102,139],[102,140,102,146],[102,147,102,153],[102,154,102,160],[102,161,102,167],[102,168,102,174],[102,175,102,181],[102,182,102,188],[102,189,102,195],[102,196,102,202],[102,203,102,209],[102,210,102,216],[102,217,102,223],[102,224,102,230],[102,231,102,237],[102,238,102,244],[102,245,102,251],[102,252,102,258],[102,259,102,265],[102,266,102,272],[102,273,102,279],[102,280,102,286],[102,287,102,293],[102,294,102,300],[102,301,102,307],[102,308,102,314],[102,315,102,321],[102,322,102,328],[102,329,102,335],[102,336,102,342],[102,343,102,349],[102,350,102,356],[102,357,102,363],[102,364,102,370],[102,371,102,377],[102,378,102,384],[102,385,102,391],[102,392,102,398],[102,399,102,405],[102,406,102,412],[102,413,102,419],[102,420,102,426],[102,427,102,433],[102,434,102,440],[102,441,102,447],[102,448,102,454],[102,455,102,461],[102,462,102,468],[102,469,102,475],[102,476,102,482],[102,483,102,489],[102,490,102,496],[102,497,102,503],[102,504,102,510],[102,511,102,517],[102,518,102,524],[102,525,102,531],[102,532,102,538],[102,539,102,545],[102,546,102,552],[102,553,102,559],[102,560,102,566],[102,567,102,573],[102,574,102,580],[102,581,102,587],[102,588,102,594],[102,595,102,601],[102,602,102,608],[102,609,102,615],[102,616,102,622],[102,623,102,629],[102,630,102,636],[102,637,102,643],[102,644,102,650],[102,651,102,657],[102,658,102,664],[102,665,102,671],[102,672,102,678],[102,679,102,685],[102,686,102,692],[102,693,102,699],[102,700,102,706],[102,707,102,713],[102,714,102,720],[102,721,102,727],[102,728,102,734],[102,735,102,741],[102,742,102,748],[102,749,102,755],[102,756,102,762],[102,763,102,769],[102,770,102,776],[102,777,102,783],[102,784,102,790],[102,791,102,797],[102,798,102,804],[102,805,102,811],[102,812,102,818],[102,819,102,825],[102,826,102,832],[102,833,102,839],[102,840,102,846],[102,847,102,853],[102,854,102,860],[102,861,102,867],[102,868,102,874],[102,875,102,881],[102,882,102,888],[102,889,102,895],[102,896,102,902],[102,903,102,909],[102,910,102,916],[102,917,102,923],[102,924,102,930],[102,931,102,937],[102,938,102,944],[102,945,102,951],[102,952,102,958],[102,959,102,965],[102,966,102,972],[102,973,102,979],[102,980,102,986],[102,987,102,993],[102,994,102,1000],[102,1001,102,1007],[102,1008,102,1014],[102,1015,102,1021],[102,1022,102,1028],[102,1029,102,1035],[102,1036,102,1042],[102,1043,102,1049],[102,1050,102,1056],[102,1057,102,1063],[102,1064,102,1070],[102,1071,102,1077],[102,1078,102,1084],[102,1085,102,1091],[102,1092,102,1098],[102,1099,102,1105],[102,1106,102,1112],[102,1113,102,1119],[102,1120,102,1126],[102,1127,102,1133],[102,1134,102,1140],[102,1141,102,1147],[102,1148,102,1154],[102,1155,102,1161],[102,1162,102,1168],[102,1169,102,1175],[102,1176,102,1182],[102,1183,102,1189],[102,1190,102,1196],[102,1197,102,1203],[102,1204,102,1210],[102,1211,102,1217],[102,1218,102,1224],[102,1225,102,1231],[102,1232,102,1238],[102,1239,102,1245],[102,1246,102,1252],[102,1253,102,1259],[102,1260,102,1266],[102,1267,102,1273],[102,1274,102,1280],[102,1281,102,1287],[102,1288,102,1294],[102,1295,102,1301],[102,1302,102,1308],[102,1309,102,1315],[102,1316,102,1322],[102,1323,102,1329],[102,1330,102,1336],[102,1337,102,1343],[102,1344,102,1350],[102,1351,102,1357],[102,1358,102,1364],[102,1365,102,1371],[102,1372,102,1378],[102,1379,102,1385],[102,1386,102,1392],[102,1393,102,1399],[102,1400,102,1406],[102,1407,102,1413],[102,1414,102,1420],[102,1421,102,1427],[102,1428,102,1434],[102,1435,102,1441],[102,1442,102,1448],[102,1449,102,1455],[102,1456,102,1462],[102,1463,102,1469],[102,1470,102,1476],[102,1477,102,1483],[102,1484,102,1490],[102,1491,102,1497],[102,1498,102,1504],[102,1505,102,1511],[102,1512,102,1518],[102,1519,102,1525],[102,1526,102,1532],[102,1533,102,1539],[102,1540,102,1546],[102,1547,102,1553],[102,1554,102,1560],[102,1561,102,1567],[102,1568,102,1574],[102,1575,102,1581],[102,1582,102,1588],[102,1589,102,1595],[102,1596,102,1602],[102,1603,102,1609],[102,1610,102,1616],[102,1617,102,1623],[102,1624,102,1630],[102,1631,102,1637],[102,1638,102,1644],[102,1645,102,1651],[102,1652,102,1658],[102,1659,102,1665],[102,1666,102,1672],[102,1673,102,1679],[102,1680,102,1686],[102,1687,102,1693],[102,1694,102,1700],[102,1701,102,1707],[102,1708,102,1714],[102,1715,102,1721],[102,1722,102,1728],[102,1729,102,1735],[102,1736,102,1742],[102,1743,102,1749],[102,1750,102,1756],[102,1757,102,1763],[102,1764,102,1770],[102,1771,102,1777],[102,1778,102,1784],[102,1785,102,1791],[102,1792,102,1798],[102,1799,102,1805],[102,1806,102,1812],[102,1813,102,1819],[102,1820,102,1826],[102,1827,102,1833],[102,1834,102,1840],[102,1841,102,1847],[102,1848,102,1854],[102,1855,102,1861],[102,1862,102,1868],[102,1869,102,1875],[102,1876,102,1882],[102,1883,102,1889],[102,1890,102,1896],[102,1897,102,1903],[102,1904,102,1910],[102,1911,102,1917],[102,1918,102,1924],[102,1925,102,1931],[102,1932,102,1938],[102,1939,102,1945],[102,1946,102,1952],[102,1953,102,1959],[102,1960,102,1966],[102,1967,102,1973],[102,1974,102,1980],[102,1981,102,1987],[102,1988,102,1994],[102,1995,102,2001],[102,2002,102,2008],[102,2009,102,2015],[102,2016,102,2022],[102,2023,102,2029],[102,2030,102,2036],[102,2037,102,2043],[102,2044,102,2050],[102,2051,102,2057],[102,2058,102,2064],[102,2065,102,2071],[102,2072,102,2078],[102,2079,102,2085],[102,2086,102,2092],[102,2093,102,2099],[102,2100,102,2106],[102,2107,102,2113],[102,2114,102,2120],[102,2121,102,2127],[102,2128,102,2134],[102,2135,102,2141],[102,2142,102,2148],[102,2149,102,2155],[102,2156,102,2162],[102,2163,102,2169],[102,2170,102,2176],[102,2177,102,2183],[102,2184,102,2190],[102,2191,102,2197],[102,2198,102,2204],[102,2205,102,2211],[102,2212,102,2218],[102,2219,102,2225],[102,2226,102,2232],[102,2233,102,2239],[102,2240,102,2246],[102,2247,102,2253],[102,2254,102,2260],[102,2261,102,2267],[102,2268,102,2274],[102,2275,102,2281],[102,2282,102,2288],[102,2289,102,2295],[102,2296,102,2302],[102,2303,102,2309],[102,2310,102,2316],[102,2317,102,2323],[102,2324,102,2330],[102,2331,102,2337],[102,2338,102,2344],[102,2345,102,2351],[102,2352,102,2358],[102,2359,102,2365],[102,2366,102,2372],[102,2373,102,2379],[102,2380,102,2386],[102,2387,102,2393],[102,2394,102,2400],[102,2401,102,2407],[102,2408,102,2414],[102,2415,102,2421],[102,2422,102,2428],[102,2429,102,2435],[102,2436,102,2442],[102,2443,102,2449],[102,2450,102,2456],[102,2457,102,2463],[102,2464,102,2470],[102,2471,102,2477],[102,2478,102,2484],[102,2485,102,2491],[102,2492,102,2498],[102,2499,102,2505],[102,2506,102,2512],[102,2513,102,2519],[102,2520,102,2526],[102,2527,102,2533],[102,2534,102,2540],[102,2541,102,2547],[102,2548,102,2554],[102,2555,102,2561],[102,2562,102,2568],[102,2569,102,2575],[102,2576,102,2582],[102,2583,102,2589],[102,2590,102,2596],[102,2597,102,2603],[102,2604,102,2610],[102,2611,102,2617],[102,2618,102,2624],[102,2625,102,2631],[102,2632,102,2638],[102,2639,102,2645],[102,2646,102,2652],[102,2653,102,2659],[102,2660,102,2666],[102,2667,102,2673],[102,2674,102,2680],[102,2681,102,2687],[102,2688,102,2694],[102,2695,102,2701],[102,2702,102,2708],[102,2709,102,2715],[102,2716,102,2722],[102,2723,102,2729],[102,2730,102,2736],[102,2737,102,2743],[102,2744,102,2750],[102,2751,102,2757],[102,2758,102,2764],[102,2765,102,2771],[102,2772,102,2778],[102,2779,102,2785],[102,2786,102,2792],[102,2793,102,2799],[102,2800,102,2806],[102,2807,102,2813],[102,2814,102,2820],[102,2821,102,2827],[102,2828,102,2834],[102,2835,102,2841],[102,2842,102,2848],[102,2849,102,2855],[102,2856,102,2862],[102,2863,102,2869],[102,2870,102,2876],[102,2877,102,2883],[102,2884,102,2890],[102,2891,102,2897],[102,2898,102,2904],[102,2905,102,2911],[102,2912,102,2918],[102,2919,102,2925],[102,2926,102,2932],[102,2933,102,2939],[102,2940,102,2946],[102,2947,102,2953],[102,2954,102,2960],[102,2961,102,2967],[102,2968,102,2974],[102,2975,102,2981],[102,2982,102,2988],[102,2989,102,2995],[102,2996,102,3002],[102,3003,102,3009],[102,3010,102,3016],[102,3017,102,3023],[102,3024,102,3030],[102,3031,102,3037],[102,3038,102,3044],[102,3045,102,3051],[102,3052,102,3058],[102,3059,102,3065],[102,3066,102,3072],[102,3073,102,3079],[102,3080,102,3086],[102,3087,102,3093],[102,3094,102,3100],[102,3101,102,3107],[102,3108,102,3114],[102,3115,102,3121],[102,3122,102,3128],[102,3129,102,3135],[102,3136,102,3142],[102,3143,102,3149],[102,3150,102,3156],[102,3157,102,3163],[102,3164,102,3170],[102,3171,102,3177],[102,3178,102,3184],[102,3185,102,3191],[102,3192,102,3198],[102,3199,102,3205],[102,3206,102,3212],[102,3213,102,3219],[102,3220,102,3226],[102,3227,102,3233],[102,3234,102,3240],[102,3241,102,3247],[102,3248,102,3254],[102,3255,102,3261],[102,3262,102,3268],[102,3269,102,3275],[102,3276,102,3282],[102,3283,102,3289],[102,3290,102,3296],[102,3297,102,3303],[102,3304,102,3310],[102,3311,102,3317],[102,3318,102,3324],[102,3325,102,3331],[102,3332,102,3338],[102,3339,102,3345],[102,3346,102,3352],[102,3353,102,3359],[102,3360,102,3366],[102,3367,102,3373],[102,3374,102,3380],[102,3381,102,3387],[102,3388,102,3394],[102,3395,102,3401],[102,3402,102,3408],[102,3409,102,3415],[102,3416,102,3422],[102,3423,102,3429],[102,3430,102,3436],[102,3437,102,3443],[102,3444,102,3450],[102,3451,102,3457],[102,3458,102,3464],[102,3465,102,3471],[102,3472,102,3478],[102,3479,102,3485],[102,3486,102,3492],[102,3493,102,3499],[102,3500,102,3506],[102,3507,102,3513],[102,3514,102,3520],[102,3521,102,3527],[102,3528,102,3534],[102,3535,102,3541],[102,3542,102,3548],[102,3549,102,3555],[102,3556,102,3562],[102,3563,102,3569],[102,3570,102,3576],[102,3577,102,3583],[102,3584,102,3590],[102,3591,102,3597],[102,3598,102,3604],[102,3605,102,3611],[102,3612,102,3618],[102,3619,102,3625],[102,3626,102,3632],[102,3633,102,3639],[102,3640,102,3646],[102,3647,102,3653],[102,3654,102,3660],[102,3661,102,3667],[102,3668,102,3674],[102,3675,102,3681],[102,3682,102,3688],[102,3689,102,3695],[102,3696,102,3702],[102,3703,102,3709],[102,3710,102,3716],[102,3717,102,3723],[102,3724,102,3730],[102,3731,102,3737],[102,3738,102,3744],[102,3745,102,3751],[102,3752,102,3758],[102,3759,102,3765],[102,3766,102,3772],[102,3773,102,3779],[102,3780,102,3786],[102,3787,102,3793],[102,3794,102,3800],[102,3801,102,3807],[102,3808,102,3814],[102,3815,102,3821],[102,3822,102,3828],[102,3829,102,3835],[102,3836,102,3842],[102,3843,102,3849],[102,3850,102,3856],[102,3857,102,3863],[102,3864,102,3870],[102,3871,102,3877],[102,3878,102,3884],[102,3885,102,3891],[102,3892,102,3898],[102,3899,102,3905],[102,3906,102,3912],[102,3913,102,3919],[102,3920,102,3926],[102,3927,102,3933],[102,3934,102,3940],[102,3941,102,3947],[102,3948,102,3954],[102,3955,102,3961],[102,3962,102,3968],[102,3969,102,3975],[102,3976,102,3982],[102,3983,102,3989],[102,3990,102,3996],[102,3997,102,4003],[102,4004,102,4010],[102,4011,102,4017],[102,4018,102,4024],[102,4025,102,4031],[102,4032,102,4038],[102,4039,102,4045],[102,4046,102,4052],[102,4053,102,4059],[102,4060,102,4066],[102,4067,102,4073],[102,4074,102,4080],[102,4081,102,4087],[102,4088,102,4094],[102,4095,102,4101],[102,4102,102,4108],[102,4109,102,4115],[102,4116,102,4122],[102,4123,102,4129],[102,4130,102,4136],[102,4137,102,4143],[102,4144,102,4150],[102,4151,102,4157],[102,4158,102,4164],[102,4165,102,4171],[102,4172,102,4178],[102,4179,102,4185],[102,4186,102,4192],[102,4193,102,4199],[102,4200,102,4206],[102,4207,102,4213],[102,4214,102,4220],[102,4221,102,4227],[102,4228,102,4234],[102,4235,102,4241],[102,4242,102,4248],[102,4249,102,4255],[102,4256,102,4262],[102,4263,102,4269],[102,4270,102,4276],[102,4277,102,4283],[102,4284,102,4290],[102,4291,102,4297],[102,4298,102,4304],[102,4305,102,4311],[102,4312,102,4318],[102,4319,102,4325],[102,4326,102,4332],[102,4333,102,4339],[102,4340,102,4346],[102,4347,102,4353],[102,4354,102,4360],[102,4361,102,4367],[102,4368,102,4374],[102,4375,102,4381],[102,4382,102,4388],[102,4389,102,4395],[102,4396,102,4402],[102,4403,102,4409],[102,4410,102,4416],[102,4417,102,4423],[102,4424,102,4430],[102,4431,102,4437],[102,4438,102,4444],[102,4445,102,4451],[102,4452,102,4458],[102,4459,102,4465],[102,4466,102,4472],[102,4473,102,4479],[102,4480,102,4486],[102,4487,102,4493],[102,4494,102,4500],[102,4501,102,4507],[102,4508,102,4514],[102,4515,102,4521],[102,4522,102,4528],[102,4529,102,4535],[102,4536,102,4542],[102,4543,102,4549],[102,4550,102,4556],[102,4557,102,4563],[102,4564,102,4570],[102,4571,102,4577],[102,4578,102,4584],[102,4585,102,4591],[102,4592,102,4598],[102,4599,102,4605],[102,4606,102,4612],[102,4613,102,4619],[102,4620,102,4626],[102,4627,102,4633],[102,4634,102,4640],[102,4641,102,4647],[102,4648,102,4654],[102,4655,102,4661],[102,4662,102,4668],[102,4669,102,4675],[102,4676,102,4682],[102,4683,102,4689],[102,4690,102,4696],[102,4697,102,4703],[102,4704,102,4710],[102,4711,102,4717],[102,4718,102,4724],[102,4725,102,4731],[102,4732,102,4738],[102,4739,102,4745],[102,4746,102,4752],[102,4753,102,4759],[102,4760,102,4766],[102,4767,102,4773],[102,4774,102,4780],[102,4781,102,4787],[102,4788,102,4794],[102,4795,102,4801],[102,4802,102,4808],[102,4809,102,4815],[102,4816,102,4822],[102,4823,102,4829],[102,4830,102,4836],[102,4837,102,4843],[102,4844,102,4850],[102,4851,102,4857],[102,4858,102,4864],[102,4865,102,4871],[102,4872,102,4878],[102,4879,102,4885],[102,4886,102,4892],[102,4893,102,4899],[102,4900,102,4906],[102,4907,102,4913],[102,4914,102,4920],[102,4921,102,4927],[102,4928,102,4934],[102,4935,102,4941],[102,4942,102,4948],[102,4949,102,4955],[102,4956,102,4962],[102,4963,102,4969],[102,4970,102,4976],[102,4977,102,4983],[102,4984,102,4990],[102,4991,102,4997],[102,4998,102,5004],[102,5005,102,5011],[102,5012,102,5018],[102,5019,102,5025],[102,5026,102,5032],[102,5033,102,5039],[102,5040,102,5046],[102,5047,102,5053],[102,5054,102,5060],[102,5061,102,5067],[102,5068,102,5074],[102,5075,102,5081],[102,5082,102,5088],[102,5089,102,5095],[102,5096,102,5102],[102,5103,102,5109],[102,5110,102,5116],[102,5117,102,5123],[102,5124,102,5130],[102,5131,102,5137],[102,5138,102,5144],[102,5145,102,5151],[102,5152,102,5158],[102,5159,102,5165],[102,5166,102,5172],[102,5173,102,5179],[102,5180,102,5186],[102,5187,102,5193],[102,5194,102,5200],[102,5201,102,5207],[102,5208,102,5214],[102,5215,102,5221],[102,5222,102,5228],[102,5229,102,5235],[102,5236,102,5242],[102,5243,102,5249],[102,5250,102,5256],[102,5257,102,5263],[102,5264,102,5270],[102,5271,102,5277],[102,5278,102,5284],[102,5285,102,5291],[102,5292,102,5298],[102,5299,102,5305],[102,5306,102,5312],[102,5313,102,5319],[102,5320,102,5326],[102,5327,102,5333],[102,5334,102,5340],[102,5341,102,5347],[102,5348,102,5354],[102,5355,102,5361],[102,5362,102,5368],[102,5369,102,5375],[102,5376,102,5382],[102,5383,102,5389],[102,5390,102,5396],[102,5397,102,5403],[102,5404,102,5410],[102,5411,102,5417],[102,5418,102,5424],[102,5425,102,5431],[102,5432,102,5438],[102,5439,102,5445],[102,5446,102,5452],[102,5453,102,5459],[102,5460,102,5466],[102,5467,102,5473],[102,5474,102,5480],[102,5481,102,5487],[102,5488,102,5494],[102,5495,102,5501],[102,5502,102,5508],[102,5509,102,5515],[102,5516,102,5522],[102,5523,102,5529],[102,5530,102,5536],[102,5537,102,5543],[102,5544,102,5550],[102,5551,102,5557],[102,5558,102,5564],[102,5565,102,5571],[102,5572,102,5578],[102,5579,102,5585],[102,5586,102,5592],[102,5593,102,5599],[102,5600,102,5606],[102,5607,102,5613],[102,5614,102,5620],[102,5621,102,5627],[102,5628,102,5634],[102,5635,102,5641],[102,5642,102,5648],[102,5649,102,5655],[102,5656,102,5662],[102,5663,102,5669],[102,5670,102,5676],[102,5677,102,5683],[102,5684,102,5690],[102,5691,102,5697],[102,5698,102,5704],[102,5705,102,5711],[102,5712,102,5718],[102,5719,102,5725],[102,5726,102,5732],[102,5733,102,5739],[102,5740,102,5746],[102,5747,102,5753],[102,5754,102,5760],[102,5761,102,5767],[102,5768,102,5774],[102,5775,102,5781],[102,5782,102,5788],[102,5789,102,5795],[102,5796,102,5802],[102,5803,102,5809],[102,5810,102,5816],[102,5817,102,5823],[102,5824,102,5830],[102,5831,102,5837],[102,5838,102,5844],[102,5845,102,5851],[102,5852,102,5858],[102,5859,102,5865],[102,5866,102,5872],[102,5873,102,5879],[102,5880,102,5886],[102,5887,102,5893],[102,5894,102,5900],[102,5901,102,5907],[102,5908,102,5914],[102,5915,102,5921],[102,5922,102,5928],[102,5929,102,5935],[102,5936,102,5942],[102,5943,102,5949],[102,5950,102,5956],[102,5957,102,5963],[102,5964,102,5970],[102,5971,102,5977],[102,5978,102,5984],[102,6048,102,6054],[102,6055,102,6061],[104,1,104,7],[107,1,107,7],[108,1,108,7],[109,1,109,7],[110,1,110,7]],"merged_total":2490,"flags":["merged_cut"]}
[{"$nulls":7},"Tabelle 4"]
[]
[null,"Name der EO / LEO",{"$f":"Name_der_EO_LEO","v":"Name_der_EO_LEO"},null,"Berichtsjahr ",{"$f":"Berichtsjahr","v":"2020"},null,"Formel"]
[]
[null,"EO- / LEO-Code ",{"$f":"EO_Code","v":"DE XXXX"},"Alle Angaben werden in T5.1 bis T6.1 erfasst!",{"$nulls":3},"keine Angaben"]
[]
["Tabelle 4: Indikatoren für EO, LEO",{"$nulls":6},"(KOM-Tab. 4.1)"]
["Aktionen / Maßnahmen\nArt. 2 (f) + (g) der Deleg. VO (EU) 2017/891",null,null,"Ziele\nArt. 33 (1) + (3) und 152 (1) (c) \nder VO (EU) Nr. 1308/2013","Indikatoren",null,null,"(Indikatoren\naus T5.1-T6.1)","Tabelle der Erfassung + Feld"]
[]
["Investitionen (1)\n\n(Angaben aus Tabelle T5.1 + T6.1)",null,null,"Planung der Produktion","Zahl der Betriebe",null,null,{"$f":"'T5.1 Invest'!F12","v":0}]
[{"$nulls":4},"Gesamtwert (in €)",null,null,{"$f":"'T5.1 Invest'!K12","v":{"v":0,"d":"0.00"}}]
[{"$nulls":3},"Verbesserung der Qualität der Erzeugnisse","Zahl der Betriebe",null,null,{"$f":"'T5.1 Invest'!F20","v":0}]
[{"$nulls":4},"Gesamtwert (in €)",null,null,{"$f":"'T5.1 Invest'!K20","v":{"v":0,"d":"0.00"}}]
[{"$nulls":3},"Steigerung des Vermarktungswerts der Erzeugnisse","Zahl der Betriebe",null,null,{"$f":"'T5.1 Invest'!F28","v":0}]
[{"$nulls":4},"Gesamtwert (in €)",null,null,{"$f":"'T5.1 Invest'!K28","v":{"v":0,"d":"0.00"}}]
[{"$nulls":4},"Gesamtwert der vermarkteten Erzeugung / Gesamtmenge der vermarkteten Erzeugung\n(in €/kg) ",null,null,{"$f":"'T6.1 Sam_Indi NSt'!H19","v":"0"},"aus T6.1 (H19)"]
[{"$nulls":3},"Umweltmaßnahmen","Zahl der Betriebe",null,null,{"$f":"'T5.1 Invest'!F36","v":0}]
[{"$nulls":4},"Gesamtwert (in €)",null,null,{"$f":"'T5.1 Invest'!K36","v":{"v":0,"d":"0.00"}}]
[{"$nulls":3},"Krisenprävention und Krisenmanagement","Zahl der Betriebe",null,null,{"$f":"'T5.1 Invest'!F44","v":0}]
[{"$nulls":4},"Gesamtwert (in €)",null,null,{"$f":"'T5.1 Invest'!K44","v":{"v":0,"d":"0.00"}}]
[{"$nulls":3},"Forschung","Zahl der Betriebe",null,null,{"$f":"'T5.1 Invest'!F52","v":0}]
[{"$nulls":4},"Gesamtwert (in €)",null,null,{"$f":"'T5.1 Invest'!K52","v":{"v":0,"d":"0.00"}}]
["Forschung und Versuchslandbau\n\n(Angaben aus Tabelle T5.2)",null,null,"Planung der Produktion","Zahl der Betriebe",null,null,{"$f":"'T5.2 Forsch'!F12","v":0}]
[{"$nulls":4},"Gesamtwert (in €)",null,null,{"$f":"'T5.2 Forsch'!K12","v":{"v":0,"d":"0.00"}}]
[{"$nulls":3},"Verbesserung der Qualität der Erzeugnisse","Zahl der Betriebe",null,null,{"$f":"'T5.2 Forsch'!F20","v":0}]
[{"$nulls":4},"Gesamtwert (in €)",null,null,{"$f":"'T5.2 Forsch'!K20","v":{"v":0,"d":"0.00"}}]
[{"$nulls":3},"Steigerung des Vermarktungswerts der Erzeugnisse","Zahl der Betriebe",null,null,{"$f":"'T5.2 Forsch'!F28","v":0}]
[{"$nulls":4},"Gesamtwert (in €)",null,null,{"$f":"'T5.2 Forsch'!K28","v":{"v":0,"d":"0.00"}}]
[{"$nulls":3},"Umweltmaßnahmen","Zahl der Betriebe",null,null,{"$f":"'T5.2 Forsch'!F36","v":0}]
[{"$nulls":4},"Gesamtwert (in €)",null,null,{"$f":"'T5.2 Forsch'!K36","v":{"v":0,"d":"0.00"}}]
["Qualitätsregelungen (EU und Mitgliedstaaten) (2) und Maßnahmen zur Qualitätsverbesserung\n(Angaben aus Tabelle T5.3 und T6.1)",null,null,"Verbesserung der Qualität der Erzeugnisse","Fläche der g.U./g.g.A./g.t.S (3) (in ha)",null,null,{"$f":"'T5.3 Quali'!R12","v":{"v":0,"d":"0.000"}}]
[{"$nulls":4},"Zahl der Betriebe",null,null,{"$f":"'T5.3 Quali'!F12","v":0}]
[{"$nulls":4},"Menge (in Tonnen) ",null,null,{"$f":"'T6.1 Sam_Indi NSt'!H20","v":{"v":0,"d":"0.000"}},"aus T6.1 (H20)"]
["Absatzförderung und Kommunikation (4)\n\n(Angaben aus Tabelle T5.4)",null,null,"Steigerung des Vermarktungswerts der Erzeugnisse","Zahl der Betriebe",null,null,{"$f":"'T5.4 Abs+Kom'!F12","v":0}]
[{"$nulls":4},"Zahl der Kampagnen zur Absatzförderung  ",null,null,{"$f":"'T5.4 Abs+Kom'!R12","v":{"v":0,"d":"0.0"}}]
[{"$nulls":3},"Förderung des Absatzes der Erzeugnisse","Zahl der Betriebe",null,null,{"$f":"'T5.4 Abs+Kom'!F20","v":0}]
[{"$nulls":4},"Zahl der Kampagnen zur Absatzförderung  ",null,null,{"$f":"'T5.4 Abs+Kom'!R20","v":{"v":0,"d":"0.0"}}]
[{"$nulls":3},"Krisenprävention und Krisenmanagement","Zahl der Betriebe",null,null,{"$f":"'T5.4 Abs+Kom'!F28","v":0}]
[{"$nulls":4},"Zahl der Kampagnen zur Absatzförderung  ",null,null,{"$f":"'T5.4 Abs+Kom'!R28","v":{"v":0,"d":"0.0"}}]
["Aus- und Weiterbildung und Austausch über bewährte Verfahren\n\n(Angaben aus Tabelle T5.5)",null,null,"Planung der Produktion","Zahl der Betriebe",null,null,{"$f":"'T5.5 Bild'!F12","v":0}]
[{"$nulls":4},"Zahl der Maßnahmen",null,null,{"$f":"'T5.5 Bild'!R12","v":{"v":0,"d":"0.0"}}]
[{"$nulls":3},"Verbesserung der Qualität der Erzeugnisse","Zahl der Betriebe",null,null,{"$f":"'T5.5 Bild'!F20","v":0}]
[{"$nulls":4},"Zahl der Maßnahmen",null,null,{"$f":"'T5.5 Bild'!R20","v":{"v":0,"d":"0.0"}}]
[{"$nulls":3},"Steigerung des Vermarktungswerts der Erzeugnisse","Zahl der Betriebe",null,null,{"$f":"'T5.5 Bild'!F28","v":0}]
[{"$nulls":4},"Zahl der Maßnahmen",null,null,{"$f":"'T5.5 Bild'!R28","v":{"v":0,"d":"0.0"}}]
[{"$nulls":3},"Umweltmaßnahmen","Zahl der Betriebe",null,null,{"$f":"'T5.5 Bild'!F36","v":0}]
[{"$nulls":4},"Zahl der Maßnahmen",null,null,{"$f":"'T5.5 Bild'!R36","v":{"v":0,"d":"0.0"}}]
[{"$nulls":3},"Krisenprävention und Krisenmanagement","Zahl der Betriebe",null,null,{"$f":"'T5.5 Bild'!F44","v":0}]
[{"$nulls":4},"Zahl der Maßnahmen",null,null,{"$f":"'T5.5 Bild'!R44","v":{"v":0,"d":"0.0"}}]
["Beratungsdienste und technische Hilfe\n\n(Angaben aus Tabelle T5.6)",null,null,"Planung der Produktion","Zahl der Betriebe",null,null,{"$f":"'T5.6 Berat'!F12","v":0}]
[{"$nulls":4},"Zahl der Maßnahmen",null,null,{"$f":"'T5.6 Berat'!R12","v":{"v":0,"d":"0.0"}}]
[{"$nulls":3},"Verbesserung der Qualität der Erzeugnisse","Zahl der Betriebe",null,null,{"$f":"'T5.6 Berat'!F20","v":0}]
[{"$nulls":4},"Zahl der Maßnahmen",null,null,{"$f":"'T5.6 Berat'!R20","v":{"v":0,"d":"0.0"}}]
[{"$nulls":3},"Steigerung des Vermarktungswerts der Erzeugnisse","Zahl der Betriebe",null,null,{"$f":"'T5.6 Berat'!F28","v":0}]
[{"$nulls":4},"Zahl der Maßnahmen",null,null,{"$f":"'T5.6 Berat'!R28","v":{"v":0,"d":"0.0"}}]
[{"$nulls":3},"Umweltmaßnahmen","Zahl der Betriebe",null,null,{"$f":"'T5.6 Berat'!F36","v":0}]
[{"$nulls":4},"Zahl der Maßnahmen",null,null,{"$f":"'T5.6 Berat'!R36","v":{"v":0,"d":"0.0"}}]
["Ökologischer / biologischer Landbau",null,null,"Umweltmaßnahmen\n\n(Angaben aus Tabellen T5.7 und  T6.1)","Ökologisch bewirtschaftete Obst- und/oder Gemüseanbaufläche (in ha) ",null,null,{"$f":"'T5.7 Umwelt'!R13","v":{"v":0,"d":"0.000"}}]
[{"$nulls":4},"Zahl der Betriebe",null,null,{"$f":"'T5.7 Umwelt'!F13","v":0}]
["Integrierter Landbau",{"$nulls":3},"Integriert bewirtschaftete Obst- und/oder Gemüseanbaufläche (in ha)  ",null,null,{"$f":"'T5.7 Umwelt'!R14","v":{"v":0,"d":"0.000"}}]
[{"$nulls":4},"Zahl der Betriebe",null,null,{"$f":"'T5.7 Umwelt'!F14","v":0}]
["Bessere Nutzung oder Bewirtschaftung von Wasser, einschließlich Wassereinsparung und -ableitung",{"$nulls":3},"Obst- und Gemüseanbaufläche mit geringerer Nutzung von Wasser (in ha)",null,null,{"$f":"'T5.7 Umwelt'!R15","v":{"v":0,"d":"0.000"}}]
[{"$nulls":4},"Zahl der Betriebe",null,null,{"$f":"'T5.7 Umwelt'!F15","v":0}]
[{"$nulls":4},"Volumendifferenz (in m3) [(n – 1) – (n)] ",null,null,{"$f":"'T5.7 Umwelt'!Z15-'T5.7 Umwelt'!Y15","v":{"v":0,"d":"0.000"}}," aus T5.7 (Z15-Y15)"]
["Maßnahmen zur Bodenerhaltung",{"$nulls":3},"Durch Bodenerosion gefährdete Obst- und Gemüseanbaufläche, auf der Erosionsschutz-maßnahmen durchgeführt werden (in ha) (5) ",null,null,{"$f":"'T5.7 Umwelt'!R20","v":{"v":0,"d":"0.00"}}]
[{"$nulls":4},"Zahl der Betriebe",null,null,{"$f":"'T5.7 Umwelt'!F20","v":0}]
[{"$nulls":4},"Unterschiede beim Düngemitteleinsatz je ha (Tonnen / ha)  [(n – 1) – (n)] ",null,null,{"$f":"'T5.7 Umwelt'!Z20-'T5.7 Umwelt'!Y20","v":{"v":0,"d":"0.000"}}," aus T5.7 (Z20-Y20)"]
["Maßnahmen zur Schaffung und Erhaltung von Lebensräumen, die die biologische Vielfalt begünstigen, und zur Landschaftspflege, einschließlich Erhaltung historischer Merkmale",null,null,"Umweltmaßnahmen\n\n(Angaben aus Tabellen T5.7 und T6.1)","Fläche, auf der Maßnahmen zur Verbesserung des Schutzes von Lebensräumen und der biologischen Vielfalt durchgeführt werden (ha) ",null,null,{"$f":"'T5.7 Umwelt'!R25","v":{"v":0,"d":"0.000"}}]
[{"$nulls":4},"Zahl der Betriebe  ",null,null,{"$f":"'T5.7 Umwelt'!F25","v":0}]
["Maßnahmen zur Energieeinsparung \n(ohne Verkehr)",{"$nulls":3},"Obst- und Gemüseanbaufläche mit geringerer Nutzung von Energie (in ha)  ",null,null,{"$f":"'T5.7 Umwelt'!R30","v":{"v":0,"d":"0.000"}}]
[{"$nulls":4},"Zahl der Betriebe  ",null,null,{"$f":"'T5.7 Umwelt'!F30","v":0}]
[{"$nulls":4},"Unterschiede beim Energieverbrauch\n[(n – 1) – (n)] "]
[{"$nulls":4},"Feststoffe","(Tonnen / t Gesamtmenge der vermarkteten Erzeugung)",null,{"$f":"'T6.1 Sam_Indi NSt'!I47-'T6.1 Sam_Indi NSt'!H47","v":{"v":0,"d":"0.000"}}," aus T6.1 (I47-H47)"]
[{"$nulls":4},"Flüssigkeiten","(Liter / t Gesamtmenge der vermarkteten Erzeugung) ",null,{"$f":"'T6.1 Sam_Indi NSt'!I48-'T6.1 Sam_Indi NSt'!H48","v":{"v":0,"d":"0.000"}}," aus T6.1 (I48-H48)"]
[{"$nulls":4},"Gas","(m3 / t Gesamtmenge der vermarkteten Erzeugung)",null,{"$f":"'T6.1 Sam_Indi NSt'!I49-'T6.1 Sam_Indi NSt'!H49","v":{"v":0,"d":"0.000"}}," aus T6.1 (I49-H49)"]
[{"$nulls":4},"Strom","(kwh / t Gesamtmenge der vermarkteten Erzeugung)",null,{"$f":"'T6.1 Sam_Indi NSt'!I50-'T6.1 Sam_Indi NSt'!H50","v":{"v":0,"d":"0.000"}}," aus T6.1 (I50-H50)"]
["Maßnahmen zur Verringerung der Abfallproduktion und Verbesserung der Abfallbewirtschaftung",{"$nulls":3},"Zahl der Betriebe  ",null,null,{"$f":"'T5.7 Umwelt'!F35","v":0}]
[{"$nulls":4},"Unterschiede beim Abfallvolumen \n(m3 / t Gesamtmenge der vermarkteten Erzeugung) \n[(n – 1) – (n)] ",null,null,{"$f":"'T6.1 Sam_Indi NSt'!I57-'T6.1 Sam_Indi NSt'!H57","v":{"v":0,"d":"0.000"}}," aus T6.1 (I57-H57)"]
[{"$nulls":4},"Unterschiede beim Abfallvolumen\n/-gewicht\n(t / t Gesamtmenge der vermarkteten Erzeugung) \n[(n – 1) – (n)] ",null,null,{"$f":"'T6.1 Sam_Indi NSt'!I58-'T6.1 Sam_Indi NSt'!H58","v":{"v":0,"d":"0.000"}}," aus T6.1 (I58-H58)"]
[{"$nulls":4},"Unterschiede beim Verpackungsvolumen\n(m3 / t Gesamtmenge der vermarkteten Erzeugung) \n[(n – 1) – (n)] ",null,null,{"$f":"'T6.1 Sam_Indi NSt'!I59-'T6.1 Sam_Indi NSt'!H59","v":{"v":0,"d":"0.000"}}," aus T6.1 (I59-H59)"]
[{"$nulls":4},"Unterschiede beim Verpackungsvolumen \n/-gewicht\n(t / t Gesamtmenge der vermarkteten Erzeugung) \n[(n – 1) – (n)] ",null,null,{"$f":"'T6.1 Sam_Indi NSt'!I60-'T6.1 Sam_Indi NSt'!H60","v":{"v":0,"d":"0.000"}}," aus T6.1 (I60-H60)"]
["Verkehr\n",{"$nulls":3},"Unterschiede beim Energieverbrauch (n – 1/n)"]
[{"$nulls":4},"Flüssigkeiten","(Liter / t Gesamtmenge der vermarkteten Erzeugung) ",null,{"$f":"'T6.1 Sam_Indi NSt'!I51-'T6.1 Sam_Indi NSt'!H51","v":{"v":0,"d":"0.000"}}," aus T6.1 (I51-H51)"]
[{"$nulls":4},"Gas","(m3 / t Gesamtmenge der vermarkteten Erzeugung)",null,{"$f":"'T6.1 Sam_Indi NSt'!I52-'T6.1 Sam_Indi NSt'!H52","v":{"v":0,"d":"0.000"}}," aus T6.1 (I52-H52)"]
[{"$nulls":4},"Strom","(kwh / t Gesamtmenge der vermarkteten Erzeugung)",null,{"$f":"'T6.1 Sam_Indi NSt'!I53-'T6.1 Sam_Indi NSt'!H53","v":{"v":0,"d":"0.000"}}," aus T6.1 (I53-H53)"]
["Vermarktung",{"$nulls":3},"Zahl der Betriebe",null,null,{"$f":"'T5.7 Umwelt'!F45","v":0}]
[{"$nulls":4},"Zahl der Maßnahmen",null,null,{"$f":"'T5.7 Umwelt'!R45","v":0}]
["Einrichtung von Fonds auf Gegenseitigkeit (6)",null,null,"Krisenprävention und Krisenmanagement\n\n(Angaben aus Tabelle T5.8)","Zahl der Betriebe  "]
["Neubefüllung von Fonds auf Gegenseitigkeit (6)",{"$nulls":3},"Zahl der Betriebe  "]
["Wiederbepflanzung von Obstplantagen",{"$nulls":3},"Fläche (in ha)",null,null,{"$f":"'T5.8 Krise'!R14","v":{"v":0,"d":"0.000"}}]
["Marktrücknahmen (7)",{"$nulls":3},"Zahl der durchgeführten Maßnahmen"]
["Ernte vor der Reifung (8)",{"$nulls":3},"Zahl der durchgeführten Maßnahmen"]
[{"$nulls":4},"Fläche (in ha)"]
["Nichternten (8)",{"$nulls":3},"Zahl der durchgeführten Maßnahmen"]
[{"$nulls":4},"Fläche (in ha)"]
["Ernteversicherung",{"$nulls":3},"Zahl der Betriebe  ",null,null,{"$f":"'T5.8 Krise'!F22","v":0}]
["Coaching",{"$nulls":3},"Zahl der durchgeführten Maßnahmen"]
["Sonstige\n\n(Angaben aus Tabelle T5.9)",null,null,"Planung der Produktion","Zahl der Betriebe  ",null,null,{"$f":"'T5.9 Sonst'!F12","v":0}]
[{"$nulls":3},"Verbesserung der Qualität der Erzeugnisse","Zahl der Betriebe  ",null,null,{"$f":"'T5.9 Sonst'!F20","v":0}]
[{"$nulls":3},"Steigerung des Vermarktungswerts der Erzeugnisse","Zahl der Betriebe  ",null,null,{"$f":"'T5.9 Sonst'!F28","v":0}]
[{"$nulls":3},"Umweltmaßnahmen","Zahl der Betriebe  ",null,null,{"$f":"'T5.9 Sonst'!F36","v":0}]
[]
["Fußnoten gem. DVO (EU) 2017/892, Anhang II geändert mit DVO (EU) 2018/1146"]
["(1)","Einschließlich nicht produktiver Investitionen in Verbindung mit der Erfüllung von Verpflichtungen im Rahmen des operationellen Programms. "]
["(2)","EU-Qualitätsregelungen sind als eine Reihe präziser Verpflichtungen in Bezug auf die Produktionsmethoden zu verstehen, \na) deren Einhaltung von einer unabhängigen Kontrollstelle überprüft wird und \nb) die ein Endprodukt gewährleisten, dessen Qualität\n     i) in Bezug auf Gesundheits-, Pflanzengesundheits- und Umweltnormen weit über die gängigen Handelsnormen hinausgeht, und\n     ii) den gegenwärtigen und absehbaren Absatzmöglichkeiten gerecht wird. \nEs wird vorgeschlagen, dass die wichtigsten Arten von ‚Qualitätssicherungssystemen‘ Folgendes abdecken sollten: \na) den zertifizierten ökologischen Landbau; \nb) geschützte geografische Angaben und geschützte Ursprungsbezeichnungen, \nc) den zertifizierten integrierten Landbau, \nd) private zertifizierte Qualitätssicherungssysteme."]
["(3)","Geschützte Ursprungsbezeichnungen / geschützte geografische Angaben / garantiert traditionelle Spezialitäten "]
["(4)","Jeder Tag einer Absatzförderungs-/Kommunikationskampagne zählt als eine Aktion. "]
["(5)","Als ‚bodenerosionsgefährdet‘ gelten Parzellen in Hanglage mit einer Neigung von über 10 %, und zwar unabhängig davon, ob Maßnahmen zum Erosionsschutz (z. B. Bodenbegrünung, Fruchtfolge usw.) getroffen wurden oder nicht. Liegen die betreffenden Informationen nicht vor, kann der Mitgliedstaat stattdessen die folgende Definition verwenden: Als ‚bodenerosionsgefährdet‘ gelten Parzellen mit einem absehbaren über die Rate der natürlichen Bodenbildung hinausgehenden Bodenverlust, und zwar unabhängig davon, ob Maßnahmen zum Erosionsschutz (z. B. Bodenbegrünung, Fruchtfolge usw.) getroffen wurden oder nicht. "]
["(6)","Maßnahmen im Zusammenhang mit der Errichtung/Neubefüllung von unterschiedlichen Risikofonds auf Gegenseitigkeit zählen als unterschiedliche Maßnahmen. "]
["(7)","Marktrücknahmen ein und desselben Erzeugnisses zu unterschiedlichen Zeiten des Jahres und Marktrücknahmen unterschiedlicher Erzeugnisse zählen als unterschiedliche Maßnahmen. Jede Marktrücknahme für ein bestimmtes Erzeugnis zählt als eine Aktion. "]
["(8)","Die Ernte vor der Reifung und das Nichternten unterschiedlicher Erzeugnisse zählen als unterschiedliche Maßnahmen. Die Ernte vor der Reifung und das Nichternten ein und desselben Erzeugnisses zählen als eine Aktion, unabhängig von der dafür benötigten Anzahl an Tagen, der Zahl der teilnehmenden Betriebe und der Anzahl der betroffenen Parzellen oder Hektar. "]
[]
["Erläuterungen der EU-KOM in deutscher Fassung vom 09.10.2019"]
[null,"Zahl der Betriebe","Zahl der Betriebe, denen die Investition zugutekommt."]
[null,null,"Wird die Investition gemeinsam getätigt, ist hier die Zahl aller beteiligten Betriebe anzugeben."]
[null,null,"Wird die Investition auf Ebene der EO getätigt, ist hier die Zahl aller der EO und deren Mitgliedern angeschlossenen Betriebe anzugeben."]
[null,null,"KOM 21.11.18: Doppelzählungen, aufgrund mehrerer Aktionen eines Betriebes sind zulässig."]
[null,"Gesamtwert:","Wert der Investitionen im Zusammenhang mit jeder Aktion/Maßnahme und jedem Ziel. Dieser Wert muss dem Gesamtwert der Investitionen für die einzelnen in Tabelle 3.2 gemeldeten Aktionen/Maßnahmen entsprechen."]

{"sheet":"T5.1 Invest","index":6,"n_rows":71,"n_cols":17,"rows_kept":71,"merged":[[6,0,9,0],[6,1,6,2],[6,3,7,3],[6,4,7,4],[6,5,6,14],[6,15,6,16],[7,1,7,2],[7,5,7,9],[7,10,7,14],[8,1,9,1],[8,2,9,2],[8,3,9,3],[8,4,9,4],[8,15,9,15],[8,16,9,16],[67,1,67,4],[70,0,70,4]]}
[]
["Name der EO / LEO ",null,{"$f":"Name_der_EO_LEO","v":"Name_der_EO_LEO"},"Berichtsjahr ",{"$f":"Berichtsjahr","v":"2020"},{"$nulls":5},"Ausfüllen","Formel","keine Angaben",{"$nulls":3},"Tabelle 5.1"]
[]
["EO- / LEO-Code ",null,{"$f":"EO_Code","v":"DE XXXX"}]
[]
["Tabelle 5.1: Investitionen (1)"]
["Ziele\nArt. 33 (1) + (3) und\n152 (1) (c) \nder VO (EU) Nr. 1308/2013","A)\nBenennung der durchgeführten Aktionen",null,"B)\nmit der jeweiligen Aktion verfolgtes, wichtigstes Ziel\ngem. nationaler Strategie","C)\nErläuterung, \nwie das Ziel erreicht werden soll","D) Indikatoren\nzahlungsrelevanten Daten für OP-Jahre vor dem Berichtsjahr",{"$nulls":9},"E) Änderungen-OP"]
[null,"(ggf. direkt unter Aktion 5 weitere Zeilen einfügen \nund die Anzahl fortlaufend ergänzen)",{"$nulls":3},"Zahl der Betriebe (*)",{"$nulls":4},"Gesamtwert (**)\nin €",{"$nulls":4},"Abbruch / Aufnahme Aktion","Begründung bzw. Problemdarstellung"]
[null,"An-zahl","eine Aktion = eine Zeile","Auswahlfeld","Text kurz und aussagekräftig",{"$f":"Berichtsjahr","v":"2020"},{"$nulls":4},{"$f":"Berichtsjahr","v":"2020"},{"$f":"IF(G9,G9,\"\")","v":""},{"$f":"IF(H9,H9,\"\")","v":""},"","","Auswahlfeld","Text kurz und aussagekräftig"]
[{"$nulls":5},"(n)","(n-1)","(n-2)","(n-3)","(n-4)","(n)","(n-1)","(n-2)","(n-3)","(n-4)"]
[]
["1. Planung der Produktion",null,"Nationale Strategie Nr. 3.2.1.1 und 3.2.8.1",null,null,{"$f":"SUM(F13:F19)","v":0},0,0,0,0,{"v":0,"d":"0.00"},{"v":0,"d":"0.00"},{"v":0,"d":"0.00"},{"v":0,"d":"0.00"},{"v":0,"d":"0.00"}]
[null,1,{"$nulls":3},0,0,0,0,0,{"v":0,"d":"0.00"},{"v":0,"d":"0.00"},{"v":0,"d":"0.00"},{"v":0,"d":"0.00"},{"v":0,"d":"0.00"}]
[null,2,{"$nulls":3},0,0,0,0,0,{"v":0,"d":"0.00"},{"v":0,"d":"0.00"},{"v":0,"d":"0.00"},{"v":0,"d":"0.00"},{"v":0,"d":"0.00"}]
[null,3,{"$nulls":3},0,0,0,0,0,{"v":0,"d":"0.00"},{"v":0,"d":"0.00"},{"v":0,"d":"0.00"},{"v":0,"d":"0.00"},{"v":0,"d":"0.00"}]
[null,4,{"$nulls":3},0,0,0,0,0,{"v":0,"d":"0.00"},{"v":0,"d":"0.00"},{"v":0,"d":"0.00"},{"v":0,"d":"0.00"},{"v":0,"d":"0.00"}]
[null,5,{"$nulls":3},0,0,0,0,0,{"v":0,"d":"0.00"},{"v":0,"d":"0.00"},{"v":0,"d":"0.00"},{"v":0,"d":"0.00"},{"v":0,"d":"0.00"}]
[]
[]
["2. Verbesserung der Qualität der Erzeugnisse",null,"Nationale Strategie Nr. 3.2.2.1 und 3.2.8.1",null,null,{"$f":"SUM(F21:F27)","v":0},0,0,0,0,{"v":0,"d":"0.00"},{"v":0,"d":"0.00"},{"v":0,"d":"0.00"},{"v":0,"d":"0.00"},{"v":0,"d":"0.00"}]
[null,1,{"$nulls":3},0,0,0,0,0,{"v":0,"d":"0.00"},{"v":0,"d":"0.00"},{"v":0,"d":"0.00"},{"v":0,"d":"0.00"},{"v":0,"d":"0.00"}]
[null,2,{"$nulls":3},0,0,0,0,0,{"v":0,"d":"0.00"},{"v":0,"d":"0.00"},{"v":0,"d":"0.00"},{"v":0,"d":"0.00"},{"v":0,"d":"0.00"}]
[null,3,{"$nulls":3},0,0,0,0,0,{"v":0,"d":"0.00"},{"v":0,"d":"0.00"},{"v":0,"d":"0.00"},{"v":0,"d":"0.00"},{"v":0,"d":"0.00"}]
[null,4,{"$nulls":3},0,0,0,0,0,{"v":0,"d":"0.00"},{"v":0,"d":"0.00"},{"v":0,"d":"0.00"},{"v":0,"d":"0.00"},{"v":0,"d":"0.00"}]
[null,5,{"$nulls":3},0,0,0,0,0,{"v":0,"d":"0.00"},{"v":0,"d":"0.00"},{"v":0,"d":"0.00"},{"v":0,"d":"0.00"},{"v":0,"d":"0.00"}]
[]
[]
["3. Steigerung des Vermarktungswerts der Erzeugnisse",null,"Nationale Strategie Nr. 3.2.3.1 und 3.2.8.1",null,null,{"$f":"SUM(F29:F35)","v":0},{"$f":"SUM(G29:G35)","v":0},{"$f":"SUM(H29:H35)","v":0},{"$f":"SUM(I29:I35)","v":0},{"$f":"SUM(J29:J35)","v":0},{"$f":"SUM(K29:K35)","v":{"v":0,"d":"0.00"}},{"$f":"SUM(L29:L35)","v":{"v":0,"d":"0.00"}},{"v":0,"d":"0.00"},{"v":0,"d":"0.00"},{"v":0,"d":"0.00"}]
[null,1,{"$nulls":3},0,0,0,0,0,{"v":0,"d":"0.00"},{"v":0,"d":"0.00"},{"v":0,"d":"0.00"},{"v":0,"d":"0.00"},{"v":0,"d":"0.00"}]
[null,2,{"$nulls":3},0,0,0,0,0,{"v":0,"d":"0.00"},{"v":0,"d":"0.00"},{"v":0,"d":"0.00"},{"v":0,"d":"0.00"},{"v":0,"d":"0.00"}]
[null,3,{"$nulls":3},0,0,0,0,0,{"v":0,"d":"0.00"},{"v":0,"d":"0.00"},{"v":0,"d":"0.00"},{"v":0,"d":"0.00"},{"v":0,"d":"0.00"}]
[null,4,{"$nulls":3},0,0,0,0,0,{"v":0,"d":"0.00"},{"v":0,"d":"0.00"},{"v":0,"d":"0.00"},{"v":0,"d":"0.00"},{"v":0,"d":"0.00"}]
[null,5,{"$nulls":3},0,0,0,0,0,{"v":0,"d":"0.00"},{"v":0,"d":"0.00"},{"v":0,"d":"0.00"},{"v":0,"d":"0.00"},{"v":0,"d":"0.00"}]
[]
[]
["5. Umweltmaßnahmen",null,"Nationale Strategie Nr. 3.2.7, Anhang 4 und 3.2.8.1",null,null,{"$f":"SUM(F37:F43)","v":0},{"$f":"SUM(G37:G43)","v":0},{"$f":"SUM(H37:H43)","v":0},{"$f":"SUM(I37:I43)","v":0},{"$f":"SUM(J37:J43)","v":0},{"$f":"SUM(K37:K43)","v":{"v":0,"d":"0.00"}},{"$f":"SUM(L37:L43)","v":{"v":0,"d":"0.00"}},{"v":0,"d":"0.00"},{"v":0,"d":"0.00"},{"v":0,"d":"0.00"}]
[null,1,{"$nulls":3},0,0,0,0,0,{"v":0,"d":"0.00"},{"v":0,"d":"0.00"},{"v":0,"d":"0.00"},{"v":0,"d":"0.00"},{"v":0,"d":"0.00"}]
[null,2,{"$nulls":3},0,0,0,0,0,{"v":0,"d":"0.00"},{"v":0,"d":"0.00"},{"v":0,"d":"0.00"},{"v":0,"d":"0.00"},{"v":0,"d":"0.00"}]
[null,3,{"$nulls":3},0,0,0,0,0,{"v":0,"d":"0.00"},{"v":0,"d":"0.00"},{"v":0,"d":"0.00"},{"v":0,"d":"0.00"},{"v":0,"d":"0.00"}]
[null,4,{"$nulls":3},0,0,0,0,0,{"v":0,"d":"0.00"},{"v":0,"d":"0.00"},{"v":0,"d":"0.00"},{"v":0,"d":"0.00"},{"v":0,"d":"0.00"}]
[null,5,{"$nulls":3},0,0,0,0,0,{"v":0,"d":"0.00"},{"v":0,"d":"0.00"},{"v":0,"d":"0.00"},{"v":0,"d":"0.00"},{"v":0,"d":"0.00"}]
[]
[]
["6. Krisenprävention und Krisenmanagement",null,"Nationale Strategie Nr. 3.2.6 und 3.2.8.1",null,null,{"$f":"SUM(F45:F51)","v":0},{"$f":"SUM(G45:G51)","v":0},{"$f":"SUM(H45:H51)","v":0},{"$f":"SUM(I45:I51)","v":0},{"$f":"SUM(J45:J51)","v":0},{"$f":"SUM(K45:K51)","v":{"v":0,"d":"0.00"}},{"$f":"SUM(L45:L51)","v":{"v":0,"d":"0.00"}},{"$f":"SUM(M45:M51)","v":{"v":0,"d":"0.00"}},{"v":0,"d":"0.00"},{"v":0,"d":"0.00"}]
[null,1,{"$nulls":3},0,0,0,0,0,{"v":0,"d":"0.00"},{"v":0,"d":"0.00"},{"v":0,"d":"0.00"},{"v":0,"d":"0.00"},{"v":0,"d":"0.00"}]
[null,2,{"$nulls":3},0,0,0,0,0,{"v":0,"d":"0.00"},{"v":0,"d":"0.00"},{"v":0,"d":"0.00"},{"v":0,"d":"0.00"},{"v":0,"d":"0.00"}]
[null,3,{"$nulls":3},0,0,0,0,0,{"v":0,"d":"0.00"},{"v":0,"d":"0.00"},{"v":0,"d":"0.00"},{"v":0,"d":"0.00"},{"v":0,"d":"0.00"}]
[null,4,{"$nulls":3},0,0,0,0,0,{"v":0,"d":"0.00"},{"v":0,"d":"0.00"},{"v":0,"d":"0.00"},{"v":0,"d":"0.00"},{"v":0,"d":"0.00"}]
[null,5,{"$nulls":3},0,0,0,0,0,{"v":0,"d":"0.00"},{"v":0,"d":"0.00"},{"v":0,"d":"0.00"},{"v":0,"d":"0.00"},{"v":0,"d":"0.00"}]
[]
[]
["7. Forschung",null,"Nationale Strategie Nr. 3.2.4.1 und 3.2.8.1",null,null,{"$f":"SUM(F53:F59)","v":0},{"$f":"SUM(G53:G59)","v":0},{"$f":"SUM(H53:H59)","v":0},{"$f":"SUM(I53:I59)","v":0},{"$f":"SUM(J53:J59)","v":0},{"$f":"SUM(K53:K59)","v":{"v":0,"d":"0.00"}},{"$f":"SUM(L53:L59)","v":{"v":0,"d":"0.00"}},{"v":0,"d":"0.00"},{"v":0,"d":"0.00"},{"v":0,"d":"0.00"}]
[null,1,{"$nulls":3},0,0,0,0,0,{"v":0,"d":"0.00"},{"v":0,"d":"0.00"},{"v":0,"d":"0.00"},{"v":0,"d":"0.00"},{"v":0,"d":"0.00"}]
[null,2,{"$nulls":3},0,0,0,0,0,{"v":0,"d":"0.00"},{"v":0,"d":"0.00"},{"v":0,"d":"0.00"},{"v":0,"d":"0.00"},{"v":0,"d":"0.00"}]
[null,3,{"$nulls":3},0,0,0,0,0,{"v":0,"d":"0.00"},{"v":0,"d":"0.00"},{"v":0,"d":"0.00"},{"v":0,"d":"0.00"},{"v":0,"d":"0.00"}]
[null,4,{"$nulls":3},0,0,0,0,0,{"v":0,"d":"0.00"},{"v":0,"d":"0.00"},{"v":0,"d":"0.00"},{"v":0,"d":"0.00"},{"v":0,"d":"0.00"}]
[null,5,{"$nulls":3},0,0,0,0,0,{"v":0,"d":"0.00"},{"v":0,"d":"0.00"},{"v":0,"d":"0.00"},{"v":0,"d":"0.00"},{"v":0,"d":"0.00"}]
[]
[]
[]
[{"$nulls":4},"Summe:",{"$f":"SUM(F12,F20,F28,F36,F44,F52)","v":0},0,0,0,0,{"v":0,"d":"0.00"},{"v":0,"d":"0.00"},{"v":0,"d":"0.00"},{"v":0,"d":"0.00"},{"v":0,"d":"0.00"}]
[]
["Erläuterungen der EU-KOM  in deutscher Fassung vom 09.10.2019"]
["(*) Zahl der Betriebe","Zahl der Betriebe, denen die Investition zugutekommt."]
[null,"Wird die Investition gemeinsam getätigt, ist hier die Zahl aller beteiligten Betriebe anzugeben."]
[null,"Wird die Investition auf Ebene der EO getätigt, ist hier die Zahl aller der EO und deren Mitgliedern angeschlossenen Betriebe anzugeben."]
[null,"KOM 21.11.18: Doppelzählungen, aufgrund mehrerer Aktionen eines Betriebes sind zulässig."]
["(**) Gesamtwert:","Wert der Investitionen im Zusammenhang mit jeder Aktion/Maßnahme und jedem Ziel. Dieser Wert muss dem Gesamtwert der Investitionen für die einzelnen in Tabelle 3.2 gemeldeten Aktionen/Maßnahmen entsprechen."]
[]
["Fußnoten gem. DVO (EU) 2017/892, Anhang II geändert mit DVO (EU) 2018/1146"]
["(1) Einschließlich nicht produktiver Investitionen in Verbindung mit der Erfüllung von Verpflichtungen im Rahmen des operationellen Programms. "]

{"sheet":"T5.2 Forsch","index":7,"n_rows":52,"n_cols":17,"rows_kept":52,"merged":[[6,0,9,0],[6,1,6,2],[6,3,7,3],[6,4,7,4],[6,5,6,14],[6,15,6,16],[7,1,7,2],[7,5,7,9],[7,10,7,14],[8,1,9,1],[8,2,9,2],[8,3,9,3],[8,4,9,4],[8,15,9,15],[8,16,9,16],[51,1,51,4]]}
[]
["Name der EO / LEO ",null,{"$f":"Name_der_EO_LEO","v":"Name_der_EO_LEO"},"Berichtsjahr ",{"$f":"Berichtsjahr","v":"2020"},{"$nulls":5},"Ausfüllen","Formel","keine Angaben",{"$nulls":3},"Tabelle 5.2"]
[]
["EO- / LEO-Code ",null,{"$f":"EO_Code","v":"DE XXXX"}]
[]
["Tabelle 5.2: Forschung und Versuchslandbau"]
["Ziele\nArt. 33 (1) + (3) und\n152 (1) (c) \nder VO (EU) Nr. 1308/2013","A)\nBenennung der durchgeführten Aktionen",null,"B)\nmit der jeweiligen Aktion verfolgtes, wichtigstes Ziel\ngem. nationaler Strategie","C)\nErläuterung, wie das Ziel erreicht werden soll","D) Indikatoren\nzahlungsrelevanten Daten für OP-Jahre vor dem Berichtsjahr",{"$nulls":9},"E) Änderungen-OP"]
[null,"(ggf. direkt unter Aktion 5 weitere Zeilen einfügen \nund die Anzahl fortlaufend ergänzen)",{"$nulls":3},"Zahl der Betriebe (*)",{"$nulls":4},"Gesamtwert (**)\nin €",{"$nulls":4},"Abbruch / Aufnahme Aktion","Begründung bzw. Problemdarstellung"]
[null,"An-zahl","eine Aktion = eine Zeile","Auswahlfeld","Text kurz und aussagekräftig",{"$f":"Berichtsjahr","v":"2020"},{"$f":"IF('T5.1 Invest'!G9,'T5.1 Invest'!G9,\"\")","v":""},{"$f":"IF('T5.1 Invest'!H9,'T5.1 Invest'!H9,\"\")","v":""},{"$f":"IF('T5.1 Invest'!I9,'T5.1 Invest'!I9,\"\")","v":""},{"$f":"IF('T5.1 Invest'!J9,'T5.1 Invest'!J9,\"\")","v":""},{"$f":"Berichtsjahr","v":"2020"},{"$f":"IF('T5.1 Invest'!G9,'T5.1 Invest'!G9,\"\")","v":""},{"$f":"IF('T5.1 Invest'!H9,'T5.1 Invest'!H9,\"\")","v":""},{"$f":"IF('T5.1 Invest'!I9,'T5.1 Invest'!I9,\"\")","v":""},{"$f":"IF('T5.1 Invest'!J9,'T5.1 Invest'!J9,\"\")","v":""},"Auswahlfeld","Text kurz und aussagekräftig"]
[{"$nulls":5},"(n)","(n-1)","(n-2)","(n-3)","(n-4)","(n)","(n-1)","(n-2)","(n-3)","(n-4)"]
[]
["1. Planung der Produktion",null,"Nationale Strategie Nr. 3.2.4.2",null,null,{"$f":"SUM(F13:F19)","v":0},0,0,0,0,{"v":0,"d":"0.00"},{"v":0,"d":"0.00"},{"v":0,"d":"0.00"},{"v":0,"d":"0.00"},{"v":0,"d":"0.00"}]
[null,1,{"$nulls":3},0,0,0,0,0,{"v":0,"d":"0.00"},{"v":0,"d":"0.00"},{"v":0,"d":"0.00"},{"v":0,"d":"0.00"},{"v":0,"d":"0.00"}]
[null,2,{"$nulls":3},0,0,0,0,0,{"v":0,"d":"0.00"},{"v":0,"d":"0.00"},{"v":0,"d":"0.00"},{"v":0,"d":"0.00"},{"v":0,"d":"0.00"}]
[null,3,{"$nulls":3},0,0,0,0,0,{"v":0,"d":"0.00"},{"v":0,"d":"0.00"},{"v":0,"d":"0.00"},{"v":0,"d":"0.00"},{"v":0,"d":"0.00"}]
[null,4,{"$nulls":3},0,0,0,0,0,{"v":0,"d":"0.00"},{"v":0,"d":"0.00"},{"v":0,"d":"0.00"},{"v":0,"d":"0.00"},{"v":0,"d":"0.00"}]
[null,5,{"$nulls":3},0,0,0,0,0,{"v":0,"d":"0.00"},{"v":0,"d":"0.00"},{"v":0,"d":"0.00"},{"v":0,"d":"0.00"},{"v":0,"d":"0.00"}]
[]
[]
["2. Verbesserung der Qualität der Erzeugnisse",null,"Nationale Strategie Nr. 3.2.4.2",null,null,{"$f":"SUM(F21:F27)","v":0},{"$f":"SUM(G21:G27)","v":0},{"$f":"SUM(H21:H27)","v":0},{"$f":"SUM(I21:I27)","v":0},{"$f":"SUM(J21:J27)","v":0},{"$f":"SUM(K21:K27)","v":{"v":0,"d":"0.00"}},{"$f":"SUM(L21:L27)","v":{"v":0,"d":"0.00"}},{"v":0,"d":"0.00"},{"v":0,"d":"0.00"},{"v":0,"d":"0.00"}]
[null,1,{"$nulls":3},0,0,0,0,0,{"v":0,"d":"0.00"},{"v":0,"d":"0.00"},{"v":0,"d":"0.00"},{"v":0,"d":"0.00"},{"v":0,"d":"0.00"}]
[null,2,{"$nulls":3},0,0,0,0,0,{"v":0,"d":"0.00"},{"v":0,"d":"0.00"},{"v":0,"d":"0.00"},{"v":0,"d":"0.00"},{"v":0,"d":"0.00"}]
[null,3,{"$nulls":3},0,0,0,0,0,{"v":0,"d":"0.00"},{"v":0,"d":"0.00"},{"v":0,"d":"0.00"},{"v":0,"d":"0.00"},{"v":0,"d":"0.00"}]
[null,4,{"$nulls":3},0,0,0,0,0,{"v":0,"d":"0.00"},{"v":0,"d":"0.00"},{"v":0,"d":"0.00"},{"v":0,"d":"0.00"},{"v":0,"d":"0.00"}]
[null,5,{"$nulls":3},0,0,0,0,0,{"v":0,"d":"0.00"},{"v":0,"d":"0.00"},{"v":0,"d":"0.00"},{"v":0,"d":"0.00"},{"v":0,"d":"0.00"}]
[]
[]
["3. Steigerung des Vermarktungswerts der Erzeugnisse",null,"Nationale Strategie Nr. 3.2.4.2",null,null,{"$f":"SUM(F29:F35)","v":0},{"$f":"SUM(G29:G35)","v":0},{"$f":"SUM(H29:H35)","v":0},{"$f":"SUM(I29:I35)","v":0},{"$f":"SUM(J29:J35)","v":0},{"$f":"SUM(K29:K35)","v":{"v":0,"d":"0.00"}},{"$f":"SUM(L29:L35)","v":{"v":0,"d":"0.00"}},{"v":0,"d":"0.00"},{"v":0,"d":"0.00"},{"v":0,"d":"0.00"}]
[null,1,{"$nulls":3},0,0,0,0,0,{"v":0,"d":"0.00"},{"v":0,"d":"0.00"},{"v":0,"d":"0.00"},{"v":0,"d":"0.00"},{"v":0,"d":"0.00"}]
[null,2,{"$nulls":3},0,0,0,0,0,{"v":0,"d":"0.00"},{"v":0,"d":"0.00"},{"v":0,"d":"0.00"},{"v":0,"d":"0.00"},{"v":0,"d":"0.00"}]
[null,3,{"$nulls":3},0,0,0,0,0,{"v":0,"d":"0.00"},{"v":0,"d":"0.00"},{"v":0,"d":"0.00"},{"v":0,"d":"0.00"},{"v":0,"d":"0.00"}]
[null,4,{"$nulls":3},0,0,0,0,0,{"v":0,"d":"0.00"},{"v":0,"d":"0.00"},{"v":0,"d":"0.00"},{"v":0,"d":"0.00"},{"v":0,"d":"0.00"}]
[null,5,{"$nulls":3},0,0,0,0,0,{"v":0,"d":"0.00"},{"v":0,"d":"0.00"},{"v":0,"d":"0.00"},{"v":0,"d":"0.00"},{"v":0,"d":"0.00"}]
[]
[]
["5. Umweltmaßnahmen",null,"Nationale Strategie Nr. 3.2.4.2, Anhang 4",null,null,{"$f":"SUM(F37:F43)","v":0},{"$f":"SUM(G37:G43)","v":0},{"$f":"SUM(H37:H43)","v":0},{"$f":"SUM(I37:I43)","v":0},{"$f":"SUM(J37:J43)","v":0},{"$f":"SUM(K37:K43)","v":{"v":0,"d":"0.00"}},{"$f":"SUM(L37:L43)","v":{"v":0,"d":"0.00"}},{"v":0,"d":"0.00"},{"v":0,"d":"0.00"},{"v":0,"d":"0.00"}]
[null,1,{"$nulls":3},0,0,0,0,0,{"v":0,"d":"0.00"},{"v":0,"d":"0.00"},{"v":0,"d":"0.00"},{"v":0,"d":"0.00"},{"v":0,"d":"0.00"}]
[null,2,{"$nulls":3},0,0,0,0,0,{"v":0,"d":"0.00"},{"v":0,"d":"0.00"},{"v":0,"d":"0.00"},{"v":0,"d":"0.00"},{"v":0,"d":"0.00"}]
[null,3,{"$nulls":3},0,0,0,0,0,{"v":0,"d":"0.00"},{"v":0,"d":"0.00"},{"v":0,"d":"0.00"},{"v":0,"d":"0.00"},{"v":0,"d":"0.00"}]
[null,4,{"$nulls":3},0,0,0,0,0,{"v":0,"d":"0.00"},{"v":0,"d":"0.00"},{"v":0,"d":"0.00"},{"v":0,"d":"0.00"},{"v":0,"d":"0.00"}]
[null,5,{"$nulls":3},0,0,0,0,0,{"v":0,"d":"0.00"},{"v":0,"d":"0.00"},{"v":0,"d":"0.00"},{"v":0,"d":"0.00"},{"v":0,"d":"0.00"}]
[]
[]
[]
[{"$nulls":4},"Summe:",{"$f":"SUM(F12,F20,F28,F36,)","v":0},0,0,0,0,{"v":0,"d":"0.00"},{"v":0,"d":"0.00"},{"v":0,"d":"0.00"},{"v":0,"d":"0.00"},{"v":0,"d":"0.00"}]
[]
["Erläuterungen der EU-KOM  in deutscher Fassung vom 09.10.2019"]
["(*) Zahl der Betriebe","Zahl der Betriebe, denen die Investition zugutekommt."]
[null,"Wird die Investition gemeinsam getätigt, ist hier die Zahl aller beteiligten Betriebe anzugeben."]
[null,"Wird die Investition auf Ebene der EO getätigt, ist hier die Zahl aller der EO und deren Mitgliedern angeschlossenen Betriebe anzugeben."]
[null,"KOM 21.11.18: Doppelzählungen, aufgrund mehrerer Aktionen eines Betriebes sind zulässig."]
["(**) Gesamtwert:","Wert der Investitionen im Zusammenhang mit jeder Aktion/Maßnahme und jedem Ziel. Dieser Wert muss dem Gesamtwert der Investitionen für die einzelnen in Tabelle 3.2 gemeldeten Aktionen/Maßnahmen entsprechen."]

{"sheet":"T5.3 Quali","index":8,"n_rows":32,"n_cols":24,"rows_kept":32,"merged":[[6,0,9,0],[6,1,6,2],[6,3,7,3],[6,4,7,4],[6,5,6,21],[6,22,6,23],[7,1,7,2],[7,5,7,9],[7,10,7,14],[7,15,7,21],[8,1,9,1],[8,2,9,2],[8,3,9,3],[8,4,9,4],[8,15,9,15],[8,16,9,16],[8,22,9,22],[8,23,9,23],[22,15,24,21],[27,1,27,4],[30,0,30,4]]}
[]
["Name der EO / LEO ",null,{"$f":"Name_der_EO_LEO","v":"Name_der_EO_LEO"},"Berichtsjahr ",{"$f":"Berichtsjahr","v":"2020"},{"$nulls":5},"Ausfüllen","Formel","keine Angaben",{"$nulls":8},"Tabelle 5.3",null,"Tabelle 5.3"]
[]
["EO- / LEO-Code ",null,{"$f":"EO_Code","v":"DE XXXX"}]
[]
["Tabelle 5.3: Qualitätsregelungen (EU und Mitgliedstaaten) (2) und Maßnahmen zur Qualitätsverbesserung"]
["Ziele\nArt. 33 (1) + (3) und\n152 (1) (c) \nder VO (EU) Nr. 1308/2013","A)\nBenennung der durchgeführten Aktionen",null,"B)\nmit der jeweiligen Aktion verfolgtes, wichtigstes Ziel\ngem. nationaler Strategie","C)\nErläuterung, wie das Ziel erreicht werden soll","D) Indikatoren\nzahlungsrelevanten Daten für OP-Jahre vor dem Berichtsjahr",{"$nulls":16},"E) Änderungen-OP"]
[null,"(ggf. weitere Zeilen einfügen und die Anzahl bei durchgeführten Aktionen fortlaufend eintragen)",{"$nulls":3},"Zahl der Betriebe (*)",{"$nulls":4},"Gesamtwert (**)\nin €",{"$nulls":4},"weitere lt. Tabelle 4",{"$nulls":6},"Abbruch / Aufnahme Aktion","Begründung bzw. Problemdarstellung"]
[null,"An-zahl","eine Aktion = eine Zeile","Auswahlfeld","Text kurz und aussagekräftig",{"$f":"Berichtsjahr","v":"2020"},{"$f":"IF('T5.1 Invest'!G9,'T5.1 Invest'!G9,\"\")","v":""},{"$f":"IF('T5.1 Invest'!H9,'T5.1 Invest'!H9,\"\")","v":""},{"$f":"IF('T5.1 Invest'!I9,'T5.1 Invest'!I9,\"\")","v":""},{"$f":"IF('T5.1 Invest'!J9,'T5.1 Invest'!J9,\"\")","v":""},{"$f":"Berichtsjahr","v":"2020"},{"$f":"IF('T5.1 Invest'!G9,'T5.1 Invest'!G9,\"\")","v":""},{"$f":"IF('T5.1 Invest'!H9,'T5.1 Invest'!H9,\"\")","v":""},{"$f":"IF('T5.1 Invest'!I9,'T5.1 Invest'!I9,\"\")","v":""},{"$f":"IF('T5.1 Invest'!J9,'T5.1 Invest'!J9,\"\")","v":""},"Indi-kator","Maß-einheit",{"$f":"Berichtsjahr","v":"2020"},{"$f":"IF('T5.1 Invest'!G9,'T5.1 Invest'!G9,\"\")","v":""},{"$f":"IF('T5.1 Invest'!H9,'T5.1 Invest'!H9,\"\")","v":""},{"$f":"IF('T5.1 Invest'!I9,'T5.1 Invest'!I9,\"\")","v":""},{"$f":"IF('T5.1 Invest'!J9,'T5.1 Invest'!J9,\"\")","v":""},"Auswahlfeld","Text kurz und aussagekräftig"]
[{"$nulls":5},"(n)","(n-1)","(n-2)","(n-3)","(n-4)","(n)","(n-1)","(n-2)","(n-3)","(n-4)",null,null,"(n)","(n-1)","(n-2)","(n-3)","(n-4)"]
[]
["2. Verbesserung der Qualität der Erzeugnisse",null,"Nationale Strategie Nr. 3.2.2.2",null,null,{"$f":"SUM(F13:F19)","v":0},0,0,0,0,{"v":0,"d":"0.00"},{"v":0,"d":"0.00"},{"v":0,"d":"0.00"},{"v":0,"d":"0.00"},{"v":0,"d":"0.00"},"Fläche (3)","ha",{"$f":"SUM(R16:R19)","v":{"v":0,"d":"0.000"}},{"$f":"SUM(S16:S19)","v":{"v":0,"d":"0.000"}},{"$f":"SUM(T16:T19)","v":{"v":0,"d":"0.000"}},{"$f":"SUM(U16:U19)","v":{"v":0,"d":"0.000"}},{"$f":"SUM(V16:V19)","v":{"v":0,"d":"0.000"}}]
[null,null,"geschützte Ursprungsbezeichnungen",null,null,0,0,0,0,0,{"v":0,"d":"0.00"},{"v":0,"d":"0.00"},{"v":0,"d":"0.00"},{"v":0,"d":"0.00"},{"v":0,"d":"0.00"},null,"ha",{"v":0,"d":"0.000"},{"v":0,"d":"0.000"},{"v":0,"d":"0.000"},{"v":0,"d":"0.000"},{"v":0,"d":"0.000"}]
[null,null,"geschützte geographische Angaben",null,null,0,0,0,0,0,{"v":0,"d":"0.00"},{"v":0,"d":"0.00"},{"v":0,"d":"0.00"},{"v":0,"d":"0.00"},{"v":0,"d":"0.00"},null,"ha",{"v":0,"d":"0.000"},{"v":0,"d":"0.000"},{"v":0,"d":"0.000"},{"v":0,"d":"0.000"},{"v":0,"d":"0.000"}]
[null,null,"garantiert traditionelle Spezialitäten",null,null,0,0,0,0,0,{"v":0,"d":"0.00"},{"v":0,"d":"0.00"},{"v":0,"d":"0.00"},{"v":0,"d":"0.00"},{"v":0,"d":"0.00"},null,"ha",{"v":0,"d":"0.000"},{"v":0,"d":"0.000"},{"v":0,"d":"0.000"},{"v":0,"d":"0.000"},{"v":0,"d":"0.000"}]
[" - andere Aktionen -",{"$nulls":4},0,0,0,0,0,{"v":0,"d":"0.00"},{"v":0,"d":"0.00"},{"v":0,"d":"0.00"},{"v":0,"d":"0.00"},{"v":0,"d":"0.00"},null,"ha",{"v":0,"d":"0.000"},{"v":0,"d":"0.000"},{"v":0,"d":"0.000"},{"v":0,"d":"0.000"},{"v":0,"d":"0.000"}]
[{"$nulls":5},0,0,0,0,0,{"v":0,"d":"0.00"},{"v":0,"d":"0.00"},{"v":0,"d":"0.00"},{"v":0,"d":"0.00"},{"v":0,"d":"0.00"},null,"ha",{"v":0,"d":"0.000"},{"v":0,"d":"0.000"},{"v":0,"d":"0.000"},{"v":0,"d":"0.000"},{"v":0,"d":"0.000"}]
[]
[]
[]
[{"$nulls":4},"Summe:",{"$f":"SUM(F12)","v":0},0,0,0,0,{"v":0,"d":"0.00"},{"v":0,"d":"0.00"},{"v":0,"d":"0.00"},{"v":0,"d":"0.00"},{"v":0,"d":"0.00"},null,null,{"$f":"SUM(R13:R19)","v":{"v":0,"d":"0.00"}},{"$f":"SUM(S13:S19)","v":{"v":0,"d":"0.00"}},{"v":0,"d":"0.00"},{"v":0,"d":"0.00"},{"v":0,"d":"0.00"}]
[]
["Erläuterungen der EU-KOM  in deutscher Fassung vom 09.10.2019",{"$nulls":14},"damit in Tabelle 4 die Menge (in Tonnen) aus Qualitätssicherungssystemen gefüllt werden kann, erfolgt die Angabe in Tabelle 6.1 zum Umweltziel des nationalen Rahmens Nr. 3"]
["(*) Zahl der Betriebe","Zahl der Betriebe, denen die Investition zugutekommt."]
[null,"Wird die Investition gemeinsam getätigt, ist hier die Zahl aller beteiligten Betriebe anzugeben."]
[null,"Wird die Investition auf Ebene der EO getätigt, ist hier die Zahl aller der EO und deren Mitgliedern angeschlossenen Betriebe anzugeben."]
[null,"KOM 21.11.18: Doppelzählungen, aufgrund mehrerer Aktionen eines Betriebes sind zulässig."]
["(**) Gesamtwert:","Wert der Investitionen im Zusammenhang mit jeder Aktion/Maßnahme und jedem Ziel. Dieser Wert muss dem Gesamtwert der Investitionen für die einzelnen in Tabelle 3.2 gemeldeten Aktionen/Maßnahmen entsprechen."]
[]
["Fußnoten gem. DVO (EU) 2017/892, Anhang II geändert mit DVO (EU) 2018/1146"]
["(2) EU-Qualitätsregelungen sind als eine Reihe präziser Verpflichtungen in Bezug auf die Produktionsmethoden zu verstehen, \na) deren Einhaltung von einer unabhängigen Kontrollstelle überprüft wird und \nb) die ein Endprodukt gewährleisten, dessen Qualität\n     i) in Bezug auf Gesundheits-, Pflanzengesundheits- und Umweltnormen weit über die gängigen Handelsnormen hinausgeht, und\n     ii) den gegenwärtigen und absehbaren Absatzmöglichkeiten gerecht wird. \nEs wird vorgeschlagen, dass die wichtigsten Arten von ‚Qualitätssicherungssystemen‘ Folgendes abdecken sollten: \na) den zertifizierten ökologischen Landbau; \nb) geschützte geografische Angaben und geschützte Ursprungsbezeichnungen, \nc) den zertifizierten integrierten Landbau, \nd) private zertifizierte Qualitätssicherungssysteme."]
["(3) Fläche der g.U./g.g.A./g.t.S (in ha) - Geschützte Ursprungsbezeichnungen / geschützte geografische Angaben / garantiert traditionelle Spezialitäten "]

{"sheet":"T5.4 Abs+Kom","index":9,"n_rows":49,"n_cols":24,"rows_kept":49,"merged":[[6,0,9,0],[6,1,6,2],[6,3,7,3],[6,4,7,4],[6,5,6,21],[6,22,6,23],[7,1,7,2],[7,5,7,9],[7,10,7,14],[7,15,7,21],[8,1,9,1],[8,2,9,2],[8,3,9,3],[8,4,9,4],[8,15,9,15],[8,16,9,16],[8,22,9,22],[8,23,9,23],[43,1,43,4],[44,1,44,4]]}
[]
["Name der EO / LEO ",null,{"$f":"Name_der_EO_LEO","v":"Name_der_EO_LEO"},"Berichtsjahr ",{"$f":"Berichtsjahr","v":"2020"},{"$nulls":5},"Ausfüllen","Formel","keine Angaben",{"$nulls":8},"Tabelle 5.4",null,"Tabelle 5.4"]
[]
["EO- / LEO-Code ",null,{"$f":"EO_Code","v":"DE XXXX"}]
[]
["Tabelle 5.4: Absatzförderung und Kommunikation (4)"]
["Ziele\nArt. 33 (1) + (3) und\n152 (1) (c) \nder VO (EU) Nr. 1308/2013","A)\nBenennung der durchgeführten Aktionen",null,"B)\nmit der jeweiligen Aktion verfolgtes, wichtigstes Ziel\ngem. nationaler Strategie","C)\nErläuterung, wie das Ziel erreicht werden soll","D) Indikatoren\nzahlungsrelevanten Daten für OP-Jahre vor dem Berichtsjahr",{"$nulls":16},"E) Änderungen-OP"]
[null,"(ggf. direkt unter Aktion 5 weitere Zeilen einfügen \nund die Anzahl fortlaufend ergänzen)",{"$nulls":3},"Zahl der Betriebe (*)",{"$nulls":4},"Gesamtwert (**)\nin €",{"$nulls":4},"weitere lt. Tabelle 4",{"$nulls":6},"Abbruch / Aufnahme Aktion","Begründung bzw. Problemdarstellung"]
[null,"An-zahl","eine Aktion = eine Zeile","Auswahlfeld","Text kurz und aussagekräftig",{"$f":"Berichtsjahr","v":"2020"},{"$f":"IF('T5.1 Invest'!G9,'T5.1 Invest'!G9,\"\")","v":""},{"$f":"IF('T5.1 Invest'!H9,'T5.1 Invest'!H9,\"\")","v":""},{"$f":"IF('T5.1 Invest'!I9,'T5.1 Invest'!I9,\"\")","v":""},{"$f":"IF('T5.1 Invest'!J9,'T5.1 Invest'!J9,\"\")","v":""},{"$f":"Berichtsjahr","v":"2020"},{"$f":"IF('T5.1 Invest'!G9,'T5.1 Invest'!G9,\"\")","v":""},{"$f":"IF('T5.1 Invest'!H9,'T5.1 Invest'!H9,\"\")","v":""},{"$f":"IF('T5.1 Invest'!I9,'T5.1 Invest'!I9,\"\")","v":""},{"$f":"IF('T5.1 Invest'!J9,'T5.1 Invest'!J9,\"\")","v":""},"Indikator","Maß-einheit",{"$f":"Berichtsjahr","v":"2020"},{"$f":"IF('T5.1 Invest'!G9,'T5.1 Invest'!G9,\"\")","v":""},{"$f":"IF('T5.1 Invest'!H9,'T5.1 Invest'!H9,\"\")","v":""},{"$f":"IF('T5.1 Invest'!I9,'T5.1 Invest'!I9,\"\")","v":""},{"$f":"IF('T5.1 Invest'!J9,'T5.1 Invest'!J9,\"\")","v":""},"Auswahlfeld","Text kurz und aussagekräftig"]
[{"$nulls":5},"(n)","(n-1)","(n-2)","(n-3)","(n-4)","(n)","(n-1)","(n-2)","(n-3)","(n-4)",null,null,"(n)","(n-1)","(n-2)","(n-3)","(n-4)"]
[]
["3. Steigerung des Vermarktungswerts der Erzeugnisse",null,"Nationale Strategie Nr. 3.2.3.2 ",null,null,{"$f":"SUM(F13:F19)","v":0},0,0,0,0,{"v":0,"d":"0.00"},{"v":0,"d":"0.00"},{"v":0,"d":"0.00"},{"v":0,"d":"0.00"},{"v":0,"d":"0.00"},"Kampag-nen zur Absatz-förderung","Zahl (4)",{"$f":"SUM(R13:R19)","v":{"v":0,"d":"0.0"}},{"$f":"SUM(S13:S19)","v":{"v":0,"d":"0.0"}},{"$f":"SUM(T13:T19)","v":{"v":0,"d":"0.0"}},{"$f":"SUM(U13:U19)","v":{"v":0,"d":"0.0"}},{"$f":"SUM(V13:V19)","v":{"v":0,"d":"0.0"}}]
[null,1,{"$nulls":3},0,0,0,0,0,{"v":0,"d":"0.00"},{"v":0,"d":"0.00"},{"v":0,"d":"0.00"},{"v":0,"d":"0.00"},{"v":0,"d":"0.00"},null,"Tage",{"v":0,"d":"0.0"},{"v":0,"d":"0.0"},{"v":0,"d":"0.0"},{"v":0,"d":"0.0"},{"v":0,"d":"0.0"}]
[null,2,{"$nulls":3},0,0,0,0,0,{"v":0,"d":"0.00"},{"v":0,"d":"0.00"},{"v":0,"d":"0.00"},{"v":0,"d":"0.00"},{"v":0,"d":"0.00"},null,"Tage",{"v":0,"d":"0.0"},{"v":0,"d":"0.0"},{"v":0,"d":"0.0"},{"v":0,"d":"0.0"},{"v":0,"d":"0.0"}]
[null,3,{"$nulls":3},0,0,0,0,0,{"v":0,"d":"0.00"},{"v":0,"d":"0.00"},{"v":0,"d":"0.00"},{"v":0,"d":"0.00"},{"v":0,"d":"0.00"},null,"Tage",{"v":0,"d":"0.0"},{"v":0,"d":"0.0"},{"v":0,"d":"0.0"},{"v":0,"d":"0.0"},{"v":0,"d":"0.0"}]
[null,4,{"$nulls":3},0,0,0,0,0,{"v":0,"d":"0.00"},{"v":0,"d":"0.00"},{"v":0,"d":"0.00"},{"v":0,"d":"0.00"},{"v":0,"d":"0.00"},null,"Tage",{"v":0,"d":"0.0"},{"v":0,"d":"0.0"},{"v":0,"d":"0.0"},{"v":0,"d":"0.0"},{"v":0,"d":"0.0"}]
[null,5,{"$nulls":3},0,0,0,0,0,{"v":0,"d":"0.00"},{"v":0,"d":"0.00"},{"v":0,"d":"0.00"},{"v":0,"d":"0.00"},{"v":0,"d":"0.00"},null,"Tage",{"v":0,"d":"0.0"},{"v":0,"d":"0.0"},{"v":0,"d":"0.0"},{"v":0,"d":"0.0"},{"v":0,"d":"0.0"}]
[]
[]
["4. Förderung des Absatzes der Erzeugnisse",null,"Nationale Strategie Nr. 3.2.3.2",null,null,{"$f":"SUM(F21:F27)","v":0},0,0,0,0,{"v":0,"d":"0.00"},{"v":0,"d":"0.00"},{"v":0,"d":"0.00"},{"v":0,"d":"0.00"},{"v":0,"d":"0.00"},"Kampag-nen zur Absatz-förderung","Zahl (4)",{"$f":"SUM(R21:R27)","v":{"v":0,"d":"0.0"}},{"$f":"SUM(S21:S27)","v":{"v":0,"d":"0.0"}},{"$f":"SUM(T21:T27)","v":{"v":0,"d":"0.0"}},{"$f":"SUM(U21:U27)","v":{"v":0,"d":"0.0"}},{"$f":"SUM(V21:V27)","v":{"v":0,"d":"0.0"}}]
[null,1,{"$nulls":3},0,0,0,0,0,{"v":0,"d":"0.00"},{"v":0,"d":"0.00"},{"v":0,"d":"0.00"},{"v":0,"d":"0.00"},{"v":0,"d":"0.00"},null,"Tage",{"v":0,"d":"0.0"},{"v":0,"d":"0.0"},{"v":0,"d":"0.0"},{"v":0,"d":"0.0"},{"v":0,"d":"0.0"}]
[null,2,{"$nulls":3},0,0,0,0,0,{"v":0,"d":"0.00"},{"v":0,"d":"0.00"},{"v":0,"d":"0.00"},{"v":0,"d":"0.00"},{"v":0,"d":"0.00"},null,"Tage",{"v":0,"d":"0.0"},{"v":0,"d":"0.0"},{"v":0,"d":"0.0"},{"v":0,"d":"0.0"},{"v":0,"d":"0.0"}]
[null,3,{"$nulls":3},0,0,0,0,0,{"v":0,"d":"0.00"},{"v":0,"d":"0.00"},{"v":0,"d":"0.00"},{"v":0,"d":"0.00"},{"v":0,"d":"0.00"},null,"Tage",{"v":0,"d":"0.0"},{"v":0,"d":"0.0"},{"v":0,"d":"0.0"},{"v":0,"d":"0.0"},{"v":0,"d":"0.0"}]
[null,4,{"$nulls":3},0,0,0,0,0,{"v":0,"d":"0.00"},{"v":0,"d":"0.00"},{"v":0,"d":"0.00"},{"v":0,"d":"0.00"},{"v":0,"d":"0.00"},null,"Tage",{"v":0,"d":"0.0"},{"v":0,"d":"0.0"},{"v":0,"d":"0.0"},{"v":0,"d":"0.0"},{"v":0,"d":"0.0"}]
[null,5,{"$nulls":3},0,0,0,0,0,{"v":0,"d":"0.00"},{"v":0,"d":"0.00"},{"v":0,"d":"0.00"},{"v":0,"d":"0.00"},{"v":0,"d":"0.00"},null,"Tage",{"v":0,"d":"0.0"},{"v":0,"d":"0.0"},{"v":0,"d":"0.0"},{"v":0,"d":"0.0"},{"v":0,"d":"0.0"}]
[]
[]
["6. Krisenprävention und Krisenmanagement",null,"Nationale Strategie Nr. 3.2.6",null,null,{"$f":"SUM(F29:F35)","v":0},0,0,0,0,{"v":0,"d":"0.00"},{"v":0,"d":"0.00"},{"v":0,"d":"0.00"},{"v":0,"d":"0.00"},{"v":0,"d":"0.00"},"Kampag-nen zur Absatz-förderung","Zahl (4)",{"$f":"SUM(R29:R35)","v":{"v":0,"d":"0.0"}},{"$f":"SUM(S29:S35)","v":{"v":0,"d":"0.0"}},{"$f":"SUM(T29:T35)","v":{"v":0,"d":"0.0"}},{"$f":"SUM(U29:U35)","v":{"v":0,"d":"0.0"}},{"$f":"SUM(V29:V35)","v":{"v":0,"d":"0.0"}}]
[null,1,{"$nulls":3},0,0,0,0,0,{"v":0,"d":"0.00"},{"v":0,"d":"0.00"},{"v":0,"d":"0.00"},{"v":0,"d":"0.00"},{"v":0,"d":"0.00"},null,"Tage",{"v":0,"d":"0.0"},{"v":0,"d":"0.0"},{"v":0,"d":"0.0"},{"v":0,"d":"0.0"},{"v":0,"d":"0.0"}]
[null,2,{"$nulls":3},0,0,0,0,0,{"v":0,"d":"0.00"},{"v":0,"d":"0.00"},{"v":0,"d":"0.00"},{"v":0,"d":"0.00"},{"v":0,"d":"0.00"},null,"Tage",{"v":0,"d":"0.0"},{"v":0,"d":"0.0"},{"v":0,"d":"0.0"},{"v":0,"d":"0.0"},{"v":0,"d":"0.0"}]
[null,3,{"$nulls":3},0,0,0,0,0,{"v":0,"d":"0.00"},{"v":0,"d":"0.00"},{"v":0,"d":"0.00"},{"v":0,"d":"0.00"},{"v":0,"d":"0.00"},null,"Tage",{"v":0,"d":"0.0"},{"v":0,"d":"0.0"},{"v":0,"d":"0.0"},{"v":0,"d":"0.0"},{"v":0,"d":"0.0"}]
[null,4,{"$nulls":3},0,0,0,0,0,{"v":0,"d":"0.00"},{"v":0,"d":"0.00"},{"v":0,"d":"0.00"},{"v":0,"d":"0.00"},{"v":0,"d":"0.00"},null,"Tage",{"v":0,"d":"0.0"},{"v":0,"d":"0.0"},{"v":0,"d":"0.0"},{"v":0,"d":"0.0"},{"v":0,"d":"0.0"}]
[null,5,{"$nulls":3},0,0,0,0,0,{"v":0,"d":"0.00"},{"v":0,"d":"0.00"},{"v":0,"d":"0.00"},{"v":0,"d":"0.00"},{"v":0,"d":"0.00"},null,"Tage",{"v":0,"d":"0.0"},{"v":0,"d":"0.0"},{"v":0,"d":"0.0"},{"v":0,"d":"0.0"},{"v":0,"d":"0.0"}]
[]
[]
[]
[{"$nulls":4},"Summe:",{"$f":"SUM(F12,F20,F28,)","v":0},0,0,0,0,{"v":0,"d":"0.00"},{"v":0,"d":"0.00"},{"v":0,"d":"0.00"},{"v":0,"d":"0.00"},{"v":0,"d":"0.00"},null,null,{"$f":"SUM(R12,R20,R28,)","v":{"v":0,"d":"0.00"}},{"$f":"SUM(S12,S20,S28,)","v":{"v":0,"d":"0.00"}},{"$f":"SUM(T12,T20,T28,)","v":{"v":0,"d":"0.00"}},{"$f":"SUM(U12,U20,U28,)","v":{"v":0,"d":"0.00"}},{"$f":"SUM(V12,V20,V28,)","v":{"v":0,"d":"0.00"}}]
[]
["Erläuterungen der EU-KOM  in deutscher Fassung vom 09.10.2019"]
["(*) Zahl der Betriebe","Zahl der Betriebe, denen die Investition zugutekommt."]
[null,"Wird die Investition gemeinsam getätigt, ist hier die Zahl aller beteiligten Betriebe anzugeben."]
[null,"Wird die Investition auf Ebene der EO getätigt, ist hier die Zahl aller der EO und deren Mitgliedern angeschlossenen Betriebe anzugeben."]
[null,"KOM 21.11.18: Doppelzählungen, aufgrund mehrerer Aktionen eines Betriebes sind zulässig."]
[null,"Absatzförderungsmaßnahmen und Kampagnen werden in der Regel auf Ebene der EO durchgeführt. In diesem Fall ist hier die Zahl aller der EO und deren Mitgliedern angeschlossenen Betriebe anzugeben."]
["(**) Gesamtwert:","Wert der Investitionen im Zusammenhang mit jeder Aktion/Maßnahme und jedem Ziel. Dieser Wert muss dem Gesamtwert der Investitionen für die einzelnen in Tabelle 3.2 gemeldeten Aktionen/Maßnahmen entsprechen."]
[]
["Fußnoten gem. DVO (EU) 2017/892, Anhang II geändert mit DVO (EU) 2018/1146"]
["(4) Jeder Tag einer Absatzförderungs- / Kommunikationskampagne zählt als eine Aktion."]
["     Hinweis: entspricht jedoch nicht der Anzahl der Aktionen in Spalte A)"]

{"sheet":"T5.5 Bild","index":10,"n_rows":61,"n_cols":24,"rows_kept":61,"merged":[[6,0,9,0],[6,1,6,2],[6,3,7,3],[6,4,7,4],[6,5,6,21],[6,22,6,23],[7,1,7,2],[7,5,7,9],[7,10,7,14],[7,15,7,21],[8,1,9,1],[8,2,9,2],[8,3,9,3],[8,4,9,4],[8,15,9,15],[8,16,9,16],[8,22,9,22],[8,23,9,23],[59,1,59,4],[60,1,60,4]]}
[]
["Name der EO / LEO ",null,{"$f":"Name_der_EO_LEO","v":"Name_der_EO_LEO"},"Berichtsjahr ",{"$f":"Berichtsjahr","v":"2020"},{"$nulls":5},"Ausfüllen","Formel","keine Angaben",{"$nulls":8},"Tabelle 5.5",null,"Tabelle 5.5"]
[]
["EO- / LEO-Code ",null,{"$f":"EO_Code","v":"DE XXXX"}]
[]
["Tabelle 5.5: Aus- und Weiterbildung und Austausch über bewährte Verfahren"]
["Ziele\nArt. 33 (1) + (3) und\n152 (1) (c) \nder VO (EU) Nr. 1308/2013","A)\nBenennung der durchgeführten Aktionen",null,"B)\nmit der jeweiligen Aktion verfolgtes, wichtigstes Ziel\ngem. nationaler Strategie","C)\nErläuterung, wie das Ziel erreicht werden soll","D) Indikatoren\nzahlungsrelevanten Daten für OP-Jahre vor dem Berichtsjahr",{"$nulls":16},"E) Änderungen-OP"]
[null,"(ggf. direkt unter Aktion 5 weitere Zeilen einfügen \nund die Anzahl fortlaufend ergänzen)",{"$nulls":3},"Zahl der Betriebe (*)",{"$nulls":4},"Gesamtwert (**)\nin €",{"$nulls":4},"weitere lt. Tabelle 4",{"$nulls":6},"Abbruch / Aufnahme Aktion","Begründung bzw. Problemdarstellung"]
[null,"An-zahl","eine Aktion = eine Zeile","Auswahlfeld","Text kurz und aussagekräftig",{"$f":"Berichtsjahr","v":"2020"},{"$f":"IF('T5.1 Invest'!G9,'T5.1 Invest'!G9,\"\")","v":""},{"$f":"IF('T5.1 Invest'!H9,'T5.1 Invest'!H9,\"\")","v":""},{"$f":"IF('T5.1 Invest'!I9,'T5.1 Invest'!I9,\"\")","v":""},{"$f":"IF('T5.1 Invest'!J9,'T5.1 Invest'!J9,\"\")","v":""},{"$f":"Berichtsjahr","v":"2020"},{"$f":"IF('T5.1 Invest'!G9,'T5.1 Invest'!G9,\"\")","v":""},{"$f":"IF('T5.1 Invest'!H9,'T5.1 Invest'!H9,\"\")","v":""},{"$f":"IF('T5.1 Invest'!I9,'T5.1 Invest'!I9,\"\")","v":""},{"$f":"IF('T5.1 Invest'!J9,'T5.1 Invest'!J9,\"\")","v":""},"Indikator","Maß-einheit",{"$f":"Berichtsjahr","v":"2020"},{"$f":"IF('T5.1 Invest'!G9,'T5.1 Invest'!G9,\"\")","v":""},{"$f":"IF('T5.1 Invest'!H9,'T5.1 Invest'!H9,\"\")","v":""},{"$f":"IF('T5.1 Invest'!I9,'T5.1 Invest'!I9,\"\")","v":""},{"$f":"IF('T5.1 Invest'!J9,'T5.1 Invest'!J9,\"\")","v":""},"Auswahlfeld","Text kurz und aussagekräftig"]
[{"$nulls":5},"(n)","(n-1)","(n-2)","(n-3)","(n-4)","(n)","(n-1)","(n-2)","(n-3)","(n-4)",null,null,"(n)","(n-1)","(n-2)","(n-3)","(n-4)"]
[]
["1. Planung der Produktion",null,"Nationale Strategie Nr. 3.2.5 und 3.2.1.1",null,null,{"$f":"SUM(F13:F19)","v":0},0,0,0,0,{"v":0,"d":"0.00"},{"v":0,"d":"0.00"},{"v":0,"d":"0.00"},{"v":0,"d":"0.00"},{"v":0,"d":"0.00"},"Zahl der Aktionen","(***)",{"$f":"SUM(R13:R19)","v":{"v":0,"d":"0.0"}},{"$f":"SUM(S13:S19)","v":{"v":0,"d":"0.0"}},{"$f":"SUM(T13:T19)","v":{"v":0,"d":"0.0"}},{"$f":"SUM(U13:U19)","v":{"v":0,"d":"0.0"}},{"$f":"SUM(V13:V19)","v":{"v":0,"d":"0.0"}}]
[null,1,{"$nulls":3},0,0,0,0,0,{"v":0,"d":"0.00"},{"v":0,"d":"0.00"},{"v":0,"d":"0.00"},{"v":0,"d":"0.00"},{"v":0,"d":"0.00"},null,"Tage",{"v":0,"d":"0.0"},{"v":0,"d":"0.0"},{"v":0,"d":"0.0"},{"v":0,"d":"0.0"},{"v":0,"d":"0.0"}]
[null,2,{"$nulls":3},0,0,0,0,0,{"v":0,"d":"0.00"},{"v":0,"d":"0.00"},{"v":0,"d":"0.00"},{"v":0,"d":"0.00"},{"v":0,"d":"0.00"},null,"Tage",{"v":0,"d":"0.0"},{"v":0,"d":"0.0"},{"v":0,"d":"0.0"},{"v":0,"d":"0.0"},{"v":0,"d":"0.0"}]
[null,3,{"$nulls":3},0,0,0,0,0,{"v":0,"d":"0.00"},{"v":0,"d":"0.00"},{"v":0,"d":"0.00"},{"v":0,"d":"0.00"},{"v":0,"d":"0.00"},null,"Tage",{"v":0,"d":"0.0"},{"v":0,"d":"0.0"},{"v":0,"d":"0.0"},{"v":0,"d":"0.0"},{"v":0,"d":"0.0"}]
[null,4,{"$nulls":3},0,0,0,0,0,{"v":0,"d":"0.00"},{"v":0,"d":"0.00"},{"v":0,"d":"0.00"},{"v":0,"d":"0.00"},{"v":0,"d":"0.00"},null,"Tage",{"v":0,"d":"0.0"},{"v":0,"d":"0.0"},{"v":0,"d":"0.0"},{"v":0,"d":"0.0"},{"v":0,"d":"0.0"}]
[null,5,{"$nulls":3},0,0,0,0,0,{"v":0,"d":"0.00"},{"v":0,"d":"0.00"},{"v":0,"d":"0.00"},{"v":0,"d":"0.00"},{"v":0,"d":"0.00"},null,"Tage",{"v":0,"d":"0.0"},{"v":0,"d":"0.0"},{"v":0,"d":"0.0"},{"v":0,"d":"0.0"},{"v":0,"d":"0.0"}]
[]
[]
["2. Verbesserung der Qualität der Erzeugnisse",null,"Nationale Strategie Nr. 3.2.5 und 3.2.2.2 ",null,null,{"$f":"SUM(F21:F27)","v":0},0,0,0,0,{"v":0,"d":"0.00"},{"v":0,"d":"0.00"},{"v":0,"d":"0.00"},{"v":0,"d":"0.00"},{"v":0,"d":"0.00"},"Zahl der Aktionen","(***)",{"$f":"SUM(R21:R27)","v":{"v":0,"d":"0.0"}},{"$f":"SUM(S21:S27)","v":{"v":0,"d":"0.0"}},{"$f":"SUM(T21:T27)","v":{"v":0,"d":"0.0"}},{"$f":"SUM(U21:U27)","v":{"v":0,"d":"0.0"}},{"$f":"SUM(V21:V27)","v":{"v":0,"d":"0.0"}}]
[null,1,{"$nulls":3},0,0,0,0,0,{"v":0,"d":"0.00"},{"v":0,"d":"0.00"},{"v":0,"d":"0.00"},{"v":0,"d":"0.00"},{"v":0,"d":"0.00"},null,"Tage",{"v":0,"d":"0.0"},{"v":0,"d":"0.0"},{"v":0,"d":"0.0"},{"v":0,"d":"0.0"},{"v":0,"d":"0.0"}]
[null,2,{"$nulls":3},0,0,0,0,0,{"v":0,"d":"0.00"},{"v":0,"d":"0.00"},{"v":0,"d":"0.00"},{"v":0,"d":"0.00"},{"v":0,"d":"0.00"},null,"Tage",{"v":0,"d":"0.0"},{"v":0,"d":"0.0"},{"v":0,"d":"0.0"},{"v":0,"d":"0.0"},{"v":0,"d":"0.0"}]
[null,3,{"$nulls":3},0,0,0,0,0,{"v":0,"d":"0.00"},{"v":0,"d":"0.00"},{"v":0,"d":"0.00"},{"v":0,"d":"0.00"},{"v":0,"d":"0.00"},null,"Tage",{"v":0,"d":"0.0"},{"v":0,"d":"0.0"},{"v":0,"d":"0.0"},{"v":0,"d":"0.0"},{"v":0,"d":"0.0"}]
[null,4,{"$nulls":3},0,0,0,0,0,{"v":0,"d":"0.00"},{"v":0,"d":"0.00"},{"v":0,"d":"0.00"},{"v":0,"d":"0.00"},{"v":0,"d":"0.00"},null,"Tage",{"v":0,"d":"0.0"},{"v":0,"d":"0.0"},{"v":0,"d":"0.0"},{"v":0,"d":"0.0"},{"v":0,"d":"0.0"}]
[null,5,{"$nulls":3},0,0,0,0,0,{"v":0,"d":"0.00"},{"v":0,"d":"0.00"},{"v":0,"d":"0.00"},{"v":0,"d":"0.00"},{"v":0,"d":"0.00"},null,"Tage",{"v":0,"d":"0.0"},{"v":0,"d":"0.0"},{"v":0,"d":"0.0"},{"v":0,"d":"0.0"},{"v":0,"d":"0.0"}]
[]
[]
["3. Steigerung des Vermarktungswerts der Erzeugnisse",null,"Nationale Strategie Nr. 3.2.5 und 3.2.3.2",null,null,{"$f":"SUM(F29:F35)","v":0},{"$f":"SUM(G29:G35)","v":0},{"$f":"SUM(H29:H35)","v":0},{"$f":"SUM(I29:I35)","v":0},{"$f":"SUM(J29:J35)","v":0},{"$f":"SUM(K29:K35)","v":{"v":0,"d":"0.00"}},{"$f":"SUM(L29:L35)","v":{"v":0,"d":"0.00"}},{"$f":"SUM(M29:M35)","v":{"v":0,"d":"0.00"}},{"$f":"SUM(N29:N35)","v":{"v":0,"d":"0.00"}},{"$f":"SUM(O29:O35)","v":{"v":0,"d":"0.00"}},"Zahl der Aktionen","(***)",{"$f":"SUM(R29:R35)","v":{"v":0,"d":"0.0"}},{"$f":"SUM(S29:S35)","v":{"v":0,"d":"0.0"}},{"v":0,"d":"0.0"},{"v":0,"d":"0.0"},{"v":0,"d":"0.0"}]
[null,1,{"$nulls":3},0,0,0,0,0,{"v":0,"d":"0.00"},{"v":0,"d":"0.00"},{"v":0,"d":"0.00"},{"v":0,"d":"0.00"},{"v":0,"d":"0.00"},null,"Tage",{"v":0,"d":"0.0"},{"v":0,"d":"0.0"},{"v":0,"d":"0.0"},{"v":0,"d":"0.0"},{"v":0,"d":"0.0"}]
[null,2,{"$nulls":3},0,0,0,0,0,{"v":0,"d":"0.00"},{"v":0,"d":"0.00"},{"v":0,"d":"0.00"},{"v":0,"d":"0.00"},{"v":0,"d":"0.00"},null,"Tage",{"v":0,"d":"0.0"},{"v":0,"d":"0.0"},{"v":0,"d":"0.0"},{"v":0,"d":"0.0"},{"v":0,"d":"0.0"}]
[null,3,{"$nulls":3},0,0,0,0,0,{"v":0,"d":"0.00"},{"v":0,"d":"0.00"},{"v":0,"d":"0.00"},{"v":0,"d":"0.00"},{"v":0,"d":"0.00"},null,"Tage",{"v":0,"d":"0.0"},{"v":0,"d":"0.0"},{"v":0,"d":"0.0"},{"v":0,"d":"0.0"},{"v":0,"d":"0.0"}]
[null,4,{"$nulls":3},0,0,0,0,0,{"v":0,"d":"0.00"},{"v":0,"d":"0.00"},{"v":0,"d":"0.00"},{"v":0,"d":"0.00"},{"v":0,"d":"0.00"},null,"Tage",{"v":0,"d":"0.0"},{"v":0,"d":"0.0"},{"v":0,"d":"0.0"},{"v":0,"d":"0.0"},{"v":0,"d":"0.0"}]
[null,5,{"$nulls":3},0,0,0,0,0,{"v":0,"d":"0.00"},{"v":0,"d":"0.00"},{"v":0,"d":"0.00"},{"v":0,"d":"0.00"},{"v":0,"d":"0.00"},null,"Tage",{"v":0,"d":"0.0"},{"v":0,"d":"0.0"},{"v":0,"d":"0.0"},{"v":0,"d":"0.0"},{"v":0,"d":"0.0"}]
[]
[]
["5. Umweltmaßnahmen",null,"Nationale Strategie Nr. 3.2.5, 3.2.7 und Anhang 4",null,null,{"$f":"SUM(F37:F43)","v":0},{"$f":"SUM(G37:G43)","v":0},{"$f":"SUM(H37:H43)","v":0},{"$f":"SUM(I37:I43)","v":0},{"$f":"SUM(J37:J43)","v":0},{"$f":"SUM(K37:K43)","v":{"v":0,"d":"0.00"}},{"$f":"SUM(L37:L43)","v":{"v":0,"d":"0.00"}},{"$f":"SUM(M37:M43)","v":{"v":0,"d":"0.00"}},{"$f":"SUM(N37:N43)","v":{"v":0,"d":"0.00"}},{"$f":"SUM(O37:O43)","v":{"v":0,"d":"0.00"}},"Zahl der Aktionen","(***)",{"$f":"SUM(R37:R43)","v":{"v":0,"d":"0.0"}},{"$f":"SUM(S37:S43)","v":{"v":0,"d":"0.0"}},{"v":0,"d":"0.0"},{"v":0,"d":"0.0"},{"v":0,"d":"0.0"}]
[null,1,{"$nulls":3},0,0,0,0,0,{"v":0,"d":"0.00"},{"v":0,"d":"0.00"},{"v":0,"d":"0.00"},{"v":0,"d":"0.00"},{"v":0,"d":"0.00"},null,"Tage",{"v":0,"d":"0.0"},{"v":0,"d":"0.0"},{"v":0,"d":"0.0"},{"v":0,"d":"0.0"},{"v":0,"d":"0.0"}]
[null,2,{"$nulls":3},0,0,0,0,0,{"v":0,"d":"0.00"},{"v":0,"d":"0.00"},{"v":0,"d":"0.00"},{"v":0,"d":"0.00"},{"v":0,"d":"0.00"},null,"Tage",{"v":0,"d":"0.0"},{"v":0,"d":"0.0"},{"v":0,"d":"0.0"},{"v":0,"d":"0.0"},{"v":0,"d":"0.0"}]
[null,3,{"$nulls":3},0,0,0,0,0,{"v":0,"d":"0.00"},{"v":0,"d":"0.00"},{"v":0,"d":"0.00"},{"v":0,"d":"0.00"},{"v":0,"d":"0.00"},null,"Tage",{"v":0,"d":"0.0"},{"v":0,"d":"0.0"},{"v":0,"d":"0.0"},{"v":0,"d":"0.0"},{"v":0,"d":"0.0"}]
[null,4,{"$nulls":3},0,0,0,0,0,{"v":0,"d":"0.00"},{"v":0,"d":"0.00"},{"v":0,"d":"0.00"},{"v":0,"d":"0.00"},{"v":0,"d":"0.00"},null,"Tage",{"v":0,"d":"0.0"},{"v":0,"d":"0.0"},{"v":0,"d":"0.0"},{"v":0,"d":"0.0"},{"v":0,"d":"0.0"}]
[null,5,{"$nulls":3},0,0,0,0,0,{"v":0,"d":"0.00"},{"v":0,"d":"0.00"},{"v":0,"d":"0.00"},{"v":0,"d":"0.00"},{"v":0,"d":"0.00"},null,"Tage",{"v":0,"d":"0.0"},{"v":0,"d":"0.0"},{"v":0,"d":"0.0"},{"v":0,"d":"0.0"},{"v":0,"d":"0.0"}]
[]
[]
["6. Krisenprävention und Krisenmanagement",null,"Nationale Strategie Nr. 3.2.5 und 3.2.6",null,null,{"$f":"SUM(F45:F51)","v":0},0,0,0,0,{"v":0,"d":"0.00"},{"v":0,"d":"0.00"},{"v":0,"d":"0.00"},{"v":0,"d":"0.00"},{"v":0,"d":"0.00"},"Zahl der Aktionen","(***)",{"$f":"SUM(R45:R51)","v":{"v":0,"d":"0.0"}},{"$f":"SUM(S45:S51)","v":{"v":0,"d":"0.0"}},{"$f":"SUM(T45:T51)","v":{"v":0,"d":"0.0"}},{"$f":"SUM(U45:U51)","v":{"v":0,"d":"0.0"}},{"$f":"SUM(V45:V51)","v":{"v":0,"d":"0.0"}}]
[null,1,{"$nulls":3},0,0,0,0,0,{"v":0,"d":"0.00"},{"v":0,"d":"0.00"},{"v":0,"d":"0.00"},{"v":0,"d":"0.00"},{"v":0,"d":"0.00"},null,"Tage",{"v":0,"d":"0.0"},{"v":0,"d":"0.0"},{"v":0,"d":"0.0"},{"v":0,"d":"0.0"},{"v":0,"d":"0.0"}]
[null,2,{"$nulls":3},0,0,0,0,0,{"v":0,"d":"0.00"},{"v":0,"d":"0.00"},{"v":0,"d":"0.00"},{"v":0,"d":"0.00"},{"v":0,"d":"0.00"},null,"Tage",{"v":0,"d":"0.0"},{"v":0,"d":"0.0"},{"v":0,"d":"0.0"},{"v":0,"d":"0.0"},{"v":0,"d":"0.0"}]
[null,3,{"$nulls":3},0,0,0,0,0,{"v":0,"d":"0.00"},{"v":0,"d":"0.00"},{"v":0,"d":"0.00"},{"v":0,"d":"0.00"},{"v":0,"d":"0.00"},null,"Tage",{"v":0,"d":"0.0"},{"v":0,"d":"0.0"},{"v":0,"d":"0.0"},{"v":0,"d":"0.0"},{"v":0,"d":"0.0"}]
[null,4,{"$nulls":3},0,0,0,0,0,{"v":0,"d":"0.00"},{"v":0,"d":"0.00"},{"v":0,"d":"0.00"},{"v":0,"d":"0.00"},{"v":0,"d":"0.00"},null,"Tage",{"v":0,"d":"0.0"},{"v":0,"d":"0.0"},{"v":0,"d":"0.0"},{"v":0,"d":"0.0"},{"v":0,"d":"0.0"}]
[null,5,{"$nulls":3},0,0,0,0,0,{"v":0,"d":"0.00"},{"v":0,"d":"0.00"},{"v":0,"d":"0.00"},{"v":0,"d":"0.00"},{"v":0,"d":"0.00"},null,"Tage",{"v":0,"d":"0.0"},{"v":0,"d":"0.0"},{"v":0,"d":"0.0"},{"v":0,"d":"0.0"},{"v":0,"d":"0.0"}]
[]
[]
[]
[{"$nulls":4},"Summe:",{"$f":"SUM(F12,F20,F28,F36,F44)","v":0},0,0,0,0,{"v":0,"d":"0.00"},{"v":0,"d":"0.00"},{"v":0,"d":"0.00"},{"v":0,"d":"0.00"},{"v":0,"d":"0.00"},null,null,{"$f":"SUM(R12,R20,R28,R36,R44)","v":{"v":0,"d":"0.00"}},{"$f":"SUM(S12,S20,S28,S36,S44)","v":{"v":0,"d":"0.00"}},{"$f":"SUM(T12,T20,T28,T36,T44)","v":{"v":0,"d":"0.00"}},{"$f":"SUM(U12,U20,U28,U36,U44)","v":{"v":0,"d":"0.00"}},{"$f":"SUM(V12,V20,V28,V36,V44)","v":{"v":0,"d":"0.00"}}]
[]
["Erläuterungen der EU-KOM  in deutscher Fassung vom 09.10.2019"]
["(*) Zahl der Betriebe","Zahl der Betriebe, denen die Investition zugutekommt."]
[null,"Wird die Investition gemeinsam getätigt, ist hier die Zahl aller beteiligten Betriebe anzugeben."]
[null,"Wird die Investition auf Ebene der EO getätigt, ist hier die Zahl aller der EO und deren Mitgliedern angeschlossenen Betriebe anzugeben."]
[null,"KOM 21.11.18: Doppelzählungen, aufgrund mehrerer Aktionen eines Betriebes sind zulässig."]
["(**) Gesamtwert:","Wert der Investitionen im Zusammenhang mit jeder Aktion/Maßnahme und jedem Ziel. Dieser Wert muss dem Gesamtwert der Investitionen für die einzelnen in Tabelle 3.2 gemeldeten Aktionen/Maßnahmen entsprechen."]
["(***) Zahl der Aktionen","Zahl der durchgeführten Aus- und Weiterbildungstage. Anzugeben ist die Summe aller Aus- und Weiterbildungstage zu einem bestimmten Thema (z.B. ökologische / biologische Erzeugung) für alle Teilnehmer an den im Berichtsjahr durchgeführten Aus- und Weiterbildungsmaßnahmen. Aus- und Weiterbildungskurse von einem halben Tag (z.B. nur vormittags oder nur nachmittags) werden als halber Aus- und Weiterbildungstag gezählt."]

{"sheet":"T5.6 Berat","index":11,"n_rows":53,"n_cols":24,"rows_kept":53,"merged":[[1,5,1,8],[6,0,9,0],[6,1,6,2],[6,3,7,3],[6,4,7,4],[6,5,6,21],[6,22,6,23],[7,1,7,2],[7,5,7,9],[7,10,7,14],[7,15,7,21],[8,1,9,1],[8,2,9,2],[8,3,9,3],[8,4,9,4],[8,15,9,15],[8,16,9,16],[8,22,9,22],[8,23,9,23],[51,1,51,4],[52,1,52,4]]}
[]
["Name der EO / LEO ",null,{"$f":"Name_der_EO_LEO","v":"Name_der_EO_LEO"},"Berichtsjahr ",{"$f":"Berichtsjahr","v":"2020"},{"$nulls":5},"Ausfüllen","Formel","keine Angaben",{"$nulls":10},"Tabelle 5.6"]
[]
["EO- / LEO-Code ",null,{"$f":"EO_Code","v":"DE XXXX"}]
[]
["Tabelle 5.6: Beratungsdienste und technische Hilfe"]
["Ziele\nArt. 33 (1) + (3) und\n152 (1) (c) \nder VO (EU) Nr. 1308/2013","A)\nBenennung der durchgeführten Aktionen",null,"B)\nmit der jeweiligen Aktion verfolgtes, wichtigstes Ziel\ngem. nationaler Strategie","C)\nErläuterung, wie das Ziel erreicht werden soll","D) Indikatoren\nzahlungsrelevanten Daten für OP-Jahre vor dem Berichtsjahr",{"$nulls":16},"E) Änderungen-OP"]
[null,"(ggf. direkt unter Aktion 5 weitere Zeilen einfügen \nund die Anzahl fortlaufend ergänzen)",{"$nulls":3},"Zahl der Betriebe (*)",{"$nulls":4},"Gesamtwert (**)\nin €",{"$nulls":4},"weitere lt. Tabelle 4",{"$nulls":6},"Abbruch / Aufnahme Aktion","Begründung bzw. Problemdarstellung"]
[null,"An-zahl","eine Aktion = eine Zeile","Auswahlfeld","Text kurz und aussagekräftig",{"$f":"Berichtsjahr","v":"2020"},{"$f":"IF('T5.1 Invest'!G9,'T5.1 Invest'!G9,\"\")","v":""},{"$f":"IF('T5.1 Invest'!H9,'T5.1 Invest'!H9,\"\")","v":""},{"$f":"IF('T5.1 Invest'!I9,'T5.1 Invest'!I9,\"\")","v":""},{"$f":"IF('T5.1 Invest'!J9,'T5.1 Invest'!J9,\"\")","v":""},{"$f":"Berichtsjahr","v":"2020"},{"$f":"IF('T5.1 Invest'!G9,'T5.1 Invest'!G9,\"\")","v":""},{"$f":"IF('T5.1 Invest'!H9,'T5.1 Invest'!H9,\"\")","v":""},{"$f":"IF('T5.1 Invest'!I9,'T5.1 Invest'!I9,\"\")","v":""},{"$f":"IF('T5.1 Invest'!J9,'T5.1 Invest'!J9,\"\")","v":""},"Indikator","Maß-einheit",{"$f":"Berichtsjahr","v":"2020"},{"$f":"IF('T5.1 Invest'!G9,'T5.1 Invest'!G9,\"\")","v":""},{"$f":"IF('T5.1 Invest'!H9,'T5.1 Invest'!H9,\"\")","v":""},{"$f":"IF('T5.1 Invest'!I9,'T5.1 Invest'!I9,\"\")","v":""},{"$f":"IF('T5.1 Invest'!J9,'T5.1 Invest'!J9,\"\")","v":""},"Auswahlfeld","Text kurz und aussagekräftig"]
[{"$nulls":5},"(n)","(n-1)","(n-2)","(n-3)","(n-4)","(n)","(n-1)","(n-2)","(n-3)","(n-4)",null,null,"(n)","(n-1)","(n-2)","(n-3)","(n-4)"]
[]
["1. Planung der Produktion",null,"Nationale Strategie Nr. 3.2.5 und 3.2.1.1",null,null,{"$f":"SUM(F13:F19)","v":0},0,0,0,0,{"v":0,"d":"0.00"},{"v":0,"d":"0.00"},{"v":0,"d":"0.00"},{"v":0,"d":"0.00"},{"v":0,"d":"0.00"},"Zahl der Aktionen","(***)",{"$f":"SUM(R13:R19)","v":{"v":0,"d":"0.0"}},{"$f":"SUM(S13:S19)","v":{"v":0,"d":"0.0"}},{"$f":"SUM(T13:T19)","v":{"v":0,"d":"0.0"}},{"$f":"SUM(U13:U19)","v":{"v":0,"d":"0.0"}},{"$f":"SUM(V13:V19)","v":{"v":0,"d":"0.0"}}]
[null,1,{"$nulls":3},0,0,0,0,0,{"v":0,"d":"0.00"},{"v":0,"d":"0.00"},{"v":0,"d":"0.00"},{"v":0,"d":"0.00"},{"v":0,"d":"0.00"},null,"Tage",{"v":0,"d":"0.0"},{"v":0,"d":"0.0"},{"v":0,"d":"0.0"},{"v":0,"d":"0.0"},{"v":0,"d":"0.0"}]
[null,2,{"$nulls":3},0,0,0,0,0,{"v":0,"d":"0.00"},{"v":0,"d":"0.00"},{"v":0,"d":"0.00"},{"v":0,"d":"0.00"},{"v":0,"d":"0.00"},null,"Tage",{"v":0,"d":"0.0"},{"v":0,"d":"0.0"},{"v":0,"d":"0.0"},{"v":0,"d":"0.0"},{"v":0,"d":"0.0"}]
[null,3,{"$nulls":3},0,0,0,0,0,{"v":0,"d":"0.00"},{"v":0,"d":"0.00"},{"v":0,"d":"0.00"},{"v":0,"d":"0.00"},{"v":0,"d":"0.00"},null,"Tage",{"v":0,"d":"0.0"},{"v":0,"d":"0.0"},{"v":0,"d":"0.0"},{"v":0,"d":"0.0"},{"v":0,"d":"0.0"}]
[null,4,{"$nulls":3},0,0,0,0,0,{"v":0,"d":"0.00"},{"v":0,"d":"0.00"},{"v":0,"d":"0.00"},{"v":0,"d":"0.00"},{"v":0,"d":"0.00"},null,"Tage",{"v":0,"d":"0.0"},{"v":0,"d":"0.0"},{"v":0,"d":"0.0"},{"v":0,"d":"0.0"},{"v":0,"d":"0.0"}]
[null,5,{"$nulls":3},0,0,0,0,0,{"v":0,"d":"0.00"},{"v":0,"d":"0.00"},{"v":0,"d":"0.00"},{"v":0,"d":"0.00"},{"v":0,"d":"0.00"},null,"Tage",{"v":0,"d":"0.0"},{"v":0,"d":"0.0"},{"v":0,"d":"0.0"},{"v":0,"d":"0.0"},{"v":0,"d":"0.0"}]
[]
[]
["2. Verbesserung der Qualität der Erzeugnisse",null,"Nationale Strategie Nr. 3.2.5 und 3.2.2.2 ",null,null,{"$f":"SUM(F21:F27)","v":0},{"$f":"SUM(G21:G27)","v":0},{"$f":"SUM(H21:H27)","v":0},{"$f":"SUM(I21:I27)","v":0},{"$f":"SUM(J21:J27)","v":0},{"$f":"SUM(K21:K27)","v":{"v":0,"d":"0.00"}},{"$f":"SUM(L21:L27)","v":{"v":0,"d":"0.00"}},{"v":0,"d":"0.00"},{"v":0,"d":"0.00"},{"v":0,"d":"0.00"},"Zahl der Aktionen","(***)",{"$f":"SUM(R21:R27)","v":{"v":0,"d":"0.0"}},{"$f":"SUM(S21:S27)","v":{"v":0,"d":"0.0"}},{"v":0,"d":"0.0"},{"v":0,"d":"0.0"},{"v":0,"d":"0.0"}]
[null,1,{"$nulls":3},0,0,0,0,0,{"v":0,"d":"0.00"},{"v":0,"d":"0.00"},{"v":0,"d":"0.00"},{"v":0,"d":"0.00"},{"v":0,"d":"0.00"},null,"Tage",{"v":0,"d":"0.0"},{"v":0,"d":"0.0"},{"v":0,"d":"0.0"},{"v":0,"d":"0.0"},{"v":0,"d":"0.0"}]
[null,2,{"$nulls":3},0,0,0,0,0,{"v":0,"d":"0.00"},{"v":0,"d":"0.00"},{"v":0,"d":"0.00"},{"v":0,"d":"0.00"},{"v":0,"d":"0.00"},null,"Tage",{"v":0,"d":"0.0"},{"v":0,"d":"0.0"},{"v":0,"d":"0.0"},{"v":0,"d":"0.0"},{"v":0,"d":"0.0"}]
[null,3,{"$nulls":3},0,0,0,0,0,{"v":0,"d":"0.00"},{"v":0,"d":"0.00"},{"v":0,"d":"0.00"},{"v":0,"d":"0.00"},{"v":0,"d":"0.00"},null,"Tage",{"v":0,"d":"0.0"},{"v":0,"d":"0.0"},{"v":0,"d":"0.0"},{"v":0,"d":"0.0"},{"v":0,"d":"0.0"}]
[null,4,{"$nulls":3},0,0,0,0,0,{"v":0,"d":"0.00"},{"v":0,"d":"0.00"},{"v":0,"d":"0.00"},{"v":0,"d":"0.00"},{"v":0,"d":"0.00"},null,"Tage",{"v":0,"d":"0.0"},{"v":0,"d":"0.0"},{"v":0,"d":"0.0"},{"v":0,"d":"0.0"},{"v":0,"d":"0.0"}]
[null,5,{"$nulls":3},0,0,0,0,0,{"v":0,"d":"0.00"},{"v":0,"d":"0.00"},{"v":0,"d":"0.00"},{"v":0,"d":"0.00"},{"v":0,"d":"0.00"},null,"Tage",{"v":0,"d":"0.0"},{"v":0,"d":"0.0"},{"v":0,"d":"0.0"},{"v":0,"d":"0.0"},{"v":0,"d":"0.0"}]
[]
[]
["3. Steigerung des Vermarktungswerts der Erzeugnisse",null,"Nationale Strategie Nr. 3.2.5 und 3.2.3.2",null,null,{"$f":"SUM(F29:F35)","v":0},{"$f":"SUM(G29:G35)","v":0},{"$f":"SUM(H29:H35)","v":0},{"$f":"SUM(I29:I35)","v":0},{"$f":"SUM(J29:J35)","v":0},{"$f":"SUM(K29:K35)","v":{"v":0,"d":"0.00"}},{"$f":"SUM(L29:L35)","v":{"v":0,"d":"0.00"}},{"v":0,"d":"0.00"},{"v":0,"d":"0.00"},{"v":0,"d":"0.00"},"Zahl der Aktionen","(***)",{"$f":"SUM(R29:R35)","v":{"v":0,"d":"0.0"}},{"$f":"SUM(S29:S35)","v":{"v":0,"d":"0.0"}},{"v":0,"d":"0.0"},{"v":0,"d":"0.0"},{"v":0,"d":"0.0"}]
[null,1,{"$nulls":3},0,0,0,0,0,{"v":0,"d":"0.00"},{"v":0,"d":"0.00"},{"v":0,"d":"0.00"},{"v":0,"d":"0.00"},{"v":0,"d":"0.00"},null,"Tage",{"v":0,"d":"0.0"},{"v":0,"d":"0.0"},{"v":0,"d":"0.0"},{"v":0,"d":"0.0"},{"v":0,"d":"0.0"}]
[null,2,{"$nulls":3},0,0,0,0,0,{"v":0,"d":"0.00"},{"v":0,"d":"0.00"},{"v":0,"d":"0.00"},{"v":0,"d":"0.00"},{"v":0,"d":"0.00"},null,"Tage",{"v":0,"d":"0.0"},{"v":0,"d":"0.0"},{"v":0,"d":"0.0"},{"v":0,"d":"0.0"},{"v":0,"d":"0.0"}]
[null,3,{"$nulls":3},0,0,0,0,0,{"v":0,"d":"0.00"},{"v":0,"d":"0.00"},{"v":0,"d":"0.00"},{"v":0,"d":"0.00"},{"v":0,"d":"0.00"},null,"Tage",{"v":0,"d":"0.0"},{"v":0,"d":"0.0"},{"v":0,"d":"0.0"},{"v":0,"d":"0.0"},{"v":0,"d":"0.0"}]
[null,4,{"$nulls":3},0,0,0,0,0,{"v":0,"d":"0.00"},{"v":0,"d":"0.00"},{"v":0,"d":"0.00"},{"v":0,"d":"0.00"},{"v":0,"d":"0.00"},null,"Tage",{"v":0,"d":"0.0"},{"v":0,"d":"0.0"},{"v":0,"d":"0.0"},{"v":0,"d":"0.0"},{"v":0,"d":"0.0"}]
[null,5,{"$nulls":3},0,0,0,0,0,{"v":0,"d":"0.00"},{"v":0,"d":"0.00"},{"v":0,"d":"0.00"},{"v":0,"d":"0.00"},{"v":0,"d":"0.00"},null,"Tage",{"v":0,"d":"0.0"},{"v":0,"d":"0.0"},{"v":0,"d":"0.0"},{"v":0,"d":"0.0"},{"v":0,"d":"0.0"}]
[]
[]
["5. Umweltmaßnahmen",null,"Nationale Strategie Nr. 3.2.5, 3.2.7 und Anhang 4",null,null,{"$f":"SUM(F37:F43)","v":0},{"$f":"SUM(G37:G43)","v":0},{"$f":"SUM(H37:H43)","v":0},{"$f":"SUM(I37:I43)","v":0},{"$f":"SUM(J37:J43)","v":0},{"$f":"SUM(K37:K43)","v":{"v":0,"d":"0.00"}},{"$f":"SUM(L37:L43)","v":{"v":0,"d":"0.00"}},{"$f":"SUM(M37:M43)","v":{"v":0,"d":"0.00"}},{"v":0,"d":"0.00"},{"v":0,"d":"0.00"},"Zahl der Aktionen","(***)",{"$f":"SUM(R37:R43)","v":{"v":0,"d":"0.0"}},{"$f":"SUM(S37:S43)","v":{"v":0,"d":"0.0"}},{"v":0,"d":"0.0"},{"v":0,"d":"0.0"},{"v":0,"d":"0.0"}]
[null,1,{"$nulls":3},0,0,0,0,0,{"v":0,"d":"0.00"},{"v":0,"d":"0.00"},{"v":0,"d":"0.00"},{"v":0,"d":"0.00"},{"v":0,"d":"0.00"},null,"Tage",{"v":0,"d":"0.0"},{"v":0,"d":"0.0"},{"v":0,"d":"0.0"},{"v":0,"d":"0.0"},{"v":0,"d":"0.0"}]
[null,2,{"$nulls":3},0,0,0,0,0,{"v":0,"d":"0.00"},{"v":0,"d":"0.00"},{"v":0,"d":"0.00"},{"v":0,"d":"0.00"},{"v":0,"d":"0.00"},null,"Tage",{"v":0,"d":"0.0"},{"v":0,"d":"0.0"},{"v":0,"d":"0.0"},{"v":0,"d":"0.0"},{"v":0,"d":"0.0"}]
[null,3,{"$nulls":3},0,0,0,0,0,{"v":0,"d":"0.00"},{"v":0,"d":"0.00"},{"v":0,"d":"0.00"},{"v":0,"d":"0.00"},{"v":0,"d":"0.00"},null,"Tage",{"v":0,"d":"0.0"},{"v":0,"d":"0.0"},{"v":0,"d":"0.0"},{"v":0,"d":"0.0"},{"v":0,"d":"0.0"}]
[null,4,{"$nulls":3},0,0,0,0,0,{"v":0,"d":"0.00"},{"v":0,"d":"0.00"},{"v":0,"d":"0.00"},{"v":0,"d":"0.00"},{"v":0,"d":"0.00"},null,"Tage",{"v":0,"d":"0.0"},{"v":0,"d":"0.0"},{"v":0,"d":"0.0"},{"v":0,"d":"0.0"},{"v":0,"d":"0.0"}]
[null,5,{"$nulls":3},0,0,0,0,0,{"v":0,"d":"0.00"},{"v":0,"d":"0.00"},{"v":0,"d":"0.00"},{"v":0,"d":"0.00"},{"v":0,"d":"0.00"},null,"Tage",{"v":0,"d":"0.0"},{"v":0,"d":"0.0"},{"v":0,"d":"0.0"},{"v":0,"d":"0.0"},{"v":0,"d":"0.0"}]
[]
[]
[]
[{"$nulls":4},"Summe:",{"$f":"SUM(F12,F20,F28,F36,)","v":{"v":0,"d":"0.00"}},{"v":0,"d":"0.00"},{"v":0,"d":"0.00"},{"v":0,"d":"0.00"},{"v":0,"d":"0.00"},{"v":0,"d":"0.00"},{"v":0,"d":"0.00"},{"v":0,"d":"0.00"},{"v":0,"d":"0.00"},{"v":0,"d":"0.00"},null,null,{"$f":"SUM(R12,R20,R28,R36,)","v":{"v":0,"d":"0.00"}},{"$f":"SUM(S12,S20,S28,S36,)","v":{"v":0,"d":"0.00"}},{"$f":"SUM(T12,T20,T28,T36,)","v":{"v":0,"d":"0.00"}},{"$f":"SUM(U12,U20,U28,U36,)","v":{"v":0,"d":"0.00"}},{"$f":"SUM(V12,V20,V28,V36,)","v":{"v":0,"d":"0.00"}}]
[]
["Erläuterungen der EU-KOM  in deutscher Fassung vom 09.10.2019"]
["(*) Zahl der Betriebe","Zahl der Betriebe, denen die Investition zugutekommt."]
[null,"Wird die Investition gemeinsam getätigt, ist hier die Zahl aller beteiligten Betriebe anzugeben."]
[null,"Wird die Investition auf Ebene der EO getätigt, ist hier die Zahl aller der EO und deren Mitgliedern angeschlossenen Betriebe anzugeben."]
[null,"KOM 21.11.18: Doppelzählungen, aufgrund mehrerer Aktionen eines Betriebes sind zulässig."]
["(**) Gesamtwert:","Wert der Investitionen im Zusammenhang mit jeder Aktion/Maßnahme und jedem Ziel. Dieser Wert muss dem Gesamtwert der Investitionen für die einzelnen in Tabelle 3.2 gemeldeten Aktionen/Maßnahmen entsprechen."]
["(***) Zahl der Aktionen","Zahl der durchgeführten Beratungstage. Anzugeben ist die Summe aller Beratungstage zu einem bestimmten Thema (z.B. ökologische / biologische Erzeugung) für alle Teilnehmer an den im Berichtsjahr durchgeführten Beratungstage. Beratungkurse von einem halben Tag (z.B. nur vormittags oder nur nachmittags) werden als halber Beratungstag gezählt."]

{"sheet":"T5.7 Umwelt","index":12,"n_rows":62,"n_cols":31,"rows_kept":62,"merged":[[3,10,3,14],[6,0,9,0],[6,1,6,2],[6,3,7,3],[6,4,7,4],[6,5,6,14],[6,15,6,28],[6,29,6,30],[7,1,7,2],[7,5,7,9],[7,10,7,14],[7,15,7,28],[8,1,9,1],[8,2,9,2],[8,3,9,3],[8,4,9,4],[8,15,9,15],[8,16,9,16],[8,22,9,22],[8,23,9,23],[8,29,9,29],[8,30,9,30],[11,5,11,14],[11,15,11,21],[11,22,11,28],[12,22,12,28],[13,22,13,28],[14,0,16,0],[19,0,21,0],[24,0,26,0],[24,22,24,28],[25,22,25,28],[26,22,26,28],[27,22,27,28],[28,22,28,28],[29,0,31,0],[29,22,31,28],[32,22,32,28],[33,22,33,28],[34,0,36,0],[34,15,34,21],[34,22,36,28],[35,15,35,21],[36,15,36,21],[37,15,37,21],[37,22,37,28],[38,15,38,21],[38,22,38,28],[39,0,41,0],[39,15,39,21],[39,22,41,28],[40,15,40,21],[41,15,41,21],[42,15,42,21],[42,22,42,28],[43,15,43,21],[43,22,43,28],[44,0,46,0],[44,22,46,28],[45,15,45,21],[46,15,46,21],[47,15,47,21],[47,22,47,28],[48,15,48,21],[48,22,48,28],[57,1,57,4],[61,0,61,4]]}
[]
["Name der EO / LEO ",null,{"$f":"Name_der_EO_LEO","v":"Name_der_EO_LEO"},"Berichtsjahr ",{"$f":"Berichtsjahr","v":"2020"},{"$nulls":5},"Ausfüllen","Formel","keine Angaben",null,"Tabelle 5.7",{"$nulls":13},"Tabelle 5.7",null,"Tabelle 5.7"]
[]
["EO- / LEO-Code ",null,{"$f":"EO_Code","v":"DE XXXX"},{"$nulls":7},"Bitte beachten Sie weitere Indikatoren"]
[]
["Tabelle 5.7: Ziel Umweltmaßnahmen (s. auch Natioanle Strategie, Anhang 4 - Nationaler Rahmen für Umweltmaßnahmen)"]
["Aktionen / Maßnahmen\nArt. 2 (f) + (g) der Deleg. VO (EU) 2017/891","A)\nBenennung der durchgeführten Aktionen",null,"B)\nmit der jeweiligen Aktion verfolgtes, wichtigstes Ziel\ngem. nationaler Strategie","C)\nErläuterung, wie das Ziel erreicht werden soll","D) Indikatoren\nzahlungsrelevanten Daten für OP-Jahre vor dem Berichtsjahr",{"$nulls":9},"D) Indikatoren\nzahlungsrelevanten Daten für OP-Jahre vor dem Berichtsjahr",{"$nulls":13},"E) Änderungen-OP"]
[null,"(ggf. direkt unter Aktion 5 weitere Zeilen einfügen \nund die Anzahl fortlaufend ergänzen)",{"$nulls":3},"Zahl der Betriebe (*)",{"$nulls":4},"Gesamtwert (**)\nin €",{"$nulls":4},"weitere lt. Tabelle 4",{"$nulls":13},"Abbruch / Aufnahme Aktion","Begründung bzw. Problemdarstellung"]
[null,"An-zahl","eine Aktion = eine Zeile","Auswahlfeld","Text kurz und aussagekräftig",{"$f":"Berichtsjahr","v":"2020"},{"$f":"IF('T5.1 Invest'!G9,'T5.1 Invest'!G9,\"\")","v":""},{"$f":"IF('T5.1 Invest'!H9,'T5.1 Invest'!H9,\"\")","v":""},{"$f":"IF('T5.1 Invest'!I9,'T5.1 Invest'!I9,\"\")","v":""},{"$f":"IF('T5.1 Invest'!J9,'T5.1 Invest'!J9,\"\")","v":""},{"$f":"Berichtsjahr","v":"2020"},{"$f":"IF('T5.1 Invest'!G9,'T5.1 Invest'!G9,\"\")","v":""},{"$f":"IF('T5.1 Invest'!H9,'T5.1 Invest'!H9,\"\")","v":""},{"$f":"IF('T5.1 Invest'!I9,'T5.1 Invest'!I9,\"\")","v":""},{"$f":"IF('T5.1 Invest'!J9,'T5.1 Invest'!J9,\"\")","v":""},"Indikator","Maß-einheit",{"$f":"Berichtsjahr","v":"2020"},{"$f":"IF('T5.1 Invest'!G9,'T5.1 Invest'!G9,\"\")","v":""},{"$f":"IF('T5.1 Invest'!H9,'T5.1 Invest'!H9,\"\")","v":""},{"$f":"IF('T5.1 Invest'!I9,'T5.1 Invest'!I9,\"\")","v":""},{"$f":"IF('T5.1 Invest'!J9,'T5.1 Invest'!J9,\"\")","v":""},"Indikator","Maß-einheit",{"$f":"Berichtsjahr","v":"2020"},{"$f":"IF('T5.1 Invest'!G9,'T5.1 Invest'!G9,\"\")","v":""},{"$f":"IF('T5.1 Invest'!H9,'T5.1 Invest'!H9,\"\")","v":""},{"$f":"IF('T5.1 Invest'!I9,'T5.1 Invest'!I9,\"\")","v":""},{"$f":"IF('T5.1 Invest'!J9,'T5.1 Invest'!J9,\"\")","v":""},"Auswahlfeld","Text kurz und aussagekräftig"]
[{"$nulls":5},"(n)","(n-1)","(n-2)","(n-3)","(n-4)","(n)","(n-1)","(n-2)","(n-3)","(n-4)",null,null,"(n)","(n-1)","(n-2)","(n-3)","(n-4)",null,null,"(n)","(n-1)","(n-2)","(n-3)","(n-4)"]
[]
[null,null,"Nationale Strategie Nr. 3.2.7 und Anhang 4","7. Ressourcen schonende Erzeugung und Vermarktung sicherer Produkte\n(s. nationaler Rahmen für Umweltmaßnahmen)",{"$nulls":18},"Verbrauchswerte der einzelnen OP-Jahre \nfür die Berechnung der Differenz [(n-1)-(n)] in Tabelle 4 und 6.2 \n(weitere Verbrauchswerte in Tabelle 6.1)"]
["a) Ökologischer / biologischer Landbau",1,null,"7.2 Nachhaltige Nutzung und Schutz der natürlichen Ressourcen, insbesondere Boden und Wasser",null,0,0,0,0,0,{"v":0,"d":"0.00"},{"v":0,"d":"0.00"},{"v":0,"d":"0.00"},{"v":0,"d":"0.00"},{"v":0,"d":"0.00"},"Ökologisch bewirtschaftete Anbaufläche","ha",{"v":0,"d":"0.000"},{"v":0,"d":"0.000"},{"v":0,"d":"0.000"},{"v":0,"d":"0.000"},{"v":0,"d":"0.000"}]
["b) Integrierter Landbau",1,null,"7.2 Nachhaltige Nutzung und Schutz der natürlichen Ressourcen, insbesondere Boden und Wasser",null,0,0,0,0,0,{"v":0,"d":"0.00"},{"v":0,"d":"0.00"},{"v":0,"d":"0.00"},{"v":0,"d":"0.00"},{"v":0,"d":"0.00"},"Integriert bewirtschaftete Anbaufläche","ha",{"v":0,"d":"0.000"},{"v":0,"d":"0.000"},{"v":0,"d":"0.000"},{"v":0,"d":"0.000"},{"v":0,"d":"0.000"}]
["c) Bessere Nutzung oder Bewirtschaftung von Wasser, einschließlich Wassereinsparung und -ableitung",null,"Wasser","7.2 Nachhaltige Nutzung und Schutz der natürlichen Ressourcen, insbesondere Boden und Wasser",null,{"$f":"SUM(F16:F19)","v":0},0,0,0,0,{"v":0,"d":"0.00"},{"v":0,"d":"0.00"},{"v":0,"d":"0.00"},{"v":0,"d":"0.00"},{"v":0,"d":"0.00"},"Anbaufläche mit geringerer Nutzung von Wasser","ha",{"$f":"SUM(R16:R19)","v":{"v":0,"d":"0.000"}},{"$f":"SUM(S16:S19)","v":{"v":0,"d":"0.000"}},{"$f":"SUM(T16:T19)","v":{"v":0,"d":"0.000"}},{"$f":"SUM(U16:U19)","v":{"v":0,"d":"0.000"}},{"$f":"SUM(V16:V19)","v":{"v":0,"d":"0.000"}},"Wasser-verbrauch"," m3",{"$f":"SUM(Y16:Y19)","v":{"v":0,"d":"0.000"}},{"$f":"SUM(Z16:Z19)","v":{"v":0,"d":"0.000"}},{"$f":"SUM(AA16:AA19)","v":{"v":0,"d":"0.000"}},{"$f":"SUM(AB16:AB19)","v":{"v":0,"d":"0.000"}},{"$f":"SUM(AC16:AC19)","v":{"v":0,"d":"0.000"}}]
[null,1,{"$nulls":3},0,0,0,0,0,{"v":0,"d":"0.00"},{"v":0,"d":"0.00"},{"v":0,"d":"0.00"},{"v":0,"d":"0.00"},{"v":0,"d":"0.00"},null,"ha",{"v":0,"d":"0.000"},{"v":0,"d":"0.000"},{"v":0,"d":"0.000"},{"v":0,"d":"0.000"},{"v":0,"d":"0.000"},null," m3",{"v":0,"d":"0.000"},{"v":0,"d":"0.000"},{"v":0,"d":"0.000"},{"v":0,"d":"0.000"},{"v":0,"d":"0.000"}]
[null,2,{"$nulls":3},0,0,0,0,0,{"v":0,"d":"0.00"},{"v":0,"d":"0.00"},{"v":0,"d":"0.00"},{"v":0,"d":"0.00"},{"v":0,"d":"0.00"},null,"ha",{"v":0,"d":"0.000"},{"v":0,"d":"0.000"},{"v":0,"d":"0.000"},{"v":0,"d":"0.000"},{"v":0,"d":"0.000"},null," m3",{"v":0,"d":"0.000"},{"v":0,"d":"0.000"},{"v":0,"d":"0.000"},{"v":0,"d":"0.000"},{"v":0,"d":"0.000"}]
[]
[]
["d) Maßnahmen zur Bodenerhaltung",null,"Boden","7.2 Nachhaltige Nutzung und Schutz der natürlichen Ressourcen, insbesondere Boden und Wasser",null,{"$f":"SUM(F21:F24)","v":0},{"$f":"SUM(G21:G24)","v":0},0,0,0,{"$f":"SUM(K21:K24)","v":{"v":0,"d":"0.00"}},{"$f":"SUM(L21:L24)","v":{"v":0,"d":"0.00"}},{"v":0,"d":"0.00"},{"v":0,"d":"0.00"},{"v":0,"d":"0.00"},"Anbaufläche, auf der Erosionsschutz-maßnahmen (5) durchgeführt werden","ha",{"$f":"SUM(R21:R24)","v":{"v":0,"d":"0.000"}},{"$f":"SUM(S21:S24)","v":{"v":0,"d":"0.000"}},{"$f":"SUM(T21:T24)","v":{"v":0,"d":"0.000"}},{"v":0,"d":"0.000"},{"v":0,"d":"0.000"},"Dünge-mitteleinsatz je ha","t / ha",{"$f":"SUM(Y21:Y24)","v":{"v":0,"d":"0.000"}},{"$f":"SUM(Z21:Z24)","v":{"v":0,"d":"0.000"}},{"$f":"SUM(AA21:AA24)","v":{"v":0,"d":"0.000"}},{"v":0,"d":"0.000"},{"v":0,"d":"0.000"}]
[null,1,{"$nulls":3},0,0,0,0,0,{"v":0,"d":"0.00"},{"v":0,"d":"0.00"},{"v":0,"d":"0.00"},{"v":0,"d":"0.00"},{"v":0,"d":"0.00"},null,"ha",{"v":0,"d":"0.000"},{"v":0,"d":"0.000"},{"v":0,"d":"0.000"},{"v":0,"d":"0.000"},{"v":0,"d":"0.000"},null,"t / ha",{"v":0,"d":"0.000"},{"v":0,"d":"0.000"},{"v":0,"d":"0.000"},{"v":0,"d":"0.000"},{"v":0,"d":"0.000"}]
[null,2,{"$nulls":3},0,0,0,0,0,{"v":0,"d":"0.00"},{"v":0,"d":"0.00"},{"v":0,"d":"0.00"},{"v":0,"d":"0.00"},{"v":0,"d":"0.00"},null,"ha",{"v":0,"d":"0.000"},{"v":0,"d":"0.000"},{"v":0,"d":"0.000"},{"v":0,"d":"0.000"},{"v":0,"d":"0.000"},null,"t / ha",{"v":0,"d":"0.000"},{"v":0,"d":"0.000"},{"v":0,"d":"0.000"},{"v":0,"d":"0.000"},{"v":0,"d":"0.000"}]
[]
[]
["e) Maßnahmen zur Schaffung und Erhaltung von Lebensräumen, die die biologische Vielfalt begünstigen, und zur Landschaftspflege, einschließlich Erhaltung historischer Merkmale",null,"Lebensräume / biologische Vielfalt","7.5 Erhalt oder Förderung der Artenvielfalt (Biodiversität)",null,{"$f":"SUM(F26:F29)","v":0},{"$f":"SUM(G26:G29)","v":0},0,0,0,{"$f":"SUM(K26:K29)","v":{"v":0,"d":"0.00"}},{"$f":"SUM(L26:L29)","v":{"v":0,"d":"0.00"}},{"v":0,"d":"0.00"},{"v":0,"d":"0.00"},{"v":0,"d":"0.00"},"Fläche, auf der Maß-nahmen zur Verbes-serung Schutz von Lebensräumen und biologischer Vielfalt durchgeführt werden","ha",{"$f":"SUM(R26:R29)","v":{"v":0,"d":"0.000"}},{"$f":"SUM(S26:S29)","v":{"v":0,"d":"0.000"}},{"v":0,"d":"0.000"},{"v":0,"d":"0.000"},{"v":0,"d":"0.000"}]
[null,1,{"$nulls":3},0,0,0,0,0,{"v":0,"d":"0.00"},{"v":0,"d":"0.00"},{"v":0,"d":"0.00"},{"v":0,"d":"0.00"},{"v":0,"d":"0.00"},null,"ha",{"v":0,"d":"0.000"},{"v":0,"d":"0.000"},{"v":0,"d":"0.000"},{"v":0,"d":"0.000"},{"v":0,"d":"0.000"}]
[null,2,{"$nulls":3},0,0,0,0,0,{"v":0,"d":"0.00"},{"v":0,"d":"0.00"},{"v":0,"d":"0.00"},{"v":0,"d":"0.00"},{"v":0,"d":"0.00"},null,"ha",{"v":0,"d":"0.000"},{"v":0,"d":"0.000"},{"v":0,"d":"0.000"},{"v":0,"d":"0.000"},{"v":0,"d":"0.000"}]
[]
[]
["f) Maßnahmen zur Energieeinsparung\n(ohne Verkehr)",null,"Energie","7.3 Beitrag zum Klimaschutz",null,{"$f":"SUM(F31:F34)","v":0},{"$f":"SUM(G31:G34)","v":0},0,0,0,{"$f":"SUM(K31:K34)","v":{"v":0,"d":"0.00"}},{"$f":"SUM(L31:L34)","v":{"v":0,"d":"0.00"}},{"$f":"SUM(M31:M34)","v":{"v":0,"d":"0.00"}},{"$f":"SUM(N31:N34)","v":{"v":0,"d":"0.00"}},{"$f":"SUM(O31:O34)","v":{"v":0,"d":"0.00"}},"Anbaufläche mit geringerer Nutzung von Energie","ha",{"$f":"SUM(R31:R34)","v":{"v":0,"d":"0.000"}},{"$f":"SUM(S31:S34)","v":{"v":0,"d":"0.000"}},{"$f":"SUM(T31:T34)","v":{"v":0,"d":"0.000"}},{"$f":"SUM(U31:U34)","v":{"v":0,"d":"0.000"}},{"v":0,"d":"0.000"},"damit in Tabelle 4 die Unterschiede beim Energieverbrauch (Treibhauswärme) gefüllt werden  [(n-1)-(n)],\nerfolgen die Angaben in Tabelle 6.1 zum Umweltziel des nationalen Rahmens Nr. 7.3"]
[null,1,{"$nulls":3},0,0,0,0,0,{"v":0,"d":"0.00"},{"v":0,"d":"0.00"},{"v":0,"d":"0.00"},{"v":0,"d":"0.00"},{"v":0,"d":"0.00"},null,"ha",{"v":0,"d":"0.000"},{"v":0,"d":"0.000"},{"v":0,"d":"0.000"},{"v":0,"d":"0.000"},{"v":0,"d":"0.000"}]
[null,2,{"$nulls":3},0,0,0,0,0,{"v":0,"d":"0.00"},{"v":0,"d":"0.00"},{"v":0,"d":"0.00"},{"v":0,"d":"0.00"},{"v":0,"d":"0.00"},null,"ha",{"v":0,"d":"0.000"},{"v":0,"d":"0.000"},{"v":0,"d":"0.000"},{"v":0,"d":"0.000"},{"v":0,"d":"0.000"}]
[]
[]
["g) Maßnahmen zur Verringerung der Abfallproduktion und Verbesserung der Abfallbewirtschaftung",null,"Abfall","7.4 Reduzierung des Abfallvolumens",null,{"$f":"SUM(F36:F39)","v":0},{"$f":"SUM(G36:G39)","v":0},0,0,{"$f":"SUM(J36:J39)","v":0},{"$f":"SUM(K36:K39)","v":{"v":0,"d":"0.00"}},{"$f":"SUM(L36:L39)","v":{"v":0,"d":"0.00"}},{"$f":"SUM(M36:M39)","v":{"v":0,"d":"0.00"}},{"$f":"SUM(N36:N39)","v":{"v":0,"d":"0.00"}},{"$f":"SUM(O36:O39)","v":{"v":0,"d":"0.00"}},{"$nulls":7},"damit in Tabelle 4 die Unterschiede beim Abfallverbrauch gefüllt werden\n[(n-1)-(n)],\nerfolgen die Angaben in Tabelle 6.1 zum Umweltziel des nationalen Rahmens Nr. 7.4"]
[null,1,{"$nulls":3},0,0,0,0,0,{"v":0,"d":"0.00"},{"v":0,"d":"0.00"},{"v":0,"d":"0.00"},{"v":0,"d":"0.00"},{"v":0,"d":"0.00"}]
[null,2,{"$nulls":3},0,0,0,0,0,{"v":0,"d":"0.00"},{"v":0,"d":"0.00"},{"v":0,"d":"0.00"},{"v":0,"d":"0.00"},{"v":0,"d":"0.00"}]
[]
[]
["h) Verkehr",null,"Transport","7.3 Beitrag zum Klimaschutz",null,{"$f":"SUM(F41:F44)","v":0},{"$f":"SUM(G41:G44)","v":0},{"$f":"SUM(H41:H44)","v":0},{"$f":"SUM(I41:I44)","v":0},{"$f":"SUM(J41:J44)","v":0},{"$f":"SUM(K41:K44)","v":{"v":0,"d":"0.00"}},{"$f":"SUM(L41:L44)","v":{"v":0,"d":"0.00"}},{"$f":"SUM(M41:M44)","v":{"v":0,"d":"0.00"}},{"$f":"SUM(N41:N44)","v":{"v":0,"d":"0.00"}},{"$f":"SUM(O41:O44)","v":{"v":0,"d":"0.00"}},{"$nulls":7},"damit in Tabelle 4 die Unterschiede beim Energieverbrauch (Transport) gefüllt werden [(n-1)-(n)],\nerfolgen die Angaben in Tabelle 6.1 zum Umweltziel des nationalen Rahmens Nr. 7.3"]
[null,1,{"$nulls":3},0,0,0,0,0,{"v":0,"d":"0.00"},{"v":0,"d":"0.00"},{"v":0,"d":"0.00"},{"v":0,"d":"0.00"},{"v":0,"d":"0.00"}]
[null,2,{"$nulls":3},0,0,0,0,0,{"v":0,"d":"0.00"},{"v":0,"d":"0.00"},{"v":0,"d":"0.00"},{"v":0,"d":"0.00"},{"v":0,"d":"0.00"}]
[]
[]
["i) Vermarktung",null,"Vermarktung","7. Ressourcen schonende Erzeugung und Vermarktung sicherer Produkte\n(s. nationaler Rahmen für Umweltmaßnahmen)",null,{"$f":"SUM(F46:F49)","v":0},{"$f":"SUM(G46:G49)","v":0},{"$f":"SUM(H46:H49)","v":0},{"$f":"SUM(I46:I49)","v":0},{"$f":"SUM(J46:J49)","v":0},{"$f":"SUM(K46:K49)","v":{"v":0,"d":"0.00"}},{"$f":"SUM(L46:L49)","v":{"v":0,"d":"0.00"}},{"$f":"SUM(M46:M49)","v":{"v":0,"d":"0.00"}},{"$f":"SUM(N46:N49)","v":{"v":0,"d":"0.00"}},{"$f":"SUM(O46:O49)","v":{"v":0,"d":"0.00"}},"Zahl der Aktionen","(***)",0,0,0,0,0]
[null,1,{"$nulls":3},0,0,0,0,0,{"v":0,"d":"0.00"},{"v":0,"d":"0.00"},{"v":0,"d":"0.00"},{"v":0,"d":"0.00"},{"v":0,"d":"0.00"}]
[null,2,{"$nulls":3},0,0,0,0,0,{"v":0,"d":"0.00"},{"v":0,"d":"0.00"},{"v":0,"d":"0.00"},{"v":0,"d":"0.00"},{"v":0,"d":"0.00"},null,null,0,0,0,0,0]
[]
[]
[]
[{"$nulls":4},"Summe:",{"$f":"SUM(F13:F15,F20,F25,F30,F35,F40,F45,)","v":0},0,0,0,0,{"v":0,"d":"0.00"},{"v":0,"d":"0.00"},{"v":0,"d":"0.00"},{"v":0,"d":"0.00"},{"v":0,"d":"0.00"}]
[]
["Erläuterungen der EU-KOM  in deutscher Fassung vom 09.10.2019"]
["(*) Zahl der Betriebe","Zahl der Betriebe, denen die Investition zugutekommt."]
[null,"Wird die Investition gemeinsam getätigt, ist hier die Zahl aller beteiligten Betriebe anzugeben."]
[null,"Wird die Investition auf Ebene der EO getätigt, ist hier die Zahl aller der EO und deren Mitgliedern angeschlossenen Betriebe anzugeben."]
[null,"KOM 21.11.18: Doppelzählungen, aufgrund mehrerer Aktionen eines Betriebes sind zulässig."]
["(**) Gesamtwert:","Wert der Investitionen im Zusammenhang mit jeder Aktion/Maßnahme und jedem Ziel. Dieser Wert muss dem Gesamtwert der Investitionen für die einzelnen in Tabelle 3.2 gemeldeten Aktionen/Maßnahmen entsprechen."]
["(***) Zahl der Aktionen","Hinweis: entspricht der Anzahl der Aktionen in Spalte A)"]
[]
["Fußnoten gem. DVO (EU) 2017/892, Anhang II geändert mit DVO (EU) 2018/1146"]
["(5) Als ‚bodenerosionsgefährdet‘ gelten Parzellen in Hanglage mit einer Neigung von über 10 %, und zwar unabhängig davon, ob Maßnahmen zum Erosionsschutz \n(z. B. Bodenbegrünung, Fruchtfolge usw.) getroffen wurden oder nicht. Liegen die betreffenden Informationen nicht vor, kann der Mitgliedstaat stattdessen die folgende Definition verwenden: \nAls ‚bodenerosionsgefährdet‘ gelten Parzellen mit einem absehbaren über die Rate der natürlichen Bodenbildung hinausgehenden Bodenverlust, und zwar unabhängig davon, ob Maßnahmen zum Erosionsschutz (z. B. Bodenbegrünung, Fruchtfolge usw.) getroffen wurden oder nicht."]

{"sheet":"T5.8 Krise","index":13,"n_rows":45,"n_cols":24,"rows_kept":45,"merged":[[6,0,9,0],[6,1,6,2],[6,3,7,3],[6,4,7,4],[6,5,6,21],[6,22,6,23],[7,1,7,2],[7,5,7,9],[7,10,7,14],[7,15,7,21],[8,1,9,1],[8,2,9,2],[8,3,9,3],[8,4,9,4],[8,15,9,15],[8,16,9,16],[8,22,9,22],[8,23,9,23],[11,5,11,21],[11,22,11,23],[12,5,12,21],[12,22,12,23],[13,0,15,0],[13,22,13,23],[18,5,18,21],[18,22,18,23],[19,5,19,21],[19,22,19,23],[20,5,20,21],[20,22,20,23],[21,15,21,21],[21,22,21,23],[22,15,22,21],[23,15,23,21],[24,15,24,21],[25,15,25,21],[26,5,26,21],[26,22,26,23],[34,1,34,4]]}
[]
["Name der EO / LEO ",null,{"$f":"Name_der_EO_LEO","v":"Name_der_EO_LEO"},"Berichtsjahr ",{"$f":"Berichtsjahr","v":"2020"},{"$nulls":5},"Ausfüllen","Formel","keine Angaben","keine Angaben",{"$nulls":9},"Tabelle 5.8"]
[]
["EO- / LEO-Code ",null,{"$f":"EO_Code","v":"DE XXXX"}]
[]
["Tabelle 5.8: Ziel Krisenprävention und Krisenmanagement"]
["Aktionen / Maßnahmen\nArt. 2 (f) + (g) der Deleg. VO (EU) 2017/891","A)\nBenennung der durchgeführten Aktionen",null,"B)\nmit der jeweiligen Aktion verfolgtes, wichtigstes Ziel\ngem. nationaler Strategie","C)\nErläuterung, wie das Ziel erreicht werden soll","D) Indikatoren\nzahlungsrelevanten Daten für OP-Jahre vor dem Berichtsjahr",{"$nulls":16},"E) Änderungen-OP"]
[null,"(ggf. direkt unter Aktion 5 weitere Zeilen einfügen \nund die Anzahl fortlaufend ergänzen)",{"$nulls":3},"Zahl der Betriebe (*)",{"$nulls":4},"Gesamtwert (**)\nin €",{"$nulls":4},"weitere lt. Tabelle 4",{"$nulls":6},"Abbruch / Aufnahme Aktion","Begründung bzw. Problemdarstellung"]
[null,"An-zahl","eine Aktion = eine Zeile","Auswahlfeld","Text kurz und aussagekräftig",{"$f":"Berichtsjahr","v":"2020"},{"$f":"IF('T5.1 Invest'!G9,'T5.1 Invest'!G9,\"\")","v":""},{"$f":"IF('T5.1 Invest'!H9,'T5.1 Invest'!H9,\"\")","v":""},{"$f":"IF('T5.1 Invest'!I9,'T5.1 Invest'!I9,\"\")","v":""},{"$f":"IF('T5.1 Invest'!J9,'T5.1 Invest'!J9,\"\")","v":""},{"$f":"Berichtsjahr","v":"2020"},{"$f":"IF('T5.1 Invest'!G9,'T5.1 Invest'!G9,\"\")","v":""},{"$f":"IF('T5.1 Invest'!H9,'T5.1 Invest'!H9,\"\")","v":""},{"$f":"IF('T5.1 Invest'!I9,'T5.1 Invest'!I9,\"\")","v":""},{"$f":"IF('T5.1 Invest'!J9,'T5.1 Invest'!J9,\"\")","v":""},"Indikator","Maß-einheit",{"$f":"Berichtsjahr","v":"2020"},{"$f":"IF('T5.1 Invest'!G9,'T5.1 Invest'!G9,\"\")","v":""},{"$f":"IF('T5.1 Invest'!H9,'T5.1 Invest'!H9,\"\")","v":""},{"$f":"IF('T5.1 Invest'!I9,'T5.1 Invest'!I9,\"\")","v":""},{"$f":"IF('T5.1 Invest'!J9,'T5.1 Invest'!J9,\"\")","v":""},"Auswahlfeld","Text kurz und aussagekräftig"]
[{"$nulls":5},"(n)","(n-1)","(n-2)","(n-3)","(n-4)","(n)","(n-1)","(n-2)","(n-3)","(n-4)",null,null,"(n)","(n-1)","(n-2)","(n-3)","(n-4)"]
[]
["a) Errichtung von Fonds auf Gegenseitigkeit (6)",null,"keine Anwendung in DE (***)"]
["b) Neubefüllung von Fonds auf Gegenseitigkeit (6)",null,"keine Anwendung in DE (***)"]
["c) Wiederbepflanzung von Obstplantagen",null,"Nationale Strategie Nr. 3.2.6",null,null,{"$f":"SUM(F15:F18)","v":0},0,0,0,0,{"v":0,"d":"0.00"},{"v":0,"d":"0.00"},{"v":0,"d":"0.00"},{"v":0,"d":"0.00"},{"v":0,"d":"0.00"},"Fläche","ha",{"$f":"SUM(R15:R18)","v":{"v":0,"d":"0.000"}},{"$f":"SUM(S15:S18)","v":{"v":0,"d":"0.000"}},{"$f":"SUM(T15:T18)","v":{"v":0,"d":"0.000"}},{"$f":"SUM(U15:U18)","v":{"v":0,"d":"0.000"}},{"$f":"SUM(V15:V18)","v":{"v":0,"d":"0.000"}}]
[null,1,{"$nulls":3},0,0,0,0,0,{"v":0,"d":"0.00"},{"v":0,"d":"0.00"},{"v":0,"d":"0.00"},{"v":0,"d":"0.00"},{"v":0,"d":"0.00"},null,"ha",{"v":0,"d":"0.000"},{"v":0,"d":"0.000"},{"v":0,"d":"0.000"},{"v":0,"d":"0.000"},{"v":0,"d":"0.000"}]
[null,2,{"$nulls":3},0,0,0,0,0,{"v":0,"d":"0.00"},{"v":0,"d":"0.00"},{"v":0,"d":"0.00"},{"v":0,"d":"0.00"},{"v":0,"d":"0.00"},null,"ha",{"v":0,"d":"0.000"},{"v":0,"d":"0.000"},{"v":0,"d":"0.000"},{"v":0,"d":"0.000"},{"v":0,"d":"0.000"}]
[]
[]
["d) Marktrücknahmen (7)",null,"keine Anwendung in DE (***)"]
["e) Ernte vor der Reife (8)",null,"keine Anwendung in DE (***)"]
["f) Nichternten (8)",null,"keine Anwendung in DE (***)"]
["g) Ernteversicherungen",null,"Nationale Strategie Nr. 3.2.6",null,null,{"$f":"SUM(F23:F26)","v":0},{"$f":"SUM(G23:G26)","v":0},{"$f":"SUM(H23:H26)","v":0},{"$f":"SUM(I23:I26)","v":0},{"$f":"SUM(J23:J26)","v":0},{"$f":"SUM(K23:K26)","v":{"v":0,"d":"0.00"}},{"$f":"SUM(L23:L26)","v":{"v":0,"d":"0.00"}},{"v":0,"d":"0.00"},{"v":0,"d":"0.00"},{"v":0,"d":"0.00"}]
[null,1,{"$nulls":3},0,0,0,0,0,{"v":0,"d":"0.00"},{"v":0,"d":"0.00"},{"v":0,"d":"0.00"},{"v":0,"d":"0.00"},{"v":0,"d":"0.00"}]
[null,2,{"$nulls":3},0,0,0,0,0,{"v":0,"d":"0.00"},{"v":0,"d":"0.00"},{"v":0,"d":"0.00"},{"v":0,"d":"0.00"},{"v":0,"d":"0.00"},null,"ha",2]
[]
[]
["h) Coaching",null,"keine Anwendung in DE (***)"]
[]
[{"$nulls":4},"Summe:",{"$f":"SUM(F14,F22,)","v":0},0,0,0,0,{"v":0,"d":"0.00"},{"v":0,"d":"0.00"},{"v":0,"d":"0.00"},{"v":0,"d":"0.00"},{"v":0,"d":"0.00"}]
["Erläuterungen der EU-KOM  in deutscher Fassung vom 09.10.2019"]
["(*) Zahl der Betriebe","Zahl der Betriebe, denen die Investition zugutekommt."]
[null,"Wird die Investition gemeinsam getätigt, ist hier die Zahl aller beteiligten Betriebe anzugeben."]
[null,"Wird die Investition auf Ebene der EO getätigt, ist hier die Zahl aller der EO und deren Mitgliedern angeschlossenen Betriebe anzugeben."]
[null,"KOM 21.11.18: Doppelzählungen, aufgrund mehrerer Aktionen eines Betriebes sind zulässig."]
["(**) Gesamtwert:","Wert der Investitionen im Zusammenhang mit jeder Aktion/Maßnahme und jedem Ziel. Dieser Wert muss dem Gesamtwert der Investitionen für die einzelnen in Tabelle 3.2 gemeldeten Aktionen/Maßnahmen entsprechen."]
["(***) OGErzeugerOrgDV","§ 15 Krisenprävention und Krisenmanagement"]
[null,"Die folgenden Maßnahmen zur Krisenprävention und zum Krisenmanagement werden in Deutschland nicht angewandt:"]
[null,"1. Marktrücknahmen,"]
[null,"2. die Ernte vor der Reife oder das Nichternten von Obst und Gemüse,"]
[null,"3. Finanzhilfen zu den Verwaltungskosten für die Einrichtung von Risikofonds auf Gegenseitigkeit,"]
[null,"4. Investitionen zur effizienteren Steuerung der auf den Markt gebrachten Mengen."]
[null,"5. Coaching (OGErzeugerOrgDV neue Fassung)"]
[]
["Fußnoten gem. DVO (EU) 2017/892, Anhang II geändert mit DVO (EU) 2018/1146 (s. Tabellenblatt DVO)"]
[" - nicht relevant für DE"]

{"sheet":"T5.9 Sonst","index":14,"n_rows":52,"n_cols":17,"rows_kept":52,"merged":[[6,0,9,0],[6,1,6,2],[6,3,7,3],[6,4,7,4],[6,5,6,14],[6,15,6,16],[7,1,7,2],[7,5,7,9],[7,10,7,14],[8,1,9,1],[8,2,9,2],[8,3,9,3],[8,4,9,4],[8,15,9,15],[8,16,9,16],[51,1,51,4]]}
[]
["Name der EO / LEO ",null,{"$f":"Name_der_EO_LEO","v":"Name_der_EO_LEO"},"Berichtsjahr ",{"$f":"Berichtsjahr","v":"2020"},{"$nulls":5},"Ausfüllen","Formel","keine Angaben",{"$nulls":3},"Tabelle 5.9"]
[]
["EO- / LEO-Code ",null,{"$f":"EO_Code","v":"DE XXXX"}]
[]
["Tabelle 5.9: Sonstige Maßnahmen"]
["Ziele\nArt. 33 (1) + (3) und\n152 (1) (c) \nder VO (EU) Nr. 1308/2013","A)\nBenennung der durchgeführten Aktionen",null,"B)\nmit der jeweiligen Aktion verfolgtes, wichtigstes Ziel\ngem. nationaler Strategie","C)\nErläuterung, wie das Ziel erreicht werden soll","D) Indikatoren\nzahlungsrelevanten Daten für OP-Jahre vor dem Berichtsjahr",{"$nulls":9},"E) Änderungen-OP"]
[null,"(ggf. direkt unter Aktion 5 weitere Zeilen einfügen \nund die Anzahl fortlaufend ergänzen)",{"$nulls":3},"Zahl der Betriebe (*)",{"$nulls":4},"Gesamtwert (**)\nin €",{"$nulls":4},"Abbruch / Aufnahme Aktion","Begründung bzw. Problemdarstellung"]
[null,"An-zahl","eine Aktion = eine Zeile","Auswahlfeld","Text kurz und aussagekräftig",{"$f":"Berichtsjahr","v":"2020"},{"$f":"IF('T5.1 Invest'!G9,'T5.1 Invest'!G9,\"\")","v":""},{"$f":"IF('T5.1 Invest'!H9,'T5.1 Invest'!H9,\"\")","v":""},{"$f":"IF('T5.1 Invest'!I9,'T5.1 Invest'!I9,\"\")","v":""},{"$f":"IF('T5.1 Invest'!J9,'T5.1 Invest'!J9,\"\")","v":""},{"$f":"Berichtsjahr","v":"2020"},{"$f":"IF('T5.1 Invest'!G9,'T5.1 Invest'!G9,\"\")","v":""},{"$f":"IF('T5.1 Invest'!H9,'T5.1 Invest'!H9,\"\")","v":""},{"$f":"IF('T5.1 Invest'!I9,'T5.1 Invest'!I9,\"\")","v":""},{"$f":"IF('T5.1 Invest'!J9,'T5.1 Invest'!J9,\"\")","v":""},"Auswahlfeld","Text kurz und aussagekräftig"]
[{"$nulls":5},"(n)","(n-1)","(n-2)","(n-3)","(n-4)","(n)","(n-1)","(n-2)","(n-3)","(n-4)"]
[]
["1. Planung der Produktion",null,"Nationale Strategie Nr. 3.2.8.2",null,null,{"$f":"SUM(F13:F19)","v":0},0,0,0,0,{"v":0,"d":"0.00"},{"v":0,"d":"0.00"},{"v":0,"d":"0.00"},{"v":0,"d":"0.00"},{"v":0,"d":"0.00"}]
[null,1,{"$nulls":3},0,0,0,0,0,{"v":0,"d":"0.00"},{"v":0,"d":"0.00"},{"v":0,"d":"0.00"},{"v":0,"d":"0.00"},{"v":0,"d":"0.00"}]
[null,2,{"$nulls":3},0,0,0,0,0,{"v":0,"d":"0.00"},{"v":0,"d":"0.00"},{"v":0,"d":"0.00"},{"v":0,"d":"0.00"},{"v":0,"d":"0.00"}]
[null,3,{"$nulls":3},0,0,0,0,0,{"v":0,"d":"0.00"},{"v":0,"d":"0.00"},{"v":0,"d":"0.00"},{"v":0,"d":"0.00"},{"v":0,"d":"0.00"}]
[null,4,{"$nulls":3},0,0,0,0,0,{"v":0,"d":"0.00"},{"v":0,"d":"0.00"},{"v":0,"d":"0.00"},{"v":0,"d":"0.00"},{"v":0,"d":"0.00"}]
[null,5,{"$nulls":3},0,0,0,0,0,{"v":0,"d":"0.00"},{"v":0,"d":"0.00"},{"v":0,"d":"0.00"},{"v":0,"d":"0.00"},{"v":0,"d":"0.00"}]
[]
[]
["2. Verbesserung der Qualität der Erzeugnisse",null,"Nationale Strategie Nr. 3.2.2.2 und 3.2.8.2",null,null,{"$f":"SUM(F21:F27)","v":0},{"$f":"SUM(G21:G27)","v":0},{"$f":"SUM(H21:H27)","v":0},{"$f":"SUM(I21:I27)","v":0},{"$f":"SUM(J21:J27)","v":0},{"$f":"SUM(K21:K27)","v":{"v":0,"d":"0.00"}},{"$f":"SUM(L21:L27)","v":{"v":0,"d":"0.00"}},{"v":0,"d":"0.00"},{"v":0,"d":"0.00"},{"v":0,"d":"0.00"}]
[null,1,{"$nulls":3},0,0,0,0,0,{"v":0,"d":"0.00"},{"v":0,"d":"0.00"},{"v":0,"d":"0.00"},{"v":0,"d":"0.00"},{"v":0,"d":"0.00"}]
[null,2,{"$nulls":3},0,0,0,0,0,{"v":0,"d":"0.00"},{"v":0,"d":"0.00"},{"v":0,"d":"0.00"},{"v":0,"d":"0.00"},{"v":0,"d":"0.00"}]
[null,3,{"$nulls":3},0,0,0,0,0,{"v":0,"d":"0.00"},{"v":0,"d":"0.00"},{"v":0,"d":"0.00"},{"v":0,"d":"0.00"},{"v":0,"d":"0.00"}]
[null,4,{"$nulls":3},0,0,0,0,0,{"v":0,"d":"0.00"},{"v":0,"d":"0.00"},{"v":0,"d":"0.00"},{"v":0,"d":"0.00"},{"v":0,"d":"0.00"}]
[null,5,{"$nulls":3},0,0,0,0,0,{"v":0,"d":"0.00"},{"v":0,"d":"0.00"},{"v":0,"d":"0.00"},{"v":0,"d":"0.00"},{"v":0,"d":"0.00"}]
[]
[]
["3. Steigerung des Vermarktungswerts der Erzeugnisse",null,"Nationale Strategie Nr. 3.2.3.2 und 3.2.8.2",null,null,{"$f":"SUM(F29:F35)","v":0},{"$f":"SUM(G29:G35)","v":0},{"$f":"SUM(H29:H35)","v":0},{"$f":"SUM(I29:I35)","v":0},{"$f":"SUM(J29:J35)","v":0},{"$f":"SUM(K29:K35)","v":{"v":0,"d":"0.00"}},{"$f":"SUM(L29:L35)","v":{"v":0,"d":"0.00"}},{"v":0,"d":"0.00"},{"v":0,"d":"0.00"},{"v":0,"d":"0.00"}]
[null,1,{"$nulls":3},0,0,0,0,0,{"v":0,"d":"0.00"},{"v":0,"d":"0.00"},{"v":0,"d":"0.00"},{"v":0,"d":"0.00"},{"v":0,"d":"0.00"}]
[null,2,{"$nulls":3},0,0,0,0,0,{"v":0,"d":"0.00"},{"v":0,"d":"0.00"},{"v":0,"d":"0.00"},{"v":0,"d":"0.00"},{"v":0,"d":"0.00"}]
[null,3,{"$nulls":3},0,0,0,0,0,{"v":0,"d":"0.00"},{"v":0,"d":"0.00"},{"v":0,"d":"0.00"},{"v":0,"d":"0.00"},{"v":0,"d":"0.00"}]
[null,4,{"$nulls":3},0,0,0,0,0,{"v":0,"d":"0.00"},{"v":0,"d":"0.00"},{"v":0,"d":"0.00"},{"v":0,"d":"0.00"},{"v":0,"d":"0.00"}]
[null,5,{"$nulls":3},0,0,0,0,0,{"v":0,"d":"0.00"},{"v":0,"d":"0.00"},{"v":0,"d":"0.00"},{"v":0,"d":"0.00"},{"v":0,"d":"0.00"}]
[]
[]
["5. Umweltmaßnahmen",null,"Nationale Strategie Nr. 3.2.7, Anhang 4  und 3.2.8.2",null,null,{"$f":"SUM(F37:F43)","v":0},{"$f":"SUM(G37:G43)","v":0},{"$f":"SUM(H37:H43)","v":0},{"$f":"SUM(I37:I43)","v":0},{"$f":"SUM(J37:J43)","v":0},{"$f":"SUM(K37:K43)","v":{"v":0,"d":"0.00"}},{"$f":"SUM(L37:L43)","v":{"v":0,"d":"0.00"}},{"v":0,"d":"0.00"},{"v":0,"d":"0.00"},{"v":0,"d":"0.00"}]
[null,1,{"$nulls":3},0,0,0,0,0,{"v":0,"d":"0.00"},{"v":0,"d":"0.00"},{"v":0,"d":"0.00"},{"v":0,"d":"0.00"},{"v":0,"d":"0.00"}]
[null,2,{"$nulls":3},0,0,0,0,0,{"v":0,"d":"0.00"},{"v":0,"d":"0.00"},{"v":0,"d":"0.00"},{"v":0,"d":"0.00"},{"v":0,"d":"0.00"}]
[null,3,{"$nulls":3},0,0,0,0,0,{"v":0,"d":"0.00"},{"v":0,"d":"0.00"},{"v":0,"d":"0.00"},{"v":0,"d":"0.00"},{"v":0,"d":"0.00"}]
[null,4,{"$nulls":3},0,0,0,0,0,{"v":0,"d":"0.00"},{"v":0,"d":"0.00"},{"v":0,"d":"0.00"},{"v":0,"d":"0.00"},{"v":0,"d":"0.00"}]
[null,5,{"$nulls":3},0,0,0,0,0,{"v":0,"d":"0.00"},{"v":0,"d":"0.00"},{"v":0,"d":"0.00"},{"v":0,"d":"0.00"},{"v":0,"d":"0.00"}]
[]
[]
[]
[{"$nulls":4},"Summe:",{"$f":"SUM(F12,F20,F28,F36,)","v":0},0,0,0,0,{"v":0,"d":"0.00"},{"v":0,"d":"0.00"},{"v":0,"d":"0.00"},{"v":0,"d":"0.00"},{"v":0,"d":"0.00"}]
[]
["Erläuterungen der EU-KOM  in deutscher Fassung vom 09.10.2019"]
["(*) Zahl der Betriebe","Zahl der Betriebe, denen die Investition zugutekommt."]
[null,"Wird die Investition gemeinsam getätigt, ist hier die Zahl aller beteiligten Betriebe anzugeben."]
[null,"Wird die Investition auf Ebene der EO getätigt, ist hier die Zahl aller der EO und deren Mitgliedern angeschlossenen Betriebe anzugeben."]
[null,"KOM 21.11.18: Doppelzählungen, aufgrund mehrerer Aktionen eines Betriebes sind zulässig."]
["(**) Gesamtwert:","Wert der Investitionen im Zusammenhang mit jeder Aktion/Maßnahme und jedem Ziel. Dieser Wert muss dem Gesamtwert der Investitionen für die einzelnen in Tabelle 3.2 gemeldeten Aktionen/Maßnahmen entsprechen."]

{"sheet":"T6.1 Sam_Indi NSt","index":15,"n_rows":68,"n_cols":14,"rows_kept":68,"merged":[[1,2,1,4],[3,2,3,3],[7,0,9,2],[7,3,8,3],[7,4,9,5],[7,6,9,6],[7,12,9,12],[7,13,9,13],[9,8,9,11],[10,0,10,2],[10,4,10,5],[11,0,11,6],[11,7,11,13],[12,1,12,2],[12,4,12,5],[13,0,14,0],[13,1,14,2],[13,4,13,5],[14,4,14,5],[15,1,15,2],[15,4,15,5],[16,0,16,6],[16,7,16,13],[17,1,17,2],[17,4,17,5],[18,1,18,2],[18,4,18,5],[19,1,19,2],[19,4,19,5],[20,1,20,2],[20,4,20,5],[21,1,21,2],[21,4,21,5],[22,0,23,0],[22,1,23,2],[22,4,22,5],[23,4,23,5],[24,1,24,6],[24,7,24,13],[25,0,27,0],[25,1,27,2],[25,3,27,3],[25,4,27,5],[28,0,30,0],[28,1,30,2],[28,3,30,3],[28,4,30,5],[31,0,41,0],[31,1,41,2],[31,3,41,3],[31,4,32,5],[33,4,33,5],[34,4,34,5],[35,4,35,5],[36,4,36,5],[37,4,37,5],[38,4,40,5],[41,4,41,5],[42,0,52,0],[42,1,52,2],[42,3,52,3],[42,4,44,5],[45,4,45,5],[46,4,49,4],[50,4,52,4],[53,0,59,0],[53,1,59,2],[53,3,59,3],[53,4,55,5],[56,4,56,5],[57,4,57,5],[58,4,58,5],[59,4,59,5],[60,1,60,2],[60,4,60,5],[63,0,63,6],[64,0,64,6],[65,0,65,6],[66,0,66,6],[67,0,67,6]]}
[]
[null,"Name der EO / LEO ",{"$f":"'T1 Deck'!D14","v":"Name_der_EO_LEO"},{"$nulls":4},"Laufzeit \ndes OP",{"$f":"Laufzeit_des_OP","v":"JJJJ - JJJJ"},null,"Formel","Ausfüllen","ggf. Ausfüllen","Tabelle 6.1"]
[]
[null,"EO- / LEO-Code  ",{"$f":"EO_Code","v":"DE XXXX"}]
[]
["Tabelle 6.1: Datensammlung der Indikatoren gemäß Nationaler Strategie (s. Anhang 1 und 4)"]
[]
["Allgemeine und Spezifische Ziele der nationalen Strategie einschl. der Zielbereiche des nationalen Umweltrahmens",null,null,"verfolgte Ziele","Indikator",null,"Maß-\neinheit",{"$f":"Berichtsjahr","v":"2020"},{"$f":"IF('T5.1 Invest'!G9,'T5.1 Invest'!G9,\"\")","v":""},{"$f":"IF('T5.1 Invest'!H9,'T5.1 Invest'!H9,\"\")","v":""},{"$f":"IF('T5.1 Invest'!I9,'T5.1 Invest'!I9,\"\")","v":""},{"$f":"IF('T5.1 Invest'!J9,'T5.1 Invest'!J9,\"\")","v":""},"Ausgangswert","Zielwert"]
[{"$nulls":7},"Berichtsjahr (n)","(n-1)","(n-2)","(n-3)","(n-4)"]
[{"$nulls":3},"Auswahlfeld",{"$nulls":3},"vorläufige Daten","zahlungsrelevante Daten"]
[]
["Allgemeine Ziele (Anhang 1)",{"$nulls":6},"mittels Formeln werden z.T. bereits Werte aus den Angaben von Tabelle 2 und 3 übernommen"]
["A.","Verbesserung der Wettbewerbsfähigkeit ",null,null,"Wert der vermarkteten Erzeugung (WvE) ",null,"€",{"$f":"SUM('T2 EO'!G24,'T2 EO'!G26)","v":{"v":0,"d":"0.00"}},{"v":0,"d":"0.00"},{"v":0,"d":"0.00"},{"v":0,"d":"0.00"},{"v":0,"d":"0.00"},{"v":0,"d":"0.00"},{"v":0,"d":"0.00"}]
["B.","Verbesserung der Attraktivität der Mitgliedschaft in Erzeugerorganisation",null,null,"Anzahl Obst- und Gemüseerzeuger, die aktive Mitglieder der EO / LEO sind",null,"Anzahl",{"$f":"'T2 EO'!G11","v":0},0,0,0,0,0,0]
[{"$nulls":4},"Gesamtanbaufläche für Obst und Gemüse, die von Mitgliedern der EO / LEO kultiviert wird",null,"ha",{"v":0,"d":"0.000"},{"v":0,"d":"0.000"},{"v":0,"d":"0.000"},{"v":0,"d":"0.000"},{"v":0,"d":"0.000"},{"v":0,"d":"0.000"},{"v":0,"d":"0.000"}]
["C.","Erhaltung und Schutz der Umwelt"]
["Spezifische Ziele (Anhang 1)"]
["1.","Förderung der Angebotskonzentration",null,null,"Menge der vermarkteten Erzeugung (MvE)",null,"t",{"$f":"SUM('T2 EO'!G25,'T2 EO'!G27)","v":{"v":0,"d":"0.000"}},{"v":0,"d":"0.000"},{"v":0,"d":"0.000"},{"v":0,"d":"0.000"},{"v":0,"d":"0.000"},{"v":0,"d":"0.000"},{"v":0,"d":"0.000"}]
["2.","Verbesserung der Marktorientierung",null,null,"Durchschnittlicher Wert der vermarkteten Erzeugung (WvE / MvE)",null,"€ / kg",{"$f":"IF(ISERROR(H13/H18/1000),\"0\",H13/H18/1000)","v":"0"},{"$f":"IF(ISERROR(I13/I18/1000),\"0\",I13/I18/1000)","v":"0"},"0","0","0","0","0"]
["3.","Steigerung und Erhaltung der Qualität",null,null,"Menge der vermarkteten Erzeugung, die die Anforderungen eines spezifischen Qualitätssicherungssystems erfüllt",null,"t",{"v":0,"d":"0.000"},{"v":0,"d":"0.000"},{"v":0,"d":"0.000"},{"v":0,"d":"0.000"},{"v":0,"d":"0.000"},{"v":0,"d":"0.000"},{"v":0,"d":"0.000"}]
["4.","Verbesserung des Mitgliedermanagements und des Anreizes zur Mitgliedschaft"]
["5.","Effizienzsteigerung",null,null,"Bruttoarbeitsproduktivität (WvE / Arbeitskräfteeinsatz)",null,"€ / Anzahl",{"v":0,"d":"0.00"},{"v":0,"d":"0.00"},{"v":0,"d":"0.00"},{"v":0,"d":"0.00"},{"v":0,"d":"0.00"},{"v":0,"d":"0.00"},{"v":0,"d":"0.00"}]
["6.","Kompetenzentwicklung / Steigerung der Innovationsfähigkeit",null,null,"Anzahl der Personen, die in den letzten drei Jahren eine Weiterbildung / ein Weiterbildungsprogramm absolviert haben",null,"Anzahl",0,0,0,0,0,0,0]
[{"$nulls":4},"Anzahl der Betriebe (Mitglieder), die Beratungsdienste in Anspruch nehmen",null,"Anzahl",0,0,0,0,0,0,0]
["7.","Spezifische Ziele Umwelt (Anhang 1) und\nNationaler Rahmen für Umweltmaßnahmen (Anhang 4)",{"$nulls":5},"mittels Formeln werden z.T. bereits Werte aus den Angaben von Tabelle 5.7 übernommen"]
["7.1","Verminderung von Rückständen / unerwünschten Stoffen als Beitrag zum Schutz der menschlichen Gesundheit",null,null," - Einsatz von alternativen Methoden und Verfahren zum chemischen Pflanzenschutz\n - Verwendung von resistentem Saat- und Pflanzgut sowie standortangepasster Sorten\n - Einsatz thermischer Bodendesinfektion\n - Einsatz umweltfreundlicher Kulturverfahren\n(Anzahl der teilnehmenden Betriebe, Anzahl der Aktionen, Umfang der betroffenen Fläche)",null,"Anzahl \nBetriebe",0,0,0,0,0,0,0]
[{"$nulls":6},"Anzahl\nAktionen",0,0,0,0,0,0,0]
[{"$nulls":6},"ha",{"v":0,"d":"0.000"},{"v":0,"d":"0.000"},{"v":0,"d":"0.000"},{"v":0,"d":"0.000"},{"v":0,"d":"0.000"},{"v":0,"d":"0.000"},{"v":0,"d":"0.000"}]
["7.2","Nachhaltige Nutzung und Schutz der natürlichen Ressourcen, insbesondere Boden, Wasser und Luft",null,null," - Verwendung von Maschinen und Geräten mit ressourcen-schonender Sonderausstattung\n - Einsatz umweltfreundlicher Schmierstoffe und Hydrauliköle\n - Verwendung von Verfahren zur standortangepassten Boden- und Bestandsführung\n(Anzahl der teilnehmenden Betriebe, Anzahl der Aktionen, Gesamtinvestitionswert)",null,"Anzahl \nBetriebe",0,0,0,0,0,0,0]
[{"$nulls":6},"Anzahl\nAktionen",0,0,0,0,0,0,0]
[{"$nulls":6},"€",{"v":0,"d":"0.00"},{"v":0,"d":"0.00"},{"v":0,"d":"0.00"},{"v":0,"d":"0.00"},{"v":0,"d":"0.00"},{"v":0,"d":"0.00"},{"v":0,"d":"0.00"}]
["7.2","Nachhaltige Nutzung und Schutz der natürlichen Ressourcen, insbesondere Boden, Wasser und Luft",null,null," - Integrierte Produktion\n - Ökologische Produktion\n(Anzahl teilnehmender Betriebe, Anzahl der Aktionen)",null,"Anzahl \nBetriebe",{"$f":"SUM('T5.7 Umwelt'!F13:F14)","v":0},{"$f":"SUM('T5.7 Umwelt'!G13:G14)","v":0},{"$f":"SUM('T5.7 Umwelt'!H13:H14)","v":0},{"$f":"SUM('T5.7 Umwelt'!I13:I14)","v":0},{"$f":"SUM('T5.7 Umwelt'!J13:J14)","v":0},0,0]
[{"$nulls":6},"Anzahl\nAktionen",0,0,0,0,0,0,0]
[{"$nulls":4},"Ökologisch bewirtschaftete Obst- und / oder Gemüse-anbaufläche",null,"ha",{"$f":"'T5.7 Umwelt'!R13","v":{"v":0,"d":"0.000"}},{"$f":"'T5.7 Umwelt'!S13","v":{"v":0,"d":"0.000"}},{"$f":"'T5.7 Umwelt'!T13","v":{"v":0,"d":"0.000"}},{"$f":"'T5.7 Umwelt'!U13","v":{"v":0,"d":"0.000"}},{"$f":"'T5.7 Umwelt'!V13","v":{"v":0,"d":"0.000"}},{"v":0,"d":"0.000"},{"v":0,"d":"0.000"}]
[{"$nulls":4},"Integriert bewirtschaftete Obst- und / oder Gemüse-anbaufläche",null,"ha",{"$f":"'T5.7 Umwelt'!R14","v":{"v":0,"d":"0.000"}},{"$f":"'T5.7 Umwelt'!S14","v":{"v":0,"d":"0.000"}},{"$f":"'T5.7 Umwelt'!T14","v":{"v":0,"d":"0.000"}},{"$f":"'T5.7 Umwelt'!U14","v":{"v":0,"d":"0.000"}},{"$f":"'T5.7 Umwelt'!V14","v":{"v":0,"d":"0.000"}},{"v":0,"d":"0.000"},{"v":0,"d":"0.000"}]
[{"$nulls":4},"durch Bodenerosion gefährdete Obst- und Gemüse-anbaufläche, auf der Erosionsschutzmaßnahmen durchgeführt werden",null,"ha",{"$f":"'T5.7 Umwelt'!R20","v":{"v":0,"d":"0.000"}},{"$f":"'T5.7 Umwelt'!S20","v":{"v":0,"d":"0.000"}},{"$f":"'T5.7 Umwelt'!T20","v":{"v":0,"d":"0.000"}},{"$f":"'T5.7 Umwelt'!U20","v":{"v":0,"d":"0.000"}},{"$f":"'T5.7 Umwelt'!V20","v":{"v":0,"d":"0.000"}},{"v":0,"d":"0.000"},{"v":0,"d":"0.000"}]
[{"$nulls":4},"Obst- und Gemüseanbaufläche mit geringerem / rationellerem Düngereinsatz",null,"ha",{"v":0,"d":"0.000"},{"v":0,"d":"0.000"},{"v":0,"d":"0.000"},{"v":0,"d":"0.000"},{"v":0,"d":"0.000"},{"v":0,"d":"0.000"},{"v":0,"d":"0.000"}]
[{"$nulls":4},"Obst- und Gemüseanbaufläche mit Wassereinsparungs-maßnahmen",null,"ha",{"$f":"'T5.7 Umwelt'!R15","v":{"v":0,"d":"0.000"}},{"$f":"'T5.7 Umwelt'!S15","v":{"v":0,"d":"0.000"}},{"$f":"'T5.7 Umwelt'!T15","v":{"v":0,"d":"0.000"}},{"$f":"'T5.7 Umwelt'!U15","v":{"v":0,"d":"0.000"}},{"$f":"'T5.7 Umwelt'!V15","v":{"v":0,"d":"0.000"}},{"v":0,"d":"0.000"},{"v":0,"d":"0.000"}]
[{"$nulls":4},"Einsatz wassersparender Bewässerungsverfahren\n(Anzahl der teilnehmenden Betriebe, Anzahl der Aktionen, Umfang der betroffenen Fläche)",null,"Anzahl \nBetriebe",0,0,0,0,0,0,0]
[{"$nulls":6},"Anzahl\nAktionen",0,0,0,0,0,0,0]
[{"$nulls":6},"ha",{"v":0,"d":"0.000"},{"v":0,"d":"0.000"},{"v":0,"d":"0.000"},{"v":0,"d":"0.000"},{"v":0,"d":"0.000"},{"v":0,"d":"0.000"},{"v":0,"d":"0.000"}]
[{"$nulls":4},"Einsatz wassersparender Technik zur Aufbereitung von Produkten (Anzahl der Aktionen)",null,"Anzahl\nAktionen",0,0,0,0,0,0,0]
["7.3","Beitrag zum Klimaschutz\n(Energieverbrauch Erfassung für Berechnung in T6.2)",null,null," - Optimierung bestehender Anlagen\n - Investitionen in besonders umweltfreundliche Neuanlagen\n - Einsatz alternativer Energieträger / Abwärmenutzung\n(Anzahl der teilnehmenden Betriebe, Anzahl der Aktionen, Gesamtinvestitionswert)",null,"Anzahl \nBetriebe",0,0,0,0,0,0,0]
[{"$nulls":6},"Anzahl\nAktionen",0,0,0,0,0,0,0]
[{"$nulls":6},"€",{"v":0,"d":"0.00"},{"v":0,"d":"0.00"},{"v":0,"d":"0.00"},{"v":0,"d":"0.00"},{"v":0,"d":"0.00"},{"v":0,"d":"0.00"},{"v":0,"d":"0.00"}]
[{"$nulls":4}," - Nutzung von Schienen- und Wassertransporten als Alternative zum Transport von Waren auf der Straße\n(Anzahl der Aktionen)",null,"Anzahl\nAktionen",0,0,0,0,0,0,0]
[{"$nulls":4},"Geschätzter jährlicher Energieverbrauch für die Erzeugung von Treibhauswärme, nach Energiequellen je Gesamtmenge vermarkteter Erzeugung (MvE)\n","Feststoffe","t / t",{"v":0,"d":"0.000"},{"v":0,"d":"0.000"},{"v":0,"d":"0.000"},{"v":0,"d":"0.000"},{"v":0,"d":"0.000"},{"v":0,"d":"0.000"},{"v":0,"d":"0.000"}]
[{"$nulls":5},"Flüssigkeiten","Liter / t",{"v":0,"d":"0.000"},{"v":0,"d":"0.000"},{"v":0,"d":"0.000"},{"v":0,"d":"0.000"},{"v":0,"d":"0.000"},{"v":0,"d":"0.000"},{"v":0,"d":"0.000"}]
[{"$nulls":5},"Gas","m3 / t",{"v":0,"d":"0.000"},{"v":0,"d":"0.000"},{"v":0,"d":"0.000"},{"v":0,"d":"0.000"},{"v":0,"d":"0.000"},{"v":0,"d":"0.000"},{"v":0,"d":"0.000"}]
[{"$nulls":5},"Strom","kwh / t",{"v":0,"d":"0.000"},{"v":0,"d":"0.000"},{"v":0,"d":"0.000"},{"v":0,"d":"0.000"},{"v":0,"d":"0.000"},{"v":0,"d":"0.000"},{"v":0,"d":"0.000"}]
[{"$nulls":4},"Geschätzter jährlicher Energieverbrauch für interne Transportzwecke nach Brennstofftypen je Gesamtmenge vermarkteter Erzeugung (MvE)","Flüssigkeiten","Liter / t",{"v":0,"d":"0.000"},{"v":0,"d":"0.000"},{"v":0,"d":"0.000"},{"v":0,"d":"0.000"},{"v":0,"d":"0.000"},{"v":0,"d":"0.000"},{"v":0,"d":"0.000"}]
[{"$nulls":5},"Gas","m3 / t",{"v":0,"d":"0.000"},{"v":0,"d":"0.000"},{"v":0,"d":"0.000"},{"v":0,"d":"0.000"},{"v":0,"d":"0.000"},{"v":0,"d":"0.000"},{"v":0,"d":"0.000"}]
[{"$nulls":5},"Strom","kwh / t",{"v":0,"d":"0.000"},{"v":0,"d":"0.000"},{"v":0,"d":"0.000"},{"v":0,"d":"0.000"},{"v":0,"d":"0.000"},{"v":0,"d":"0.000"},{"v":0,"d":"0.000"}]
["7.4","Reduzierung des Abfallvolumens /-gewichts\n(Abfall- und Verpackungsvolumen /-gewicht für Berechnung in T6.2)",null,null," - Abfallvermeidung in der Produktion\n(Anzahl der teilnehmenden Betriebe, Anzahl der Aktionen, Umfang der betroffenen Fläche)",null,"Anzahl \nBetriebe",0,0,0,0,0,0,0]
[{"$nulls":6},"Anzahl\nAktionen",0,0,0,0,0,0,0]
[{"$nulls":6},"ha",{"v":0,"d":"0.000"},{"v":0,"d":"0.000"},{"v":0,"d":"0.000"},{"v":0,"d":"0.000"},{"v":0,"d":"0.000"},{"v":0,"d":"0.000"},{"v":0,"d":"0.000"}]
[{"$nulls":4},"Abfallvolumen je Gesamtmenge der vermarkteten Erzeugung",null,"m3 / t",{"v":0,"d":"0.000"},{"v":0,"d":"0.000"},{"v":0,"d":"0.000"},{"v":0,"d":"0.000"},{"v":0,"d":"0.000"},{"v":0,"d":"0.000"},{"v":0,"d":"0.000"}]
[{"$nulls":4},"Abfallgewicht je Gesamtmenge der vermarkteten Erzeugung",null,"t / t",{"v":0,"d":"0.000"},{"v":0,"d":"0.000"},{"v":0,"d":"0.000"},{"v":0,"d":"0.000"},{"v":0,"d":"0.000"},{"v":0,"d":"0.000"},{"v":0,"d":"0.000"}]
[{"$nulls":4},"Verpackungvolumen je Gesamtmenge der vermarkteten Erzeugung",null,"m3 / t",{"v":0,"d":"0.000"},{"v":0,"d":"0.000"},{"v":0,"d":"0.000"},{"v":0,"d":"0.000"},{"v":0,"d":"0.000"},{"v":0,"d":"0.000"},{"v":0,"d":"0.000"}]
[{"$nulls":4},"Verpackungsgewicht je Gesamtmenge der vermarkteten Erzeugung",null,"t / t",{"v":0,"d":"0.000"},{"v":0,"d":"0.000"},{"v":0,"d":"0.000"},{"v":0,"d":"0.000"},{"v":0,"d":"0.000"},{"v":0,"d":"0.000"},{"v":0,"d":"0.000"}]
["7.5","Erhalt oder Förderung der Artenvielfalt (Biodiversität)",null,null,"Fläche, auf der andere Aktionen zur Verbesserung des Schutzes von Lebensräumen und biologischer Vielfalt durchgeführt werden",null,"ha",{"$f":"'T5.7 Umwelt'!R25","v":{"v":0,"d":"0.000"}},{"$f":"'T5.7 Umwelt'!S25","v":{"v":0,"d":"0.000"}},{"$f":"'T5.7 Umwelt'!T25","v":{"v":0,"d":"0.000"}},{"$f":"'T5.7 Umwelt'!U25","v":{"v":0,"d":"0.000"}},{"$f":"'T5.7 Umwelt'!V25","v":{"v":0,"d":"0.000"}},{"v":0,"d":"0.000"},{"v":0,"d":"0.000"}]
[]
["Anmerkungen gem. Nationaler Strategie"]
["Ziffer 2.3.2 Spezifische Ziele"]
["Mindestanforderung an alle operationellen Programme ist, dass sie von den oben genannten spezifischen Zielen mindestens\n- eines der Ziele 1 bis 3,\n- Ziel 7 (Umwelt) sowie\n- ein weiteres Ziel (aus den Zielen 1 bis 6)\nverfolgen."]
["Ziffer 3.1. Vorgaben für alle oder bestimmte Arten von Aktionen Beachtung "]
["Vorgaben zur Gewährleistung der Ausgewogenheit der operationellen Programme (Art. 27 Abs. 5 Deleg. VO (EU) 2017/891)"]
[" - alle von der Erzeugerorganisation verfolgten spezifischen Ziele müssen durch eine oder mehrere Aktionen untermauert werden,\n - alle operationellen Programme müssen Aktionen aus dem Bereich Umwelt und mindestens zwei weiteren Bereichen umfassen,\n - Aktionen der Krisenprävention und des Krisenmanagements dürfen nicht mehr als 1/3 des Betriebsfonds ausmachen,\n - keine einzelne Aktion darf mehr als 50 % des Betriebsfonds bezogen auf die Gesamtlaufzeit des operationellen Programms ausmachen."]

{"sheet":"T6.2 Sam_Indi EU (T4)","index":16,"n_rows":112,"n_cols":14,"rows_kept":112,"merged":[[1,2,1,3],[1,16,1,17],[3,4,4,7],[6,0,8,2],[6,3,8,3],[6,4,8,5],[6,6,8,6],[6,12,8,12],[6,13,8,13],[8,8,8,11],[9,0,9,2],[9,4,9,5],[10,0,22,2],[10,3,11,3],[10,4,10,5],[11,4,11,5],[12,3,13,3],[12,4,12,5],[13,4,13,5],[14,3,16,3],[14,4,14,5],[15,4,15,5],[16,4,16,5],[17,3,18,3],[17,4,17,5],[18,4,18,5],[19,3,20,3],[19,4,19,5],[20,4,20,5],[21,3,22,3],[21,4,21,5],[22,4,22,5],[23,0,30,2],[23,3,24,3],[23,4,23,5],[24,4,24,5],[25,3,26,3],[25,4,25,5],[26,4,26,5],[27,3,28,3],[27,4,27,5],[28,4,28,5],[29,3,30,3],[29,4,29,5],[30,4,30,5],[31,0,33,2],[31,3,33,3],[31,4,31,5],[32,4,32,5],[33,4,33,5],[34,0,39,2],[34,3,35,3],[34,4,34,5],[35,4,35,5],[36,3,37,3],[36,4,36,5],[37,4,37,5],[38,3,39,3],[38,4,38,5],[39,4,39,5],[40,0,49,2],[40,3,41,3],[40,4,40,5],[41,4,41,5],[42,3,43,3],[42,4,42,5],[43,4,43,5],[44,3,45,3],[44,4,44,5],[45,4,45,5],[46,3,47,3],[46,4,46,5],[47,4,47,5],[48,3,49,3],[48,4,48,5],[49,4,49,5],[50,0,57,2],[50,3,51,3],[50,4,50,5],[51,4,51,5],[52,3,53,3],[52,4,52,5],[53,4,53,5],[54,3,55,3],[54,4,54,5],[55,4,55,5],[56,3,57,3],[56,4,56,5],[57,4,57,5],[58,0,59,2],[58,3,69,3],[58,4,58,5],[59,4,59,5],[60,0,61,2],[60,4,60,5],[61,4,61,5],[62,0,64,2],[62,4,62,5],[63,4,63,5],[64,4,64,5],[65,0,67,2],[65,4,65,5],[66,4,66,5],[67,4,67,5],[68,0,69,2],[68,4,68,5],[69,4,69,5],[70,0,76,2],[70,3,87,3],[70,4,70,5],[71,4,71,5],[72,4,72,5],[77,0,81,2],[77,4,77,5],[78,4,78,5],[79,4,79,5],[80,4,80,5],[81,4,81,5],[82,0,85,2],[82,4,82,5],[86,0,87,2],[86,4,86,5],[87,4,87,5],[88,0,88,2],[88,3,97,3],[88,4,88,5],[89,0,89,2],[89,4,89,5],[90,0,90,2],[90,4,90,5],[91,0,91,2],[91,4,91,5],[92,0,93,2],[92,4,92,5],[93,4,93,5],[94,0,95,2],[94,4,94,5],[95,4,95,5],[96,0,96,2],[96,4,96,5],[97,0,97,2],[97,4,97,5],[98,0,101,2],[98,4,98,5],[99,4,99,5],[100,4,100,5],[101,4,101,5],[103,0,103,6],[103,19,103,25],[103,26,103,32],[103,33,103,39],[103,40,103,46],[103,47,103,53],[103,54,103,60],[103,61,103,67],[103,68,103,74],[103,75,103,81],[103,82,103,88],[103,89,103,95],[103,96,103,102],[103,103,103,109],[103,110,103,116],[103,117,103,123],[103,124,103,130],[103,131,103,137],[103,138,103,144],[103,145,103,151],[103,152,103,158],[103,159,103,165],[103,166,103,172],[103,173,103,179],[103,180,103,186],[103,187,103,193],[103,194,103,200],[103,201,103,207],[103,208,103,214],[103,215,103,221],[103,222,103,228],[103,229,103,235],[103,236,103,242],[103,243,103,249],[103,250,103,256],[103,257,103,263],[103,264,103,270],[103,271,103,277],[103,278,103,284],[103,285,103,291],[103,292,103,298],[103,299,103,305],[103,306,103,312],[103,313,103,319],[103,320,103,326],[103,327,103,333],[103,334,103,340],[103,341,103,347],[103,348,103,354],[103,355,103,361],[103,362,103,368],[103,369,103,375],[103,376,103,382],[103,383,103,389],[103,390,103,396],[103,397,103,403],[103,404,103,410],[103,411,103,417],[103,418,103,424],[103,425,103,431],[103,432,103,438],[103,439,103,445],[103,446,103,452],[103,453,103,459],[103,460,103,466],[103,467,103,473],[103,474,103,480],[103,481,103,487],[103,488,103,494],[103,495,103,501],[103,502,103,508],[103,509,103,515],[103,516,103,522],[103,523,103,529],[103,530,103,536],[103,537,103,543],[103,544,103,550],[103,551,103,557],[103,558,103,564],[103,565,103,571],[103,572,103,578],[103,579,103,585],[103,586,103,592],[103,593,103,599],[103,600,103,606],[103,607,103,613],[103,614,103,620],[103,621,103,627],[103,628,103,634],[103,635,103,641],[103,642,103,648],[103,649,103,655],[103,656,103,662],[103,663,103,669],[103,670,103,676],[103,677,103,683],[103,684,103,690],[103,691,103,697],[103,698,103,704],[103,705,103,711],[103,712,103,718],[103,719,103,725],[103,726,103,732],[103,733,103,739],[103,740,103,746],[103,747,103,753],[103,754,103,760],[103,761,103,767],[103,768,103,774],[103,775,103,781],[103,782,103,788],[103,789,103,795],[103,796,103,802],[103,803,103,809],[103,810,103,816],[103,817,103,823],[103,824,103,830],[103,831,103,837],[103,838,103,844],[103,845,103,851],[103,852,103,858],[103,859,103,865],[103,866,103,872],[103,873,103,879],[103,880,103,886],[103,887,103,893],[103,894,103,900],[103,901,103,907],[103,908,103,914],[103,915,103,921],[103,922,103,928],[103,929,103,935],[103,936,103,942],[103,943,103,949],[103,950,103,956],[103,957,103,963],[103,964,103,970],[103,971,103,977],[103,978,103,984],[103,985,103,991],[103,992,103,998],[103,999,103,1005],[103,1006,103,1012],[103,1013,103,1019],[103,1020,103,1026],[103,1027,103,1033],[103,1034,103,1040],[103,1041,103,1047],[103,1048,103,1054],[103,1055,103,1061],[103,1062,103,1068],[103,1069,103,1075],[103,1076,103,1082],[103,1083,103,1089],[103,1090,103,1096],[103,1097,103,1103],[103,1104,103,1110],[103,1111,103,1117],[103,1118,103,1124],[103,1125,103,1131],[103,1132,103,1138],[103,1139,103,1145],[103,1146,103,1152],[103,1153,103,1159],[103,1160,103,1166],[103,1167,103,1173],[103,1174,103,1180],[103,1181,103,1187],[103,1188,103,1194],[103,1195,103,1201],[103,1202,103,1208],[103,1209,103,1215],[103,1216,103,1222],[103,1223,103,1229],[103,1230,103,1236],[103,1237,103,1243],[103,1244,103,1250],[103,1251,103,1257],[103,1258,103,1264],[103,1265,103,1271],[103,1272,103,1278],[103,1279,103,1285],[103,1286,103,1292],[103,1293,103,1299],[103,1300,103,1306],[103,1307,103,1313],[103,1314,103,1320],[103,1321,103,1327],[103,1328,103,1334],[103,1335,103,1341],[103,1342,103,1348],[103,1349,103,1355],[103,1356,103,1362],[103,1363,103,1369],[103,1370,103,1376],[103,1377,103,1383],[103,1384,103,1390],[103,1391,103,1397],[103,1398,103,1404],[103,1405,103,1411],[103,1412,103,1418],[103,1419,103,1425],[103,1426,103,1432],[103,1433,103,1439],[103,1440,103,1446],[103,1447,103,1453],[103,1454,103,1460],[103,1461,103,1467],[103,1468,103,1474],[103,1475,103,1481],[103,1482,103,1488],[103,1489,103,1495],[103,1496,103,1502],[103,1503,103,1509],[103,1510,103,1516],[103,1517,103,1523],[103,1524,103,1530],[103,1531,103,1537],[103,1538,103,1544],[103,1545,103,1551],[103,1552,103,1558],[103,1559,103,1565],[103,1566,103,1572],[103,1573,103,1579],[103,1580,103,1586],[103,1587,103,1593],[103,1594,103,1600],[103,1601,103,1607],[103,1608,103,1614],[103,1615,103,1621],[103,1622,103,1628],[103,1629,103,1635],[103,1636,103,1642],[103,1643,103,1649],[103,1650,103,1656],[103,1657,103,1663],[103,1664,103,1670],[103,1671,103,1677],[103,1678,103,1684],[103,1685,103,1691],[103,1692,103,1698],[103,1699,103,1705],[103,1706,103,1712],[103,1713,103,1719],[103,1720,103,1726],[103,1727,103,1733],[103,1734,103,1740],[103,1741,103,1747],[103,1748,103,1754],[103,1755,103,1761],[103,1762,103,1768],[103,1769,103,1775],[103,1776,103,1782],[103,1783,103,1789],[103,1790,103,1796],[103,1797,103,1803],[103,1804,103,1810],[103,1811,103,1817],[103,1818,103,1824],[103,1825,103,1831],[103,1832,103,1838],[103,1839,103,1845],[103,1846,103,1852],[103,1853,103,1859],[103,1860,103,1866],[103,1867,103,1873],[103,1874,103,1880],[103,1881,103,1887],[103,1888,103,1894],[103,1895,103,1901],[103,1902,103,1908],[103,1909,103,1915],[103,1916,103,1922],[103,1923,103,1929],[103,1930,103,1936],[103,1937,103,1943],[103,1944,103,1950],[103,1951,103,1957],[103,1958,103,1964],[103,1965,103,1971],[103,1972,103,1978],[103,1979,103,1985],[103,1986,103,1992],[103,1993,103,1999],[103,2000,103,2006],[103,2007,103,2013],[103,2014,103,2020],[103,2021,103,2027],[103,2028,103,2034],[103,2035,103,2041],[103,2042,103,2048],[103,2049,103,2055],[103,2056,103,2062],[103,2063,103,2069],[103,2070,103,2076],[103,2077,103,2083],[103,2084,103,2090],[103,2091,103,2097],[103,2098,103,2104],[103,2105,103,2111],[103,2112,103,2118],[103,2119,103,2125],[103,2126,103,2132],[103,2133,103,2139],[103,2140,103,2146],[103,2147,103,2153],[103,2154,103,2160],[103,2161,103,2167],[103,2168,103,2174],[103,2175,103,2181],[103,2182,103,2188],[103,2189,103,2195],[103,2196,103,2202],[103,2203,103,2209],[103,2210,103,2216],[103,2217,103,2223],[103,2224,103,2230],[103,2231,103,2237],[103,2238,103,2244],[103,2245,103,2251],[103,2252,103,2258],[103,2259,103,2265],[103,2266,103,2272],[103,2273,103,2279],[103,2280,103,2286],[103,2287,103,2293],[103,2294,103,2300],[103,2301,103,2307],[103,2308,103,2314],[103,2315,103,2321],[103,2322,103,2328],[103,2329,103,2335],[103,2336,103,2342],[103,2343,103,2349],[103,2350,103,2356],[103,2357,103,2363],[103,2364,103,2370],[103,2371,103,2377],[103,2378,103,2384],[103,2385,103,2391],[103,2392,103,2398],[103,2399,103,2405],[103,2406,103,2412],[103,2413,103,2419],[103,2420,103,2426],[103,2427,103,2433],[103,2434,103,2440],[103,2441,103,2447],[103,2448,103,2454],[103,2455,103,2461],[103,2462,103,2468],[103,2469,103,2475],[103,2476,103,2482],[103,2483,103,2489],[103,2490,103,2496],[103,2497,103,2503],[103,2504,103,2510],[103,2511,103,2517],[103,2518,103,2524],[103,2525,103,2531],[103,2532,103,2538],[103,2539,103,2545],[103,2546,103,2552],[103,2553,103,2559],[103,2560,103,2566],[103,2567,103,2573],[103,2574,103,2580],[103,2581,103,2587],[103,2588,103,2594],[103,2595,103,2601],[103,2602,103,2608],[103,2609,103,2615],[103,2616,103,2622],[103,2623,103,2629],[103,2630,103,2636],[103,2637,103,2643],[103,2644,103,2650],[103,2651,103,2657],[103,2658,103,2664],[103,2665,103,2671],[103,2672,103,2678],[103,2679,103,2685],[103,2686,103,2692],[103,2693,103,2699],[103,2700,103,2706],[103,2707,103,2713],[103,2714,103,2720],[103,2721,103,2727],[103,2728,103,2734],[103,2735,103,2741],[103,2742,103,2748],[103,2749,103,2755],[103,2756,103,2762],[103,2763,103,2769],[103,2770,103,2776],[103,2777,103,2783],[103,2784,103,2790],[103,2791,103,2797],[103,2798,103,2804],[103,2805,103,2811],[103,2812,103,2818],[103,2819,103,2825],[103,2826,103,2832],[103,2833,103,2839],[103,2840,103,2846],[103,2847,103,2853],[103,2854,103,2860],[103,2861,103,2867],[103,2868,103,2874],[103,2875,103,2881],[103,2882,103,2888],[103,2889,103,2895],[103,2896,103,2902],[103,2903,103,2909],[103,2910,103,2916],[103,2917,103,2923],[103,2924,103,2930],[103,2931,103,2937],[103,2938,103,2944],[103,2945,103,2951],[103,2952,103,2958],[103,2959,103,2965],[103,2966,103,2972],[103,2973,103,2979],[103,2980,103,2986],[103,2987,103,2993],[103,2994,103,3000],[103,3001,103,3007],[103,3008,103,3014],[103,3015,103,3021],[103,3022,103,3028],[103,3029,103,3035],[103,3036,103,3042],[103,3043,103,3049],[103,3050,103,3056],[103,3057,103,3063],[103,3064,103,3070],[103,3071,103,3077],[103,3078,103,3084],[103,3085,103,3091],[103,3092,103,3098],[103,3099,103,3105],[103,3106,103,3112],[103,3113,103,3119],[103,3120,103,3126],[103,3127,103,3133],[103,3134,103,3140],[103,3141,103,3147],[103,3148,103,3154],[103,3155,103,3161],[103,3162,103,3168],[103,3169,103,3175],[103,3176,103,3182],[103,3183,103,3189],[103,3190,103,3196],[103,3197,103,3203],[103,3204,103,3210],[103,3211,103,3217],[103,3218,103,3224],[103,3225,103,3231],[103,3232,103,3238],[103,3239,103,3245],[103,3246,103,3252],[103,3253,103,3259],[103,3260,103,3266],[103,3267,103,3273],[103,3274,103,3280],[103,3281,103,3287],[103,3288,103,3294],[103,3295,103,3301],[103,3302,103,3308],[103,3309,103,3315],[103,3316,103,3322],[103,3323,103,3329],[103,3330,103,3336],[103,3337,103,3343],[103,3344,103,3350],[103,3351,103,3357],[103,3358,103,3364],[103,3365,103,3371],[103,3372,103,3378],[103,3379,103,3385],[103,3386,103,3392],[103,3393,103,3399],[103,3400,103,3406],[103,3407,103,3413],[103,3414,103,3420],[103,3421,103,3427],[103,3428,103,3434],[103,3435,103,3441],[103,3442,103,3448],[103,3449,103,3455],[103,3456,103,3462],[103,3463,103,3469],[103,3470,103,3476],[103,3477,103,3483],[103,3484,103,3490],[103,3491,103,3497],[103,3498,103,3504],[103,3505,103,3511],[103,3512,103,3518],[103,3519,103,3525],[103,3526,103,3532],[103,3533,103,3539],[103,3540,103,3546],[103,3547,103,3553],[103,3554,103,3560],[103,3561,103,3567],[103,3568,103,3574],[103,3575,103,3581],[103,3582,103,3588],[103,3589,103,3595],[103,3596,103,3602],[103,3603,103,3609],[103,3610,103,3616],[103,3617,103,3623],[103,3624,103,3630],[103,3631,103,3637],[103,3638,103,3644],[103,3645,103,3651],[103,3652,103,3658],[103,3659,103,3665],[103,3666,103,3672],[103,3673,103,3679],[103,3680,103,3686],[103,3687,103,3693],[103,3694,103,3700],[103,3701,103,3707],[103,3708,103,3714],[103,3715,103,3721],[103,3722,103,3728],[103,3729,103,3735],[103,3736,103,3742],[103,3743,103,3749],[103,3750,103,3756],[103,3757,103,3763],[103,3764,103,3770],[103,3771,103,3777],[103,3778,103,3784],[103,3785,103,3791],[103,3792,103,3798],[103,3799,103,3805],[103,3806,103,3812],[103,3813,103,3819],[103,3820,103,3826],[103,3827,103,3833],[103,3834,103,3840],[103,3841,103,3847],[103,3848,103,3854],[103,3855,103,3861],[103,3862,103,3868],[103,3869,103,3875],[103,3876,103,3882],[103,3883,103,3889],[103,3890,103,3896],[103,3897,103,3903],[103,3904,103,3910],[103,3911,103,3917],[103,3918,103,3924],[103,3925,103,3931],[103,3932,103,3938],[103,3939,103,3945],[103,3946,103,3952],[103,3953,103,3959],[103,3960,103,3966],[103,3967,103,3973],[103,3974,103,3980],[103,3981,103,3987],[103,3988,103,3994],[103,3995,103,4001],[103,4002,103,4008],[103,4009,103,4015],[103,4016,103,4022],[103,4023,103,4029],[103,4030,103,4036],[103,4037,103,4043],[103,4044,103,4050],[103,4051,103,4057],[103,4058,103,4064],[103,4065,103,4071],[103,4072,103,4078],[103,4079,103,4085],[103,4086,103,4092],[103,4093,103,4099],[103,4100,103,4106],[103,4107,103,4113],[103,4114,103,4120],[103,4121,103,4127],[103,4128,103,4134],[103,4135,103,4141],[103,4142,103,4148],[103,4149,103,4155],[103,4156,103,4162],[103,4163,103,4169],[103,4170,103,4176],[103,4177,103,4183],[103,4184,103,4190],[103,4191,103,4197],[103,4198,103,4204],[103,4205,103,4211],[103,4212,103,4218],[103,4219,103,4225],[103,4226,103,4232],[103,4233,103,4239],[103,4240,103,4246],[103,4247,103,4253],[103,4254,103,4260],[103,4261,103,4267],[103,4268,103,4274],[103,4275,103,4281],[103,4282,103,4288],[103,4289,103,4295],[103,4296,103,4302],[103,4303,103,4309],[103,4310,103,4316],[103,4317,103,4323],[103,4324,103,4330],[103,4331,103,4337],[103,4338,103,4344],[103,4345,103,4351],[103,4352,103,4358],[103,4359,103,4365],[103,4366,103,4372],[103,4373,103,4379],[103,4380,103,4386],[103,4387,103,4393],[103,4394,103,4400],[103,4401,103,4407],[103,4408,103,4414],[103,4415,103,4421],[103,4422,103,4428],[103,4429,103,4435],[103,4436,103,4442],[103,4443,103,4449],[103,4450,103,4456],[103,4457,103,4463],[103,4464,103,4470],[103,4471,103,4477],[103,4478,103,4484],[103,4485,103,4491],[103,4492,103,4498],[103,4499,103,4505],[103,4506,103,4512],[103,4513,103,4519],[103,4520,103,4526],[103,4527,103,4533],[103,4534,103,4540],[103,4541,103,4547],[103,4548,103,4554],[103,4555,103,4561],[103,4562,103,4568],[103,4569,103,4575],[103,4576,103,4582],[103,4583,103,4589],[103,4590,103,4596],[103,4597,103,4603],[103,4604,103,4610],[103,4611,103,4617],[103,4618,103,4624],[103,4625,103,4631],[103,4632,103,4638],[103,4639,103,4645],[103,4646,103,4652],[103,4653,103,4659],[103,4660,103,4666],[103,4667,103,4673],[103,4674,103,4680],[103,4681,103,4687],[103,4688,103,4694],[103,4695,103,4701],[103,4702,103,4708],[103,4709,103,4715],[103,4716,103,4722],[103,4723,103,4729],[103,4730,103,4736],[103,4737,103,4743],[103,4744,103,4750],[103,4751,103,4757],[103,4758,103,4764],[103,4765,103,4771],[103,4772,103,4778],[103,4779,103,4785],[103,4786,103,4792],[103,4793,103,4799],[103,4800,103,4806],[103,4807,103,4813],[103,4814,103,4820],[103,4821,103,4827],[103,4828,103,4834],[103,4835,103,4841],[103,4842,103,4848],[103,4849,103,4855],[103,4856,103,4862],[103,4863,103,4869],[103,4870,103,4876],[103,4877,103,4883],[103,4884,103,4890],[103,4891,103,4897],[103,4898,103,4904],[103,4905,103,4911],[103,4912,103,4918],[103,4919,103,4925],[103,4926,103,4932],[103,4933,103,4939],[103,4940,103,4946],[103,4947,103,4953],[103,4954,103,4960],[103,4961,103,4967],[103,4968,103,4974],[103,4975,103,4981],[103,4982,103,4988],[103,4989,103,4995],[103,4996,103,5002],[103,5003,103,5009],[103,5010,103,5016],[103,5017,103,5023],[103,5024,103,5030],[103,5031,103,5037],[103,5038,103,5044],[103,5045,103,5051],[103,5052,103,5058],[103,5059,103,5065],[103,5066,103,5072],[103,5073,103,5079],[103,5080,103,5086],[103,5087,103,5093],[103,5094,103,5100],[103,5101,103,5107],[103,5108,103,5114],[103,5115,103,5121],[103,5122,103,5128],[103,5129,103,5135],[103,5136,103,5142],[103,5143,103,5149],[103,5150,103,5156],[103,5157,103,5163],[103,5164,103,5170],[103,5171,103,5177],[103,5178,103,5184],[103,5185,103,5191],[103,5192,103,5198],[103,5199,103,5205],[103,5206,103,5212],[103,5213,103,5219],[103,5220,103,5226],[103,5227,103,5233],[103,5234,103,5240],[103,5241,103,5247],[103,5248,103,5254],[103,5255,103,5261],[103,5262,103,5268],[103,5269,103,5275],[103,5276,103,5282],[103,5283,103,5289],[103,5290,103,5296],[103,5297,103,5303],[103,5304,103,5310],[103,5311,103,5317],[103,5318,103,5324],[103,5325,103,5331],[103,5332,103,5338],[103,5339,103,5345],[103,5346,103,5352],[103,5353,103,5359],[103,5360,103,5366],[103,5367,103,5373],[103,5374,103,5380],[103,5381,103,5387],[103,5388,103,5394],[103,5395,103,5401],[103,5402,103,5408],[103,5409,103,5415],[103,5416,103,5422],[103,5423,103,5429],[103,5430,103,5436],[103,5437,103,5443],[103,5444,103,5450],[103,5451,103,5457],[103,5458,103,5464],[103,5465,103,5471],[103,5472,103,5478],[103,5479,103,5485],[103,5486,103,5492],[103,5493,103,5499],[103,5500,103,5506],[103,5507,103,5513],[103,5514,103,5520],[103,5521,103,5527],[103,5528,103,5534],[103,5535,103,5541],[103,5542,103,5548],[103,5549,103,5555],[103,5556,103,5562],[103,5563,103,5569],[103,5570,103,5576],[103,5577,103,5583],[103,5584,103,5590],[103,5591,103,5597],[103,5598,103,5604],[103,5605,103,5611],[103,5612,103,5618],[103,5619,103,5625],[103,5626,103,5632],[103,5633,103,5639],[103,5640,103,5646],[103,5647,103,5653],[103,5654,103,5660],[103,5661,103,5667],[103,5668,103,5674],[103,5675,103,5681],[103,5682,103,5688],[103,5689,103,5695],[103,5696,103,5702],[103,5703,103,5709],[103,5710,103,5716],[103,5717,103,5723],[103,5724,103,5730],[103,5731,103,5737],[103,5738,103,5744],[103,5745,103,5751],[103,5752,103,5758],[103,5759,103,5765],[103,5766,103,5772],[103,5773,103,5779],[103,5780,103,5786],[103,5787,103,5793],[103,5794,103,5800],[103,5801,103,5807],[103,5808,103,5814],[103,5815,103,5821],[103,5822,103,5828],[103,5829,103,5835],[103,5836,103,5842],[103,5843,103,5849],[103,5850,103,5856],[103,5857,103,5863],[103,5864,103,5870],[103,5871,103,5877],[103,5927,103,5933],[103,5934,103,5940],[103,5941,103,5947],[103,5948,103,5954],[103,5955,103,5961],[103,5962,103,5968],[103,5969,103,5975],[103,5976,103,5982],[103,5983,103,5989],[113,0,113,7],[115,1,115,7],[118,1,118,7],[119,1,119,7],[120,1,120,7],[121,1,121,7]],"merged_total":2499,"flags":["merged_cut"]}
[]
[null,"Name der EO / LEO",{"$f":"Name_der_EO_LEO","v":"Name_der_EO_LEO"},{"$nulls":4},"Laufzeit \ndes OP",{"$f":"Laufzeit_des_OP","v":"JJJJ - JJJJ"},null,"Formel","Ausfüllen","keine Angaben","Tabelle 6.2"]
[]
[null,"EO / LEO-Code ",{"$f":"EO_Code","v":"DE XXXX"},null,"Zum großen Teil werden diese Angaben \nin T5.1 bis T6.1 erfasst!"]
[]
["Tabelle 6.2: Datensammlung der Indikatoren gemäß EU-VO anhand Tabelle 4"]
["Aktionen / Maßnahmen\nArt. 2 (f) + (g) der Deleg. VO (EU) 2017/891",null,null,"Ziele\nArt. 33 (1 )+ (3) und 152 (1) (c)\nder VO (EU) Nr. 1308/2013","Indikatoren",null,null,{"$f":"Berichtsjahr","v":"2020"},{"$f":"IF('T5.1 Invest'!G9,'T5.1 Invest'!G9,\"\")","v":""},{"$f":"IF('T5.1 Invest'!H9,'T5.1 Invest'!H9,\"\")","v":""},{"$f":"IF('T5.1 Invest'!I9,'T5.1 Invest'!I9,\"\")","v":""},{"$f":"IF('T5.1 Invest'!J9,'T5.1 Invest'!J9,\"\")","v":""},"Ausgangswert","Zielwert"]
[{"$nulls":7},"Berichtsjahr (n)","Berichtsjahr (n-1)","Berichtsjahr (n-2)","Berichtsjahr (n-3)","Berichtsjahr (n-4)"]
[{"$nulls":7},"vorläufige Daten","zahlungsrelevante Daten"]
[]
["Investitionen (1)\n\n(Angaben aus Tabelle T5.1 + T6.1)",null,null,"Planung der Produktion","Zahl der Betriebe",null,null,{"$f":"'T5.1 Invest'!F12","v":0},{"$f":"'T5.1 Invest'!G12","v":0},{"$f":"'T5.1 Invest'!H12","v":0},{"$f":"'T5.1 Invest'!I12","v":0},{"$f":"'T5.1 Invest'!J12","v":0},0,0]
[{"$nulls":4},"Gesamtwert (in €)",null,null,{"$f":"'T5.1 Invest'!K12","v":{"v":0,"d":"0.00"}},{"$f":"'T5.1 Invest'!L12","v":{"v":0,"d":"0.00"}},{"$f":"'T5.1 Invest'!M12","v":{"v":0,"d":"0.00"}},{"$f":"'T5.1 Invest'!N12","v":{"v":0,"d":"0.00"}},{"$f":"'T5.1 Invest'!O12","v":{"v":0,"d":"0.00"}},{"v":0,"d":"0.00"},{"v":0,"d":"0.00"}]
[{"$nulls":3},"Verbesserung der Qualität der Erzeugnisse","Zahl der Betriebe",null,null,{"$f":"'T5.1 Invest'!F20","v":0},{"$f":"'T5.1 Invest'!G20","v":0},{"$f":"'T5.1 Invest'!H20","v":0},{"$f":"'T5.1 Invest'!I20","v":0},{"$f":"'T5.1 Invest'!J20","v":0},0,0]
[{"$nulls":4},"Gesamtwert (in €)",null,null,{"$f":"'T5.1 Invest'!K20","v":{"v":0,"d":"0.00"}},{"$f":"'T5.1 Invest'!L20","v":{"v":0,"d":"0.00"}},{"$f":"'T5.1 Invest'!M20","v":{"v":0,"d":"0.00"}},{"$f":"'T5.1 Invest'!N20","v":{"v":0,"d":"0.00"}},{"$f":"'T5.1 Invest'!O20","v":{"v":0,"d":"0.00"}},{"v":0,"d":"0.00"},{"v":0,"d":"0.00"}]
[{"$nulls":3},"Steigerung des Vermarktungs-werts der Erzeugnisse","Zahl der Betriebe",null,null,{"$f":"'T5.1 Invest'!F28","v":0},{"$f":"'T5.1 Invest'!G28","v":0},{"$f":"'T5.1 Invest'!H28","v":0},{"$f":"'T5.1 Invest'!I28","v":0},{"$f":"'T5.1 Invest'!J28","v":0},0,0]
[{"$nulls":4},"Gesamtwert (in €)",null,null,{"$f":"'T5.1 Invest'!K28","v":{"v":0,"d":"0.00"}},{"$f":"'T5.1 Invest'!L28","v":{"v":0,"d":"0.00"}},{"$f":"'T5.1 Invest'!M28","v":{"v":0,"d":"0.00"}},{"$f":"'T5.1 Invest'!N28","v":{"v":0,"d":"0.00"}},{"$f":"'T5.1 Invest'!O28","v":{"v":0,"d":"0.00"}},{"v":0,"d":"0.00"},{"v":0,"d":"0.00"}]
[{"$nulls":4},"Gesamtwert der vermarkteten Erzeugung / Gesamtmenge der vermarkteten Erzeugung (in €/kg) ",null,null,{"$f":"IF(ISERROR('T6.1 Sam_Indi NSt'!H19),\"0\",'T6.1 Sam_Indi NSt'!H19)","v":"0"},{"$f":"IF(ISERROR('T6.1 Sam_Indi NSt'!I19),\"0\",'T6.1 Sam_Indi NSt'!I19)","v":"0"},{"$f":"IF(ISERROR('T6.1 Sam_Indi NSt'!J19),\"0\",'T6.1 Sam_Indi NSt'!J19)","v":"0"},{"$f":"IF(ISERROR('T6.1 Sam_Indi NSt'!K19),\"0\",'T6.1 Sam_Indi NSt'!K19)","v":"0"},{"$f":"IF(ISERROR('T6.1 Sam_Indi NSt'!L19),\"0\",'T6.1 Sam_Indi NSt'!L19)","v":"0"},{"v":0,"d":"0.00"},{"v":0,"d":"0.00"}]
[{"$nulls":3},"Umweltmaßnahmen","Zahl der Betriebe",null,null,{"$f":"'T5.1 Invest'!F36","v":0},{"$f":"'T5.1 Invest'!G36","v":0},{"$f":"'T5.1 Invest'!H36","v":0},{"$f":"'T5.1 Invest'!I36","v":0},{"$f":"'T5.1 Invest'!J36","v":0},0,0]
[{"$nulls":4},"Gesamtwert (in €)",null,null,{"$f":"'T5.1 Invest'!K36","v":{"v":0,"d":"0.00"}},{"$f":"'T5.1 Invest'!L36","v":{"v":0,"d":"0.00"}},{"$f":"'T5.1 Invest'!M36","v":{"v":0,"d":"0.00"}},{"$f":"'T5.1 Invest'!N36","v":{"v":0,"d":"0.00"}},{"$f":"'T5.1 Invest'!O36","v":{"v":0,"d":"0.00"}},{"v":0,"d":"0.00"},{"v":0,"d":"0.00"}]
[{"$nulls":3},"Krisenprävention und Krisenmanagement","Zahl der Betriebe",null,null,{"$f":"'T5.1 Invest'!F44","v":0},{"$f":"'T5.1 Invest'!G44","v":0},{"$f":"'T5.1 Invest'!H44","v":0},{"$f":"'T5.1 Invest'!I44","v":0},{"$f":"'T5.1 Invest'!J44","v":0},0,0]
[{"$nulls":4},"Gesamtwert (in €)",null,null,{"$f":"'T5.1 Invest'!K44","v":{"v":0,"d":"0.00"}},{"$f":"'T5.1 Invest'!L44","v":{"v":0,"d":"0.00"}},{"$f":"'T5.1 Invest'!M44","v":{"v":0,"d":"0.00"}},{"$f":"'T5.1 Invest'!N44","v":{"v":0,"d":"0.00"}},{"$f":"'T5.1 Invest'!O44","v":{"v":0,"d":"0.00"}},{"v":0,"d":"0.00"},{"v":0,"d":"0.00"}]
[{"$nulls":3},"Forschung","Zahl der Betriebe",null,null,{"$f":"'T5.1 Invest'!F52","v":0},{"$f":"'T5.1 Invest'!G52","v":0},{"$f":"'T5.1 Invest'!H52","v":0},{"$f":"'T5.1 Invest'!I52","v":0},{"$f":"'T5.1 Invest'!J52","v":0},0,0]
[{"$nulls":4},"Gesamtwert (in €)",null,null,{"$f":"'T5.1 Invest'!K52","v":{"v":0,"d":"0.00"}},{"$f":"'T5.1 Invest'!L52","v":{"v":0,"d":"0.00"}},{"$f":"'T5.1 Invest'!M52","v":{"v":0,"d":"0.00"}},{"$f":"'T5.1 Invest'!N52","v":{"v":0,"d":"0.00"}},{"$f":"'T5.1 Invest'!O52","v":{"v":0,"d":"0.00"}},{"v":0,"d":"0.00"},{"v":0,"d":"0.00"}]
["Forschung und Versuchslandbau\n\n(Angaben aus Tabelle T5.2)",null,null,"Planung der Produktion","Zahl der Betriebe",null,null,{"$f":"'T5.2 Forsch'!F12","v":0},{"$f":"'T5.2 Forsch'!G12","v":0},{"$f":"'T5.2 Forsch'!H12","v":0},{"$f":"'T5.2 Forsch'!I12","v":0},{"$f":"'T5.2 Forsch'!J12","v":0},0,0]
[{"$nulls":4},"Gesamtwert (in €)",null,null,{"$f":"'T5.2 Forsch'!K12","v":{"v":0,"d":"0.00"}},{"$f":"'T5.2 Forsch'!L12","v":{"v":0,"d":"0.00"}},{"$f":"'T5.2 Forsch'!M12","v":{"v":0,"d":"0.00"}},{"$f":"'T5.2 Forsch'!N12","v":{"v":0,"d":"0.00"}},{"$f":"'T5.2 Forsch'!O12","v":{"v":0,"d":"0.00"}},{"v":0,"d":"0.00"},{"v":0,"d":"0.00"}]
[{"$nulls":3},"Verbesserung der Qualität der Erzeugnisse","Zahl der Betriebe",null,null,{"$f":"'T5.2 Forsch'!F20","v":0},{"$f":"'T5.2 Forsch'!G20","v":0},{"$f":"'T5.2 Forsch'!H20","v":0},{"$f":"'T5.2 Forsch'!I20","v":0},{"$f":"'T5.2 Forsch'!J20","v":0},0,0]
[{"$nulls":4},"Gesamtwert (in €)",null,null,{"$f":"'T5.2 Forsch'!K20","v":{"v":0,"d":"0.00"}},{"$f":"'T5.2 Forsch'!L20","v":{"v":0,"d":"0.00"}},{"$f":"'T5.2 Forsch'!M20","v":{"v":0,"d":"0.00"}},{"$f":"'T5.2 Forsch'!N20","v":{"v":0,"d":"0.00"}},{"$f":"'T5.2 Forsch'!O20","v":{"v":0,"d":"0.00"}},{"v":0,"d":"0.00"},{"v":0,"d":"0.00"}]
[{"$nulls":3},"Steigerung des Vermarktungs-werts der Erzeugnisse","Zahl der Betriebe",null,null,{"$f":"'T5.2 Forsch'!F28","v":0},{"$f":"'T5.2 Forsch'!G28","v":0},{"$f":"'T5.2 Forsch'!H28","v":0},{"$f":"'T5.2 Forsch'!I28","v":0},{"$f":"'T5.2 Forsch'!J28","v":0},0,0]
[{"$nulls":4},"Gesamtwert (in €)",null,null,{"$f":"'T5.2 Forsch'!K28","v":{"v":0,"d":"0.00"}},{"$f":"'T5.2 Forsch'!L28","v":{"v":0,"d":"0.00"}},{"$f":"'T5.2 Forsch'!M28","v":{"v":0,"d":"0.00"}},{"$f":"'T5.2 Forsch'!N28","v":{"v":0,"d":"0.00"}},{"$f":"'T5.2 Forsch'!O28","v":{"v":0,"d":"0.00"}},{"v":0,"d":"0.00"},{"v":0,"d":"0.00"}]
[{"$nulls":3},"Umweltmaßnahmen","Zahl der Betriebe",null,null,{"$f":"'T5.2 Forsch'!F36","v":0},{"$f":"'T5.2 Forsch'!G36","v":0},{"$f":"'T5.2 Forsch'!H36","v":0},{"$f":"'T5.2 Forsch'!I36","v":0},{"$f":"'T5.2 Forsch'!J36","v":0},0,0]
[{"$nulls":4},"Gesamtwert (in €)",null,null,{"$f":"'T5.2 Forsch'!K36","v":{"v":0,"d":"0.00"}},{"$f":"'T5.2 Forsch'!L36","v":{"v":0,"d":"0.00"}},{"$f":"'T5.2 Forsch'!M36","v":{"v":0,"d":"0.00"}},{"$f":"'T5.2 Forsch'!N36","v":{"v":0,"d":"0.00"}},{"$f":"'T5.2 Forsch'!O36","v":{"v":0,"d":"0.00"}},{"v":0,"d":"0.00"},{"v":0,"d":"0.00"}]
["Qualitätsregelungen (EU und Mitgliedstaaten) (2) und Maßnahmen zur Qualitätsverbesserung\n(Angaben aus Tabellen T5.3 und T6.1)",null,null,"Verbesserung der Qualität der Erzeugnisse","Fläche der g.U./g.g.A./g.t.S (3) (in ha)",null,null,{"$f":"'T5.3 Quali'!R12","v":{"v":0,"d":"0.000"}},{"$f":"'T5.3 Quali'!S12","v":{"v":0,"d":"0.000"}},{"$f":"'T5.3 Quali'!T12","v":{"v":0,"d":"0.000"}},{"$f":"'T5.3 Quali'!U12","v":{"v":0,"d":"0.000"}},{"$f":"'T5.3 Quali'!V12","v":{"v":0,"d":"0.000"}},{"v":0,"d":"0.000"},{"v":0,"d":"0.000"}]
[{"$nulls":4},"Zahl der Betriebe",null,null,{"$f":"'T5.3 Quali'!F12","v":0},{"$f":"'T5.3 Quali'!G12","v":0},{"$f":"'T5.3 Quali'!H12","v":0},{"$f":"'T5.3 Quali'!I12","v":0},{"$f":"'T5.3 Quali'!J12","v":0},0,0]
[{"$nulls":4},"Menge (in Tonnen) ",null,null,{"$f":"'T6.1 Sam_Indi NSt'!H20","v":{"v":0,"d":"0.000"}},{"$f":"'T6.1 Sam_Indi NSt'!I20","v":{"v":0,"d":"0.000"}},{"$f":"'T6.1 Sam_Indi NSt'!J20","v":{"v":0,"d":"0.000"}},{"$f":"'T6.1 Sam_Indi NSt'!K20","v":{"v":0,"d":"0.000"}},{"$f":"'T6.1 Sam_Indi NSt'!L20","v":{"v":0,"d":"0.000"}},{"v":0,"d":"0.000"},{"v":0,"d":"0.000"}]
["Absatzförderung und Kommunikation (4)\n\n(Angaben aus Tabelle T5.4)",null,null,"Steigerung des Vermarktungs-werts der Erzeugnisse","Zahl der Betriebe",null,null,{"$f":"'T5.4 Abs+Kom'!F12","v":0},{"$f":"'T5.4 Abs+Kom'!G12","v":0},{"$f":"'T5.4 Abs+Kom'!H12","v":0},{"$f":"'T5.4 Abs+Kom'!I12","v":0},{"$f":"'T5.4 Abs+Kom'!J12","v":0},0,0]
[{"$nulls":4},"Zahl der Kampagnen zur Absatzförderung  ",null,null,{"$f":"'T5.4 Abs+Kom'!R12","v":{"v":0,"d":"0.0"}},{"$f":"'T5.4 Abs+Kom'!S12","v":{"v":0,"d":"0.0"}},{"$f":"'T5.4 Abs+Kom'!T12","v":{"v":0,"d":"0.0"}},{"$f":"'T5.4 Abs+Kom'!U12","v":{"v":0,"d":"0.0"}},{"$f":"'T5.4 Abs+Kom'!V12","v":{"v":0,"d":"0.0"}},{"v":0,"d":"0.0"},{"v":0,"d":"0.0"}]
[{"$nulls":3},"Förderung des Absatzes der Erzeugnisse","Zahl der Betriebe",null,null,{"$f":"'T5.4 Abs+Kom'!F20","v":0},{"$f":"'T5.4 Abs+Kom'!G20","v":0},{"$f":"'T5.4 Abs+Kom'!H20","v":0},{"$f":"'T5.4 Abs+Kom'!I20","v":0},{"$f":"'T5.4 Abs+Kom'!J20","v":0},0,0]
[{"$nulls":4},"Zahl der Kampagnen zur Absatzförderung  ",null,null,{"$f":"'T5.4 Abs+Kom'!R20","v":{"v":0,"d":"0.0"}},{"$f":"'T5.4 Abs+Kom'!S20","v":{"v":0,"d":"0.0"}},{"$f":"'T5.4 Abs+Kom'!T20","v":{"v":0,"d":"0.0"}},{"$f":"'T5.4 Abs+Kom'!U20","v":{"v":0,"d":"0.0"}},{"$f":"'T5.4 Abs+Kom'!V20","v":{"v":0,"d":"0.0"}},{"v":0,"d":"0.0"},{"v":0,"d":"0.0"}]
[{"$nulls":3},"Krisenprävention und Krisenmanagement","Zahl der Betriebe",null,null,{"$f":"'T5.4 Abs+Kom'!F28","v":0},{"$f":"'T5.4 Abs+Kom'!G28","v":0},{"$f":"'T5.4 Abs+Kom'!H28","v":0},{"$f":"'T5.4 Abs+Kom'!I28","v":0},{"$f":"'T5.4 Abs+Kom'!J28","v":0},0,0]
[{"$nulls":4},"Zahl der Kampagnen zur Absatzförderung  ",null,null,{"$f":"'T5.4 Abs+Kom'!R28","v":{"v":0,"d":"0.0"}},{"$f":"'T5.4 Abs+Kom'!S28","v":{"v":0,"d":"0.0"}},{"$f":"'T5.4 Abs+Kom'!T28","v":{"v":0,"d":"0.0"}},{"$f":"'T5.4 Abs+Kom'!U28","v":{"v":0,"d":"0.0"}},{"$f":"'T5.4 Abs+Kom'!V28","v":{"v":0,"d":"0.0"}},{"v":0,"d":"0.0"},{"v":0,"d":"0.0"}]
["Aus- und Weiterbildung und Austausch über bewährte Verfahren\n\n(Angaben aus Tabelle T5.5)",null,null,"Planung der Produktion","Zahl der Betriebe",null,null,{"$f":"'T5.5 Bild'!F12","v":0},{"$f":"'T5.5 Bild'!G12","v":0},{"$f":"'T5.5 Bild'!H12","v":0},{"$f":"'T5.5 Bild'!I12","v":0},{"$f":"'T5.5 Bild'!J12","v":0},0,0]
[{"$nulls":4},"Zahl der Maßnahmen",null,null,{"$f":"'T5.5 Bild'!R12","v":{"v":0,"d":"0.0"}},{"$f":"'T5.5 Bild'!S12","v":{"v":0,"d":"0.0"}},{"$f":"'T5.5 Bild'!T12","v":{"v":0,"d":"0.0"}},{"$f":"'T5.5 Bild'!U12","v":{"v":0,"d":"0.0"}},{"$f":"'T5.5 Bild'!V12","v":{"v":0,"d":"0.0"}},{"v":0,"d":"0.0"},{"v":0,"d":"0.0"}]
[{"$nulls":3},"Verbesserung der Qualität der Erzeugnisse","Zahl der Betriebe",null,null,{"$f":"'T5.5 Bild'!F20","v":0},{"$f":"'T5.5 Bild'!G20","v":0},{"$f":"'T5.5 Bild'!H20","v":0},{"$f":"'T5.5 Bild'!I20","v":0},{"$f":"'T5.5 Bild'!J20","v":0},0,0]
[{"$nulls":4},"Zahl der Maßnahmen",null,null,{"$f":"'T5.5 Bild'!R20","v":{"v":0,"d":"0.0"}},{"$f":"'T5.5 Bild'!S20","v":{"v":0,"d":"0.0"}},{"$f":"'T5.5 Bild'!T20","v":{"v":0,"d":"0.0"}},{"$f":"'T5.5 Bild'!U20","v":{"v":0,"d":"0.0"}},{"$f":"'T5.5 Bild'!V20","v":{"v":0,"d":"0.0"}},{"v":0,"d":"0.0"},{"v":0,"d":"0.0"}]
[{"$nulls":3},"Steigerung des Vermarktungs-werts der Erzeugnisse","Zahl der Betriebe",null,null,{"$f":"'T5.5 Bild'!F28","v":0},{"$f":"'T5.5 Bild'!G28","v":0},{"$f":"'T5.5 Bild'!H28","v":0},{"$f":"'T5.5 Bild'!I28","v":0},{"$f":"'T5.5 Bild'!J28","v":0},0,0]
[{"$nulls":4},"Zahl der Maßnahmen",null,null,{"$f":"'T5.5 Bild'!R28","v":{"v":0,"d":"0.0"}},{"$f":"'T5.5 Bild'!S28","v":{"v":0,"d":"0.0"}},{"$f":"'T5.5 Bild'!T28","v":{"v":0,"d":"0.0"}},{"$f":"'T5.5 Bild'!U28","v":{"v":0,"d":"0.0"}},{"$f":"'T5.5 Bild'!V28","v":{"v":0,"d":"0.0"}},{"v":0,"d":"0.0"},{"v":0,"d":"0.0"}]
[{"$nulls":3},"Umweltmaßnahmen","Zahl der Betriebe",null,null,{"$f":"'T5.5 Bild'!F36","v":0},{"$f":"'T5.5 Bild'!G36","v":0},{"$f":"'T5.5 Bild'!H36","v":0},{"$f":"'T5.5 Bild'!I36","v":0},{"$f":"'T5.5 Bild'!J36","v":0},0,0]
[{"$nulls":4},"Zahl der Maßnahmen",null,null,{"$f":"'T5.5 Bild'!R36","v":{"v":0,"d":"0.0"}},{"$f":"'T5.5 Bild'!S36","v":{"v":0,"d":"0.0"}},{"$f":"'T5.5 Bild'!T36","v":{"v":0,"d":"0.0"}},{"$f":"'T5.5 Bild'!U36","v":{"v":0,"d":"0.0"}},{"$f":"'T5.5 Bild'!V36","v":{"v":0,"d":"0.0"}},{"v":0,"d":"0.0"},{"v":0,"d":"0.0"}]
[{"$nulls":3},"Krisenprävention und Krisenmanagement","Zahl der Betriebe",null,null,{"$f":"'T5.5 Bild'!F44","v":0},{"$f":"'T5.5 Bild'!G44","v":0},{"$f":"'T5.5 Bild'!H44","v":0},{"$f":"'T5.5 Bild'!I44","v":0},{"$f":"'T5.5 Bild'!J44","v":0},0,0]
[{"$nulls":4},"Zahl der Maßnahmen",null,null,{"$f":"'T5.5 Bild'!R44","v":{"v":0,"d":"0.0"}},{"$f":"'T5.5 Bild'!S44","v":{"v":0,"d":"0.0"}},{"$f":"'T5.5 Bild'!T44","v":{"v":0,"d":"0.0"}},{"$f":"'T5.5 Bild'!U44","v":{"v":0,"d":"0.0"}},{"$f":"'T5.5 Bild'!V44","v":{"v":0,"d":"0.0"}},{"v":0,"d":"0.0"},{"v":0,"d":"0.0"}]
["Beratungsdienste und technische Hilfe\n\n(Angaben aus Tabelle T5.6)",null,null,"Planung der Produktion","Zahl der Betriebe",null,null,{"$f":"'T5.6 Berat'!F12","v":0},{"$f":"'T5.6 Berat'!G12","v":0},{"$f":"'T5.6 Berat'!H12","v":0},{"$f":"'T5.6 Berat'!I12","v":0},{"$f":"'T5.6 Berat'!J12","v":0},0,0]
[{"$nulls":4},"Zahl der Maßnahmen",null,null,{"$f":"'T5.6 Berat'!R12","v":{"v":0,"d":"0.0"}},{"$f":"'T5.6 Berat'!S12","v":{"v":0,"d":"0.0"}},{"$f":"'T5.6 Berat'!T12","v":{"v":0,"d":"0.0"}},{"$f":"'T5.6 Berat'!U12","v":{"v":0,"d":"0.0"}},{"$f":"'T5.6 Berat'!V12","v":{"v":0,"d":"0.0"}},{"v":0,"d":"0.0"},{"v":0,"d":"0.0"}]
[{"$nulls":3},"Verbesserung der Qualität der Erzeugnisse","Zahl der Betriebe",null,null,{"$f":"'T5.6 Berat'!F20","v":0},{"$f":"'T5.6 Berat'!G20","v":0},{"$f":"'T5.6 Berat'!H20","v":0},{"$f":"'T5.6 Berat'!I20","v":0},{"$f":"'T5.6 Berat'!J20","v":0},0,0]
[{"$nulls":4},"Zahl der Maßnahmen",null,null,{"$f":"'T5.6 Berat'!R20","v":{"v":0,"d":"0.0"}},{"$f":"'T5.6 Berat'!S20","v":{"v":0,"d":"0.0"}},{"$f":"'T5.6 Berat'!T20","v":{"v":0,"d":"0.0"}},{"$f":"'T5.6 Berat'!U20","v":{"v":0,"d":"0.0"}},{"$f":"'T5.6 Berat'!V20","v":{"v":0,"d":"0.0"}},{"v":0,"d":"0.0"},{"v":0,"d":"0.0"}]
[{"$nulls":3},"Steigerung des Vermarktungs-werts der Erzeugnisse","Zahl der Betriebe",null,null,{"$f":"'T5.6 Berat'!F28","v":0},{"$f":"'T5.6 Berat'!G28","v":0},{"$f":"'T5.6 Berat'!H28","v":0},{"$f":"'T5.6 Berat'!I28","v":0},{"$f":"'T5.6 Berat'!J28","v":0},0,0]
[{"$nulls":4},"Zahl der Maßnahmen",null,null,{"$f":"'T5.6 Berat'!R28","v":{"v":0,"d":"0.0"}},{"$f":"'T5.6 Berat'!S28","v":{"v":0,"d":"0.0"}},{"$f":"'T5.6 Berat'!T28","v":{"v":0,"d":"0.0"}},{"$f":"'T5.6 Berat'!U28","v":{"v":0,"d":"0.0"}},{"$f":"'T5.6 Berat'!V28","v":{"v":0,"d":"0.0"}},{"v":0,"d":"0.0"},{"v":0,"d":"0.0"}]
[{"$nulls":3},"Umweltmaßnahmen","Zahl der Betriebe",null,null,{"$f":"'T5.6 Berat'!F36","v":0},{"$f":"'T5.6 Berat'!G36","v":0},{"$f":"'T5.6 Berat'!H36","v":0},{"$f":"'T5.6 Berat'!I36","v":0},{"$f":"'T5.6 Berat'!J36","v":0},0,0]
[{"$nulls":4},"Zahl der Maßnahmen",null,null,{"$f":"'T5.6 Berat'!R36","v":{"v":0,"d":"0.0"}},{"$f":"'T5.6 Berat'!S36","v":{"v":0,"d":"0.0"}},{"$f":"'T5.6 Berat'!T36","v":{"v":0,"d":"0.0"}},{"$f":"'T5.6 Berat'!U36","v":{"v":0,"d":"0.0"}},{"$f":"'T5.6 Berat'!V36","v":{"v":0,"d":"0.0"}},{"v":0,"d":"0.0"},{"v":0,"d":"0.0"}]
["Ökologischer / biologischer Landbau",null,null,"Umweltmaßnahmen\n\n(Angaben aus Tabellen T5.7 und  T6.1)","Ökologisch bewirtschaftete Obst- und/oder Gemüseanbaufläche (in ha) ",null,null,{"$f":"'T5.7 Umwelt'!R13","v":{"v":0,"d":"0.000"}},{"$f":"'T5.7 Umwelt'!S13","v":{"v":0,"d":"0.000"}},{"$f":"'T5.7 Umwelt'!T13","v":{"v":0,"d":"0.000"}},{"$f":"'T5.7 Umwelt'!U13","v":{"v":0,"d":"0.000"}},{"$f":"'T5.7 Umwelt'!V13","v":{"v":0,"d":"0.000"}},{"v":0,"d":"0.000"},{"v":0,"d":"0.000"}]
[{"$nulls":4},"Zahl der Betriebe",null,null,{"$f":"'T5.7 Umwelt'!F13","v":0},{"$f":"'T5.7 Umwelt'!G13","v":0},{"$f":"'T5.7 Umwelt'!H13","v":0},{"$f":"'T5.7 Umwelt'!I13","v":0},{"$f":"'T5.7 Umwelt'!J13","v":0},0,0]
["Integrierter Landbau",{"$nulls":3},"Integriert bewirtschaftete Obst- und/oder Gemüseanbaufläche (in ha)  ",null,null,{"$f":"'T5.7 Umwelt'!R14","v":{"v":0,"d":"0.000"}},{"$f":"'T5.7 Umwelt'!S14","v":{"v":0,"d":"0.000"}},{"$f":"'T5.7 Umwelt'!T14","v":{"v":0,"d":"0.000"}},{"$f":"'T5.7 Umwelt'!U14","v":{"v":0,"d":"0.000"}},{"$f":"'T5.7 Umwelt'!V14","v":{"v":0,"d":"0.000"}},{"v":0,"d":"0.000"},{"v":0,"d":"0.000"}]
[{"$nulls":4},"Zahl der Betriebe",null,null,{"$f":"'T5.7 Umwelt'!F14","v":0},{"$f":"'T5.7 Umwelt'!G14","v":0},{"$f":"'T5.7 Umwelt'!H14","v":0},{"$f":"'T5.7 Umwelt'!I14","v":0},{"$f":"'T5.7 Umwelt'!J14","v":0},0,0]
["Bessere Nutzung oder Bewirtschaftung von Wasser, einschließlich Wassereinsparung und -ableitung",{"$nulls":3},"Obst- und Gemüseanbaufläche mit geringerer Nutzung von Wasser (in ha)",null,null,{"$f":"'T5.7 Umwelt'!R15","v":{"v":0,"d":"0.000"}},{"$f":"'T5.7 Umwelt'!S15","v":{"v":0,"d":"0.000"}},{"$f":"'T5.7 Umwelt'!T15","v":{"v":0,"d":"0.000"}},{"$f":"'T5.7 Umwelt'!U15","v":{"v":0,"d":"0.000"}},{"$f":"'T5.7 Umwelt'!V15","v":{"v":0,"d":"0.000"}},{"v":0,"d":"0.000"},{"v":0,"d":"0.000"}]
[{"$nulls":4},"Zahl der Betriebe",null,null,{"$f":"'T5.7 Umwelt'!F15","v":0},{"$f":"'T5.7 Umwelt'!G15","v":0},{"$f":"'T5.7 Umwelt'!H15","v":0},{"$f":"'T5.7 Umwelt'!I15","v":0},{"$f":"'T5.7 Umwelt'!J15","v":0},0,0]
[{"$nulls":4},"Volumendifferenz (in m3) [(n – 1) – (n)] ",null,null,{"$f":"'T5.7 Umwelt'!Z15-'T5.7 Umwelt'!Y15","v":{"v":0,"d":"0.000"}},{"$f":"'T5.7 Umwelt'!AA15-'T5.7 Umwelt'!Z15","v":{"v":0,"d":"0.000"}},{"$f":"'T5.7 Umwelt'!AB15-'T5.7 Umwelt'!AA15","v":{"v":0,"d":"0.000"}},{"$f":"'T5.7 Umwelt'!AC15-'T5.7 Umwelt'!AB15","v":{"v":0,"d":"0.000"}},{"$f":"M65-'T5.7 Umwelt'!AC15","v":{"v":0,"d":"0.000"}},{"v":0,"d":"0.000"},{"v":0,"d":"0.000"}]
["Maßnahmen zur Bodenerhaltung",{"$nulls":3},"Durch Bodenerosion gefährdete Obst- und Gemüseanbaufläche, auf der Erosionsschutz-maßnahmen durchgeführt werden (in ha) (5) ",null,null,{"$f":"'T5.7 Umwelt'!R20","v":{"v":0,"d":"0.00"}},{"$f":"'T5.7 Umwelt'!S20","v":{"v":0,"d":"0.00"}},{"$f":"'T5.7 Umwelt'!T20","v":{"v":0,"d":"0.00"}},{"$f":"'T5.7 Umwelt'!U20","v":{"v":0,"d":"0.00"}},{"$f":"'T5.7 Umwelt'!V20","v":{"v":0,"d":"0.00"}},{"v":0,"d":"0.00"},{"v":0,"d":"0.00"}]
[{"$nulls":4},"Zahl der Betriebe",null,null,{"$f":"'T5.7 Umwelt'!F20","v":0},{"$f":"'T5.7 Umwelt'!G20","v":0},{"$f":"'T5.7 Umwelt'!H20","v":0},{"$f":"'T5.7 Umwelt'!I20","v":0},{"$f":"'T5.7 Umwelt'!J20","v":0},0,0]
[{"$nulls":4},"Unterschiede beim Düngemitteleinsatz je ha (Tonnen / ha)  [(n – 1) – (n)] ",null,null,{"$f":"'T5.7 Umwelt'!Z20-'T5.7 Umwelt'!Y20","v":{"v":0,"d":"0.000"}},{"$f":"'T5.7 Umwelt'!AA20-'T5.7 Umwelt'!Z20","v":{"v":0,"d":"0.000"}},{"$f":"'T5.7 Umwelt'!AB20-'T5.7 Umwelt'!AA20","v":{"v":0,"d":"0.000"}},{"$f":"'T5.7 Umwelt'!AC20-'T5.7 Umwelt'!AB20","v":{"v":0,"d":"0.000"}},{"$f":"M68-'T5.7 Umwelt'!AC20","v":{"v":0,"d":"0.000"}},{"v":0,"d":"0.000"},{"v":0,"d":"0.000"}]
["Maßnahmen zur Schaffung und Erhaltung von Lebensräumen, die die biologische Vielfalt begünstigen, und zur Landschaftspflege, einschließlich Erhaltung historischer Merkmale",{"$nulls":3},"Fläche, auf der Maßnahmen zur Verbesserung des Schutzes von Lebensräumen und der biologischen Vielfalt durchgeführt werden (ha) ",null,null,{"$f":"'T5.7 Umwelt'!R25","v":{"v":0,"d":"0.000"}},{"$f":"'T5.7 Umwelt'!S25","v":{"v":0,"d":"0.000"}},{"$f":"'T5.7 Umwelt'!T25","v":{"v":0,"d":"0.000"}},{"$f":"'T5.7 Umwelt'!U25","v":{"v":0,"d":"0.000"}},{"$f":"'T5.7 Umwelt'!V25","v":{"v":0,"d":"0.000"}},{"v":0,"d":"0.000"},{"v":0,"d":"0.000"}]
[{"$nulls":4},"Zahl der Betriebe  ",null,null,{"$f":"'T5.7 Umwelt'!F25","v":0},{"$f":"'T5.7 Umwelt'!G25","v":0},{"$f":"'T5.7 Umwelt'!H25","v":0},{"$f":"'T5.7 Umwelt'!I25","v":0},{"$f":"'T5.7 Umwelt'!J25","v":0},0,0]
["Maßnahmen zur Energieeinsparung \n(ohne Verkehr)\n(Berechnung Energieverbrauch mit Daten aus T6.1)",null,null,"Umweltmaßnahmen\n\n(Angaben aus Tabellen T5.7 und T6.1)","Obst- und Gemüseanbaufläche mit geringerer Nutzung von Energie (in ha)  ",null,null,{"$f":"'T5.7 Umwelt'!R30","v":{"v":0,"d":"0.000"}},{"$f":"'T5.7 Umwelt'!S30","v":{"v":0,"d":"0.000"}},{"$f":"'T5.7 Umwelt'!T30","v":{"v":0,"d":"0.000"}},{"$f":"'T5.7 Umwelt'!U30","v":{"v":0,"d":"0.000"}},{"$f":"'T5.7 Umwelt'!V30","v":{"v":0,"d":"0.000"}},{"v":0,"d":"0.000"},{"v":0,"d":"0.000"}]
[{"$nulls":4},"Zahl der Betriebe  ",null,null,{"$f":"'T5.7 Umwelt'!F30","v":0},{"$f":"'T5.7 Umwelt'!G30","v":0},{"$f":"'T5.7 Umwelt'!H30","v":0},{"$f":"'T5.7 Umwelt'!I30","v":0},{"$f":"'T5.7 Umwelt'!J30","v":0},0,0]
[{"$nulls":4},"Unterschiede beim Energieverbrauch\n[(n – 1) – (n)] "]
[{"$nulls":4},"Feststoffe","(Tonnen / Gesamtmenge der vermarkteten Erzeugung)",null,{"$f":"'T6.1 Sam_Indi NSt'!I47-'T6.1 Sam_Indi NSt'!H47","v":{"v":0,"d":"0.000"}},{"$f":"'T6.1 Sam_Indi NSt'!J47-'T6.1 Sam_Indi NSt'!I47","v":{"v":0,"d":"0.000"}},{"$f":"'T6.1 Sam_Indi NSt'!K47-'T6.1 Sam_Indi NSt'!J47","v":{"v":0,"d":"0.000"}},{"$f":"'T6.1 Sam_Indi NSt'!L47-'T6.1 Sam_Indi NSt'!K47","v":{"v":0,"d":"0.000"}},{"$f":"'T6.1 Sam_Indi NSt'!M47-'T6.1 Sam_Indi NSt'!L47","v":{"v":0,"d":"0.000"}},{"v":0,"d":"0.000"},{"v":0,"d":"0.000"}]
[{"$nulls":4},"Flüssigkeiten","(Liter / t Gesamtmenge der vermarkteten Erzeugung) ",null,{"$f":"'T6.1 Sam_Indi NSt'!I48-'T6.1 Sam_Indi NSt'!H48","v":{"v":0,"d":"0.000"}},{"$f":"'T6.1 Sam_Indi NSt'!J48-'T6.1 Sam_Indi NSt'!I48","v":{"v":0,"d":"0.000"}},{"$f":"'T6.1 Sam_Indi NSt'!K48-'T6.1 Sam_Indi NSt'!J48","v":{"v":0,"d":"0.000"}},{"$f":"'T6.1 Sam_Indi NSt'!L48-'T6.1 Sam_Indi NSt'!K48","v":{"v":0,"d":"0.000"}},{"$f":"'T6.1 Sam_Indi NSt'!M48-'T6.1 Sam_Indi NSt'!L48","v":{"v":0,"d":"0.000"}},{"v":0,"d":"0.000"},{"v":0,"d":"0.000"}]
[{"$nulls":4},"Gas","(m3 / t Gesamtmenge der vermarkteten Erzeugung)",null,{"$f":"'T6.1 Sam_Indi NSt'!I49-'T6.1 Sam_Indi NSt'!H49","v":{"v":0,"d":"0.000"}},{"$f":"'T6.1 Sam_Indi NSt'!J49-'T6.1 Sam_Indi NSt'!I49","v":{"v":0,"d":"0.000"}},{"$f":"'T6.1 Sam_Indi NSt'!K49-'T6.1 Sam_Indi NSt'!J49","v":{"v":0,"d":"0.000"}},{"$f":"'T6.1 Sam_Indi NSt'!L49-'T6.1 Sam_Indi NSt'!K49","v":{"v":0,"d":"0.000"}},{"$f":"'T6.1 Sam_Indi NSt'!M49-'T6.1 Sam_Indi NSt'!L49","v":{"v":0,"d":"0.000"}},{"v":0,"d":"0.000"},{"v":0,"d":"0.000"}]
[{"$nulls":4},"Strom","(kwh / t Gesamtmenge der vermarkteten Erzeugung)",null,{"$f":"'T6.1 Sam_Indi NSt'!I50-'T6.1 Sam_Indi NSt'!H50","v":{"v":0,"d":"0.000"}},{"$f":"'T6.1 Sam_Indi NSt'!J50-'T6.1 Sam_Indi NSt'!I50","v":{"v":0,"d":"0.000"}},{"$f":"'T6.1 Sam_Indi NSt'!K50-'T6.1 Sam_Indi NSt'!J50","v":{"v":0,"d":"0.000"}},{"$f":"'T6.1 Sam_Indi NSt'!L50-'T6.1 Sam_Indi NSt'!K50","v":{"v":0,"d":"0.000"}},{"$f":"'T6.1 Sam_Indi NSt'!M50-'T6.1 Sam_Indi NSt'!L50","v":{"v":0,"d":"0.000"}},{"v":0,"d":"0.000"},{"v":0,"d":"0.000"}]
["Maßnahmen zur Verringerung der Abfallproduktion und Verbesserung der Abfallbewirtschaftung\n(Berechnung Abfall- und Verpackungs-volumen / -gewicht mit Daten aus T6.1)",{"$nulls":3},"Zahl der Betriebe  ",null,null,{"$f":"'T5.7 Umwelt'!F35","v":0},{"$f":"'T5.7 Umwelt'!G35","v":0},{"$f":"'T5.7 Umwelt'!H35","v":0},{"$f":"'T5.7 Umwelt'!I35","v":0},{"$f":"'T5.7 Umwelt'!J35","v":0},0,0]
[{"$nulls":4},"Unterschiede beim Abfallvolumen \n(m3 / t Gesamtmenge der vermarkteten Erzeugung) \n[(n – 1) – (n)] ",null,null,{"$f":"'T6.1 Sam_Indi NSt'!I57-'T6.1 Sam_Indi NSt'!H57","v":{"v":0,"d":"0.000"}},{"$f":"'T6.1 Sam_Indi NSt'!J57-'T6.1 Sam_Indi NSt'!I57","v":{"v":0,"d":"0.000"}},{"$f":"'T6.1 Sam_Indi NSt'!K57-'T6.1 Sam_Indi NSt'!J57","v":{"v":0,"d":"0.000"}},{"$f":"'T6.1 Sam_Indi NSt'!L57-'T6.1 Sam_Indi NSt'!K57","v":{"v":0,"d":"0.000"}},{"$f":"'T6.1 Sam_Indi NSt'!M57-'T6.1 Sam_Indi NSt'!L57","v":{"v":0,"d":"0.000"}},{"v":0,"d":"0.000"},{"v":0,"d":"0.000"}]
[{"$nulls":4},"Unterschiede beim Abfallvolumen \n/-gewicht\n(t / t Gesamtmenge der vermarkteten Erzeugung) \n[(n – 1) – (n)] ",{"$nulls":4},{"$f":"'T6.1 Sam_Indi NSt'!K58-'T6.1 Sam_Indi NSt'!J58","v":{"v":0,"d":"0.000"}},{"$f":"'T6.1 Sam_Indi NSt'!L58-'T6.1 Sam_Indi NSt'!K58","v":{"v":0,"d":"0.000"}},{"$f":"'T6.1 Sam_Indi NSt'!M58-'T6.1 Sam_Indi NSt'!L58","v":{"v":0,"d":"0.000"}},{"v":0,"d":"0.000"},{"v":0,"d":"0.000"}]
[{"$nulls":4},"Unterschiede beim Verpackungsvolumen\n(m3 / t Gesamtmenge der vermarkteten Erzeugung) \n[(n – 1) – (n)] ",null,null,{"$f":"'T6.1 Sam_Indi NSt'!I59-'T6.1 Sam_Indi NSt'!H59","v":{"v":0,"d":"0.000"}},{"$f":"'T6.1 Sam_Indi NSt'!J59-'T6.1 Sam_Indi NSt'!I59","v":{"v":0,"d":"0.000"}},{"$f":"'T6.1 Sam_Indi NSt'!K59-'T6.1 Sam_Indi NSt'!J59","v":{"v":0,"d":"0.000"}},{"$f":"'T6.1 Sam_Indi NSt'!L59-'T6.1 Sam_Indi NSt'!K59","v":{"v":0,"d":"0.000"}},{"$f":"'T6.1 Sam_Indi NSt'!M59-'T6.1 Sam_Indi NSt'!L59","v":{"v":0,"d":"0.000"}},{"v":0,"d":"0.000"},{"v":0,"d":"0.000"}]
[{"$nulls":4},"Unterschiede beim Verpackungsvolumen \n/-gewicht\n(t / t Gesamtmenge der vermarkteten Erzeugung) \n[(n – 1) – (n)] ",{"$nulls":4},{"$f":"'T6.1 Sam_Indi NSt'!K60-'T6.1 Sam_Indi NSt'!J60","v":{"v":0,"d":"0.000"}},{"$f":"'T6.1 Sam_Indi NSt'!L60-'T6.1 Sam_Indi NSt'!K60","v":{"v":0,"d":"0.000"}},{"$f":"'T6.1 Sam_Indi NSt'!M60-'T6.1 Sam_Indi NSt'!L60","v":{"v":0,"d":"0.000"}},{"v":0,"d":"0.000"},{"v":0,"d":"0.000"}]
["Verkehr\n(Berechnung Energieverbrauch mit Daten aus T6.1)\n",{"$nulls":3},"Unterschiede beim Energieverbrauch\n [(n – 1) – (n)] "]
[{"$nulls":4},"Flüssigkeiten","(Liter / t Gesamtmenge der vermarkteten Erzeugung) ",null,{"$f":"'T6.1 Sam_Indi NSt'!I51-'T6.1 Sam_Indi NSt'!H51","v":{"v":0,"d":"0.000"}},{"$f":"'T6.1 Sam_Indi NSt'!J51-'T6.1 Sam_Indi NSt'!I51","v":{"v":0,"d":"0.000"}},{"$f":"'T6.1 Sam_Indi NSt'!K51-'T6.1 Sam_Indi NSt'!J51","v":{"v":0,"d":"0.000"}},{"$f":"'T6.1 Sam_Indi NSt'!L51-'T6.1 Sam_Indi NSt'!K51","v":{"v":0,"d":"0.000"}},{"$f":"'T6.1 Sam_Indi NSt'!M51-'T6.1 Sam_Indi NSt'!L51","v":{"v":0,"d":"0.000"}},{"v":0,"d":"0.000"},{"v":0,"d":"0.000"}]
[{"$nulls":4},"Gas","(m3 / t Gesamtmenge der vermarkteten Erzeugung)",null,{"$f":"'T6.1 Sam_Indi NSt'!I52-'T6.1 Sam_Indi NSt'!H52","v":{"v":0,"d":"0.000"}},{"$f":"'T6.1 Sam_Indi NSt'!J52-'T6.1 Sam_Indi NSt'!I52","v":{"v":0,"d":"0.000"}},{"$f":"'T6.1 Sam_Indi NSt'!K52-'T6.1 Sam_Indi NSt'!J52","v":{"v":0,"d":"0.000"}},{"$f":"'T6.1 Sam_Indi NSt'!L52-'T6.1 Sam_Indi NSt'!K52","v":{"v":0,"d":"0.000"}},{"$f":"'T6.1 Sam_Indi NSt'!M52-'T6.1 Sam_Indi NSt'!L52","v":{"v":0,"d":"0.000"}},{"v":0,"d":"0.000"},{"v":0,"d":"0.000"}]
[{"$nulls":4},"Strom","(kwh / t Gesamtmenge der vermarkteten Erzeugung)",null,{"$f":"'T6.1 Sam_Indi NSt'!I53-'T6.1 Sam_Indi NSt'!H53","v":{"v":0,"d":"0.000"}},{"$f":"'T6.1 Sam_Indi NSt'!J53-'T6.1 Sam_Indi NSt'!I53","v":{"v":0,"d":"0.000"}},{"$f":"'T6.1 Sam_Indi NSt'!K53-'T6.1 Sam_Indi NSt'!J53","v":{"v":0,"d":"0.000"}},{"$f":"'T6.1 Sam_Indi NSt'!L53-'T6.1 Sam_Indi NSt'!K53","v":{"v":0,"d":"0.000"}},{"$f":"'T6.1 Sam_Indi NSt'!M53-'T6.1 Sam_Indi NSt'!L53","v":{"v":0,"d":"0.000"}},{"v":0,"d":"0.000"},{"v":0,"d":"0.000"}]
["Vermarktung",{"$nulls":3},"Zahl der Betriebe",null,null,{"$f":"'T5.7 Umwelt'!F45","v":0},{"$f":"'T5.7 Umwelt'!G45","v":0},{"$f":"'T5.7 Umwelt'!H45","v":0},{"$f":"'T5.7 Umwelt'!I45","v":0},{"$f":"'T5.7 Umwelt'!J45","v":0},0,0]
[{"$nulls":4},"Zahl der Maßnahmen",null,null,{"$f":"'T5.7 Umwelt'!R45","v":0},{"$f":"'T5.7 Umwelt'!S45","v":0},{"$f":"'T5.7 Umwelt'!T45","v":0},{"$f":"'T5.7 Umwelt'!U45","v":0},{"$f":"'T5.7 Umwelt'!V45","v":0},0,0]
["Einrichtung von Fonds auf Gegenseitigkeit (6)",null,null,"Krisenprävention und Krisenmanagement\n\n(Angaben aus Tabelle T5.8)","Zahl der Betriebe  "]
["Neubefüllung von Fonds auf Gegenseitigkeit (6)",{"$nulls":3},"Zahl der Betriebe  "]
["Wiederbepflanzung von Obstplantagen",{"$nulls":3},"Fläche (in ha)",null,null,{"$f":"'T5.8 Krise'!R14","v":{"v":0,"d":"0.000"}},{"$f":"'T5.8 Krise'!S14","v":{"v":0,"d":"0.000"}},{"$f":"'T5.8 Krise'!T14","v":{"v":0,"d":"0.000"}},{"$f":"'T5.8 Krise'!U14","v":{"v":0,"d":"0.000"}},{"$f":"'T5.8 Krise'!V14","v":{"v":0,"d":"0.000"}},{"v":0,"d":"0.000"},{"v":0,"d":"0.000"}]
["Marktrücknahmen (7)",{"$nulls":3},"Zahl der durchgeführten Maßnahmen"]
["Ernte vor der Reifung (8)",{"$nulls":3},"Zahl der durchgeführten Maßnahmen"]
[{"$nulls":4},"Fläche (in ha)"]
["Nichternten (8)",{"$nulls":3},"Zahl der durchgeführten Maßnahmen"]
[{"$nulls":4},"Fläche (in ha)"]
["Ernteversicherung",{"$nulls":3},"Zahl der Betriebe  ",null,null,{"$f":"'T5.8 Krise'!F22","v":0},{"$f":"'T5.8 Krise'!G22","v":0},{"$f":"'T5.8 Krise'!H22","v":0},{"$f":"'T5.8 Krise'!I22","v":0},{"$f":"'T5.8 Krise'!J22","v":0},0,0]
["Coaching",{"$nulls":3},"Zahl der durchgeführten Maßnahmen"]
["Sonstige\n\n(Angaben aus Tabelle T5.9)",null,null,"Planung der Produktion","Zahl der Betriebe  ",null,null,{"$f":"'T5.9 Sonst'!F12","v":0},{"$f":"'T5.9 Sonst'!G12","v":0},{"$f":"'T5.9 Sonst'!H12","v":0},{"$f":"'T5.9 Sonst'!I12","v":0},{"$f":"'T5.9 Sonst'!J12","v":0},0,0]
[{"$nulls":3},"Verbesserung der Qualität der Erzeugnisse","Zahl der Betriebe  ",null,null,{"$f":"'T5.9 Sonst'!F20","v":0},{"$f":"'T5.9 Sonst'!G20","v":0},{"$f":"'T5.9 Sonst'!H20","v":0},{"$f":"'T5.9 Sonst'!I20","v":0},{"$f":"'T5.9 Sonst'!J20","v":0},0,0]
[{"$nulls":3},"Steigerung des Vermarktungs-werts der Erzeugnisse","Zahl der Betriebe  ",null,null,{"$f":"'T5.9 Sonst'!F28","v":0},{"$f":"'T5.9 Sonst'!G28","v":0},{"$f":"'T5.9 Sonst'!H28","v":0},{"$f":"'T5.9 Sonst'!I28","v":0},{"$f":"'T5.9 Sonst'!J28","v":0},0,0]
[{"$nulls":3},"Umweltmaßnahmen","Zahl der Betriebe  ",null,null,{"$f":"'T5.9 Sonst'!F36","v":0},{"$f":"'T5.9 Sonst'!G36","v":0},{"$f":"'T5.9 Sonst'!H36","v":0},{"$f":"'T5.9 Sonst'!I36","v":0},{"$f":"'T5.9 Sonst'!J36","v":0},0,0]
[]
["Fußnoten DVO (EU) 2017/892, Anhang II geändert mit DVO (EU) 2018/1146"]
["(1)","Einschließlich nicht produktiver Investitionen in Verbindung mit der Erfüllung von Verpflichtungen im Rahmen des operationellen Programms. "]
["(2)","EU-Qualitätsregelungen sind als eine Reihe präziser Verpflichtungen in Bezug auf die Produktionsmethoden zu verstehen, \na) deren Einhaltung von einer unabhängigen Kontrollstelle überprüft wird und \nb) die ein Endprodukt gewährleisten, dessen Qualität\n     i) in Bezug auf Gesundheits-, Pflanzengesundheits- und Umweltnormen weit über die gängigen Handelsnormen hinausgeht, und\n     ii) den gegenwärtigen und absehbaren Absatzmöglichkeiten gerecht wird. \nEs wird vorgeschlagen, dass die wichtigsten Arten von ‚Qualitätssicherungssystemen‘ Folgendes abdecken sollten: \na) den zertifizierten ökologischen Landbau; \nb) geschützte geografische Angaben und geschützte Ursprungsbezeichnungen, \nc) den zertifizierten integrierten Landbau, \nd) private zertifizierte Qualitätssicherungssysteme."]
["(3)","Geschützte Ursprungsbezeichnungen / geschützte geografische Angaben / garantiert traditionelle Spezialitäten "]
["(4)","Jeder Tag einer Absatzförderungs-/Kommunikationskampagne zählt als eine Aktion. "]
["(5)","Als ‚bodenerosionsgefährdet‘ gelten Parzellen in Hanglage mit einer Neigung von über 10 %, und zwar unabhängig davon, ob Maßnahmen zum Erosionsschutz (z. B. Bodenbegrünung, Fruchtfolge usw.) getroffen wurden oder nicht. Liegen die betreffenden Informationen nicht vor, kann der Mitgliedstaat stattdessen die folgende Definition verwenden: Als ‚bodenerosionsgefährdet‘ gelten Parzellen mit einem absehbaren über die Rate der natürlichen Bodenbildung hinausgehenden Bodenverlust, und zwar unabhängig davon, ob Maßnahmen zum Erosionsschutz (z. B. Bodenbegrünung, Fruchtfolge usw.) getroffen wurden oder nicht. "]
["(6)","Maßnahmen im Zusammenhang mit der Errichtung/Neubefüllung von unterschiedlichen Risikofonds auf Gegenseitigkeit zählen als unterschiedliche Maßnahmen. "]
["(7)","Marktrücknahmen ein und desselben Erzeugnisses zu unterschiedlichen Zeiten des Jahres und Marktrücknahmen unterschiedlicher Erzeugnisse zählen als unterschiedliche Maßnahmen. Jede Marktrücknahme für ein bestimmtes Erzeugnis zählt als eine Aktion. "]
["(8)","Die Ernte vor der Reifung und das Nichternten unterschiedlicher Erzeugnisse zählen als unterschiedliche Maßnahmen. Die Ernte vor der Reifung und das Nichternten ein und desselben Erzeugnisses zählen als eine Aktion, unabhängig von der dafür benötigten Anzahl an Tagen, der Zahl der teilnehmenden Betriebe und der Anzahl der betroffenen Parzellen oder Hektar. "]

{"sheet":"T6.3_Sam_Ausg (T3)","index":17,"n_rows":89,"n_cols":12,"rows_kept":89,"merged":[[1,1,1,2],[1,12,1,13],[1,14,1,15],[3,3,4,6],[3,12,3,13],[6,0,8,4],[6,5,8,5],[6,11,8,11],[8,7,8,10],[9,0,11,0],[9,1,9,4],[10,1,10,4],[11,1,11,4],[12,0,14,0],[12,1,12,4],[13,1,13,4],[14,1,14,4],[15,0,15,3],[16,0,16,3],[18,5,20,5],[18,11,20,11],[19,0,20,1],[19,2,20,4],[20,7,20,10],[21,0,26,1],[21,2,21,4],[22,2,22,4],[23,2,23,4],[24,2,24,4],[25,2,25,4],[26,2,26,4],[27,0,30,1],[27,2,27,4],[28,2,28,4],[29,2,29,4],[30,2,30,4],[31,0,31,1],[31,2,31,4],[32,0,34,1],[32,2,32,4],[33,2,33,4],[34,2,34,4],[35,0,39,1],[35,2,35,4],[36,2,36,4],[37,2,37,4],[38,2,38,4],[39,2,39,4],[40,0,43,1],[40,2,40,4],[41,2,41,4],[42,2,42,4],[44,0,44,1],[44,2,52,4],[45,0,45,1],[46,0,46,1],[47,0,47,1],[48,0,48,1],[49,0,49,1],[50,0,50,1],[51,0,51,1],[52,0,52,1],[53,0,53,1],[53,2,62,4],[54,0,54,1],[55,0,55,1],[56,0,56,1],[57,0,57,1],[58,0,58,1],[59,0,59,1],[60,0,60,1],[61,0,61,1],[62,0,62,1],[63,0,69,1],[63,2,63,4],[64,2,64,4],[65,2,65,4],[66,2,66,4],[67,2,67,4],[68,2,68,4],[69,2,69,4],[70,0,73,1],[70,2,70,4],[71,2,71,4],[72,2,72,4],[73,2,73,4],[78,0,78,6],[79,0,79,6],[81,0,81,6],[82,0,82,6],[83,0,83,6],[84,0,84,6],[85,0,85,6],[87,0,87,6],[88,0,88,6]]}
[]
["Name der EO / LEO ",{"$f":"Name_der_EO_LEO","v":"Name_der_EO_LEO"},null,null,"Laufzeit \ndes OP",null,{"$f":"Laufzeit_des_OP","v":"JJJJ - JJJJ"},null,"Ausfüllen","Formel","keine Angaben","Tabelle 6.3"]
[]
["EO- / LEO-Code ",{"$f":"EO_Code","v":"DE XXXX"},null,"Zum großen Teil werden diese Angaben \nin T3 und T5.1 bis T5.9 erfasst!"]
[]
["Tabelle 6.3: Datensammlung der Ausgaben lt. Tabelle 3 (Evaluierung nationale Strategie)"]
["Betriebsfonds und WvE (in EUR)",{"$nulls":5},{"$f":"Berichtsjahr","v":"2020"},{"$f":"IF('T5.1 Invest'!G9,'T5.1 Invest'!G9,\"\")","v":""},{"$f":"IF('T5.1 Invest'!H9,'T5.1 Invest'!H9,\"\")","v":""},{"$f":"IF('T5.1 Invest'!I9,'T5.1 Invest'!I9,\"\")","v":""},{"$f":"IF('T5.1 Invest'!J9,'T5.1 Invest'!J9,\"\")","v":""},"Summe"]
[{"$nulls":6},"Berichtsjahr (n)","Berichtsjahr (n-1)","Berichtsjahr (n-2)","Berichtsjahr (n-3)","Berichtsjahr (n-4)"]
[{"$nulls":6},"vorläufige Daten","zahlungsrelevante Daten"]
["Betriebsfonds (Jahr n)","Insgesamt genehmigt",{"$nulls":4},{"$f":"'T3 Ausg'!G8","v":{"v":0,"d":"0.00"}},{"$f":"SUM(H11:H12)","v":{"v":0,"d":"0.00"}},{"$f":"SUM(I11:I12)","v":{"v":0,"d":"0.00"}},{"$f":"SUM(J11:J12)","v":{"v":0,"d":"0.00"}},{"$f":"SUM(K11:K12)","v":{"v":0,"d":"0.00"}},{"$f":"SUM(G10:K10)","v":{"v":0,"d":"0.00"}}]
[null,"(davon) — Höhe des finanziellen Beitrags der EO und/oder EO-Mitglieder",{"$nulls":4},{"$f":"'T3 Ausg'!G9","v":{"v":0,"d":"0.00"}},{"v":0,"d":"0.00"},{"v":0,"d":"0.00"},{"v":0,"d":"0.00"},{"v":0,"d":"0.00"},{"$f":"SUM(G11:K11)","v":{"v":0,"d":"0.00"}}]
[null,"(davon) — Höhe der finanziellen Unterstützung durch die EU",{"$nulls":4},{"$f":"'T3 Ausg'!G10","v":{"v":0,"d":"0.00"}},{"v":0,"d":"0.00"},{"v":0,"d":"0.00"},{"v":0,"d":"0.00"},{"v":0,"d":"0.00"},{"v":0,"d":"0.00"}]
["Endgültiger Betriebsfonds\n(Jahr n+1)","Ausgaben insgesamt",{"$nulls":4},{"$f":"'T3 Ausg'!G11","v":{"v":0,"d":"0.00"}},{"$f":"SUM(H14:H15)","v":{"v":0,"d":"0.00"}},{"$f":"SUM(I14:I15)","v":{"v":0,"d":"0.00"}},{"$f":"SUM(J14:J15)","v":{"v":0,"d":"0.00"}},{"$f":"SUM(K14:K15)","v":{"v":0,"d":"0.00"}},{"v":0,"d":"0.00"}]
[null,"(davon) — Höhe des finanziellen Beitrags EO-Mitglieder",{"$nulls":4},{"$f":"'T3 Ausg'!G12","v":{"v":0,"d":"0.00"}},{"v":0,"d":"0.00"},{"v":0,"d":"0.00"},{"v":0,"d":"0.00"},{"v":0,"d":"0.00"},{"v":0,"d":"0.00"}]
[null,"(davon) — Höhe der finanziellen Unterstützung durch die EU",{"$nulls":4},{"$f":"'T3 Ausg'!G13","v":{"v":0,"d":"0.00"}},{"v":0,"d":"0.00"},{"v":0,"d":"0.00"},{"v":0,"d":"0.00"},{"v":0,"d":"0.00"},{"v":0,"d":"0.00"}]
["Wert der vermarkteten Erzeugung (berechnet gem. Art. 22 der Deleg. VO (EU) 2017/891) im Berichtsjahr:",{"$nulls":3},"01.01. - 31.12",null,{"$f":"'T3 Ausg'!G14","v":{"v":0,"d":"0.00"}},{"v":0,"d":"0.00"},{"v":0,"d":"0.00"},{"v":0,"d":"0.00"},{"v":0,"d":"0.00"},{"v":0,"d":"0.00"}]
["Wert der vermarkteten Erzeugung (berechnet gem. Art. 23 der Deleg. VO (EU) 2017/891) im Referenzzeitraum:",{"$nulls":3},"TT.MM. - TT.MM.",null,{"$f":"'T3 Ausg'!G15","v":{"v":0,"d":"0.00"}},{"v":0,"d":"0.00"},{"v":0,"d":"0.00"},{"v":0,"d":"0.00"},{"v":0,"d":"0.00"},{"v":0,"d":"0.00"}]
[]
["Tatsächliche Ausgaben des operationellen Programmes der EO / LEO insgesamt (in EUR)",{"$nulls":5},{"$f":"Berichtsjahr","v":"2020"},{"$f":"IF('T5.1 Invest'!G9,'T5.1 Invest'!G9,\"\")","v":""},{"$f":"IF('T5.1 Invest'!H9,'T5.1 Invest'!H9,\"\")","v":""},{"$f":"IF('T5.1 Invest'!I9,'T5.1 Invest'!I9,\"\")","v":""},{"$f":"IF('T5.1 Invest'!J9,'T5.1 Invest'!J9,\"\")","v":""},"Summe"]
["Aktionen / Maßnahmen\nArt. 2(f)+(g) der Deleg. VO (EU) 2017/891",null,"Ziele\nArt. 33(1)+(3) und 152(1)(c) der VO (EU) Nr. 1308/2013",{"$nulls":3},"Berichtsjahr (n)","Berichtsjahr (n-1)","Berichtsjahr (n-2)","Berichtsjahr (n-3)","Berichtsjahr (n-4)"]
[{"$nulls":6},"vorläufige Daten","zahlungsrelevante Daten"]
["Investitionen",null,"Planung der Produktion",{"$nulls":3},{"$f":"'T5.1 Invest'!K12","v":{"v":0,"d":"0.00"}},{"$f":"'T5.1 Invest'!L12","v":{"v":0,"d":"0.00"}},{"$f":"'T5.1 Invest'!M12","v":{"v":0,"d":"0.00"}},{"$f":"'T5.1 Invest'!N12","v":{"v":0,"d":"0.00"}},{"$f":"'T5.1 Invest'!O12","v":{"v":0,"d":"0.00"}},{"$f":"SUM(G22:K22)","v":{"v":0,"d":"0.00"}}]
[null,null,"Verbesserung der Qualität der Erzeugnisse",{"$nulls":3},{"$f":"'T5.1 Invest'!K20","v":{"v":0,"d":"0.00"}},{"$f":"'T5.1 Invest'!L20","v":{"v":0,"d":"0.00"}},{"$f":"'T5.1 Invest'!M20","v":{"v":0,"d":"0.00"}},{"$f":"'T5.1 Invest'!N20","v":{"v":0,"d":"0.00"}},{"$f":"'T5.1 Invest'!O20","v":{"v":0,"d":"0.00"}},{"$f":"SUM(G23:K23)","v":{"v":0,"d":"0.00"}}]
[null,null,"Steigerung des Vermarktungswerts der Erzeugnisse",{"$nulls":3},{"$f":"'T5.1 Invest'!K28","v":{"v":0,"d":"0.00"}},{"$f":"'T5.1 Invest'!L28","v":{"v":0,"d":"0.00"}},{"$f":"'T5.1 Invest'!M28","v":{"v":0,"d":"0.00"}},{"$f":"'T5.1 Invest'!N28","v":{"v":0,"d":"0.00"}},{"$f":"'T5.1 Invest'!O28","v":{"v":0,"d":"0.00"}},{"v":0,"d":"0.00"}]
[null,null,"Umweltmaßnahmen",{"$nulls":3},{"$f":"'T5.1 Invest'!K36","v":{"v":0,"d":"0.00"}},{"$f":"'T5.1 Invest'!L36","v":{"v":0,"d":"0.00"}},{"$f":"'T5.1 Invest'!M36","v":{"v":0,"d":"0.00"}},{"$f":"'T5.1 Invest'!N36","v":{"v":0,"d":"0.00"}},{"$f":"'T5.1 Invest'!O36","v":{"v":0,"d":"0.00"}},{"v":0,"d":"0.00"}]
[null,null,"Krisenprävention und Krisenmanagement",{"$nulls":3},{"$f":"'T5.1 Invest'!K44","v":{"v":0,"d":"0.00"}},{"$f":"'T5.1 Invest'!L44","v":{"v":0,"d":"0.00"}},{"$f":"'T5.1 Invest'!M44","v":{"v":0,"d":"0.00"}},{"$f":"'T5.1 Invest'!N44","v":{"v":0,"d":"0.00"}},{"$f":"'T5.1 Invest'!O44","v":{"v":0,"d":"0.00"}},{"v":0,"d":"0.00"}]
[null,null,"Forschung",{"$nulls":3},{"$f":"'T5.1 Invest'!K52","v":{"v":0,"d":"0.00"}},{"$f":"'T5.1 Invest'!L52","v":{"v":0,"d":"0.00"}},{"$f":"'T5.1 Invest'!M52","v":{"v":0,"d":"0.00"}},{"$f":"'T5.1 Invest'!N52","v":{"v":0,"d":"0.00"}},{"$f":"'T5.1 Invest'!O52","v":{"v":0,"d":"0.00"}},{"v":0,"d":"0.00"}]
["Forschung und Versuchslandbau",null,"Planung der Produktion",{"$nulls":3},{"$f":"'T5.2 Forsch'!K12","v":{"v":0,"d":"0.00"}},{"$f":"'T5.2 Forsch'!L12","v":{"v":0,"d":"0.00"}},{"$f":"'T5.2 Forsch'!M12","v":{"v":0,"d":"0.00"}},{"$f":"'T5.2 Forsch'!N12","v":{"v":0,"d":"0.00"}},{"$f":"'T5.2 Forsch'!O12","v":{"v":0,"d":"0.00"}},{"v":0,"d":"0.00"}]
[null,null,"Verbesserung der Qualität der Erzeugnisse",{"$nulls":3},{"$f":"'T5.2 Forsch'!K20","v":{"v":0,"d":"0.00"}},{"$f":"'T5.2 Forsch'!L20","v":{"v":0,"d":"0.00"}},{"$f":"'T5.2 Forsch'!M20","v":{"v":0,"d":"0.00"}},{"$f":"'T5.2 Forsch'!N20","v":{"v":0,"d":"0.00"}},{"$f":"'T5.2 Forsch'!O20","v":{"v":0,"d":"0.00"}},{"v":0,"d":"0.00"}]
[null,null,"Steigerung des Vermarktungswerts der Erzeugnisse",{"$nulls":3},{"$f":"'T5.2 Forsch'!K28","v":{"v":0,"d":"0.00"}},{"$f":"'T5.2 Forsch'!L28","v":{"v":0,"d":"0.00"}},{"$f":"'T5.2 Forsch'!M28","v":{"v":0,"d":"0.00"}},{"$f":"'T5.2 Forsch'!N28","v":{"v":0,"d":"0.00"}},{"$f":"'T5.2 Forsch'!O28","v":{"v":0,"d":"0.00"}},{"v":0,"d":"0.00"}]
[null,null,"Umweltmaßnahmen",{"$nulls":3},{"$f":"'T5.2 Forsch'!K36","v":{"v":0,"d":"0.00"}},{"$f":"'T5.2 Forsch'!L36","v":{"v":0,"d":"0.00"}},{"$f":"'T5.2 Forsch'!M36","v":{"v":0,"d":"0.00"}},{"$f":"'T5.2 Forsch'!N36","v":{"v":0,"d":"0.00"}},{"$f":"'T5.2 Forsch'!O36","v":{"v":0,"d":"0.00"}},{"v":0,"d":"0.00"}]
["Qualitätsregelungen (EU und Mitgliedstaaten) und Maßnahmen zur Qualitätsverbesserung",null,"Verbesserung der Qualität der Erzeugnisse",{"$nulls":3},{"$f":"'T5.3 Quali'!K12","v":{"v":0,"d":"0.00"}},{"$f":"'T5.3 Quali'!L12","v":{"v":0,"d":"0.00"}},{"$f":"'T5.3 Quali'!M12","v":{"v":0,"d":"0.00"}},{"$f":"'T5.3 Quali'!N12","v":{"v":0,"d":"0.00"}},{"$f":"'T5.3 Quali'!O12","v":{"v":0,"d":"0.00"}},{"v":0,"d":"0.00"}]
["Absatzförderung und Kommunikation",null,"Steigerung des Vermarktungswerts der Erzeugnisse",{"$nulls":3},{"$f":"'T5.4 Abs+Kom'!K12","v":{"v":0,"d":"0.00"}},{"$f":"'T5.4 Abs+Kom'!L12","v":{"v":0,"d":"0.00"}},{"$f":"'T5.4 Abs+Kom'!M12","v":{"v":0,"d":"0.00"}},{"$f":"'T5.4 Abs+Kom'!N12","v":{"v":0,"d":"0.00"}},{"$f":"'T5.4 Abs+Kom'!O12","v":{"v":0,"d":"0.00"}},{"v":0,"d":"0.00"}]
[null,null,"Förderung des Absatzes der Erzeugnisse",{"$nulls":3},{"$f":"'T5.4 Abs+Kom'!K20","v":{"v":0,"d":"0.00"}},{"$f":"'T5.4 Abs+Kom'!L20","v":{"v":0,"d":"0.00"}},{"$f":"'T5.4 Abs+Kom'!M20","v":{"v":0,"d":"0.00"}},{"$f":"'T5.4 Abs+Kom'!N20","v":{"v":0,"d":"0.00"}},{"$f":"'T5.4 Abs+Kom'!O20","v":{"v":0,"d":"0.00"}},{"v":0,"d":"0.00"}]
[null,null,"Krisenprävention und Krisenmanagement",{"$nulls":3},{"$f":"'T5.4 Abs+Kom'!K28","v":{"v":0,"d":"0.00"}},{"$f":"'T5.4 Abs+Kom'!L28","v":{"v":0,"d":"0.00"}},{"$f":"'T5.4 Abs+Kom'!M28","v":{"v":0,"d":"0.00"}},{"$f":"'T5.4 Abs+Kom'!N28","v":{"v":0,"d":"0.00"}},{"$f":"'T5.4 Abs+Kom'!O28","v":{"v":0,"d":"0.00"}},{"v":0,"d":"0.00"}]
["Aus- und Weiterbildung und Austausch über bewährte Verfahren",null,"Planung der Produktion",{"$nulls":3},{"$f":"'T5.5 Bild'!K12","v":{"v":0,"d":"0.00"}},{"$f":"'T5.5 Bild'!L12","v":{"v":0,"d":"0.00"}},{"$f":"'T5.5 Bild'!M12","v":{"v":0,"d":"0.00"}},{"$f":"'T5.5 Bild'!N12","v":{"v":0,"d":"0.00"}},{"$f":"'T5.5 Bild'!O12","v":{"v":0,"d":"0.00"}},{"v":0,"d":"0.00"}]
[null,null,"Verbesserung der Qualität der Erzeugnisse",{"$nulls":3},{"$f":"'T5.5 Bild'!K20","v":{"v":0,"d":"0.00"}},{"$f":"'T5.5 Bild'!L20","v":{"v":0,"d":"0.00"}},{"$f":"'T5.5 Bild'!M20","v":{"v":0,"d":"0.00"}},{"$f":"'T5.5 Bild'!N20","v":{"v":0,"d":"0.00"}},{"$f":"'T5.5 Bild'!O20","v":{"v":0,"d":"0.00"}},{"v":0,"d":"0.00"}]
[null,null,"Steigerung des Vermarktungswerts der Erzeugnisse",{"$nulls":3},{"$f":"'T5.5 Bild'!K28","v":{"v":0,"d":"0.00"}},{"$f":"'T5.5 Bild'!L28","v":{"v":0,"d":"0.00"}},{"$f":"'T5.5 Bild'!M28","v":{"v":0,"d":"0.00"}},{"$f":"'T5.5 Bild'!N28","v":{"v":0,"d":"0.00"}},{"$f":"'T5.5 Bild'!O28","v":{"v":0,"d":"0.00"}},{"v":0,"d":"0.00"}]
[null,null,"Umweltmaßnahmen",{"$nulls":3},{"$f":"'T5.5 Bild'!K36","v":{"v":0,"d":"0.00"}},{"$f":"'T5.5 Bild'!L36","v":{"v":0,"d":"0.00"}},{"$f":"'T5.5 Bild'!M36","v":{"v":0,"d":"0.00"}},{"$f":"'T5.5 Bild'!N36","v":{"v":0,"d":"0.00"}},{"$f":"'T5.5 Bild'!O36","v":{"v":0,"d":"0.00"}},{"v":0,"d":"0.00"}]
[null,null,"Krisenprävention und Krisenmanagement",{"$nulls":3},{"$f":"'T5.5 Bild'!K44","v":{"v":0,"d":"0.00"}},{"$f":"'T5.5 Bild'!L44","v":{"v":0,"d":"0.00"}},{"$f":"'T5.5 Bild'!M44","v":{"v":0,"d":"0.00"}},{"$f":"'T5.5 Bild'!N44","v":{"v":0,"d":"0.00"}},{"$f":"'T5.5 Bild'!O44","v":{"v":0,"d":"0.00"}},{"v":0,"d":"0.00"}]
["Beratungsdienste und technische Hilfe",null,"Planung der Produktion",{"$nulls":3},{"$f":"'T5.6 Berat'!K12","v":{"v":0,"d":"0.00"}},{"$f":"'T5.6 Berat'!L12","v":{"v":0,"d":"0.00"}},{"$f":"'T5.6 Berat'!M12","v":{"v":0,"d":"0.00"}},{"$f":"'T5.6 Berat'!N12","v":{"v":0,"d":"0.00"}},{"$f":"'T5.6 Berat'!O12","v":{"v":0,"d":"0.00"}},{"v":0,"d":"0.00"}]
[null,null,"Verbesserung der Qualität der Erzeugnisse",{"$nulls":3},{"$f":"'T5.6 Berat'!K20","v":{"v":0,"d":"0.00"}},{"$f":"'T5.6 Berat'!L20","v":{"v":0,"d":"0.00"}},{"$f":"'T5.6 Berat'!M20","v":{"v":0,"d":"0.00"}},{"$f":"'T5.6 Berat'!N20","v":{"v":0,"d":"0.00"}},{"$f":"'T5.6 Berat'!O20","v":{"v":0,"d":"0.00"}},{"v":0,"d":"0.00"}]
[null,null,"Steigerung des Vermarktungswerts der Erzeugnisse",{"$nulls":3},{"$f":"'T5.6 Berat'!K28","v":{"v":0,"d":"0.00"}},{"$f":"'T5.6 Berat'!L28","v":{"v":0,"d":"0.00"}},{"$f":"'T5.6 Berat'!M28","v":{"v":0,"d":"0.00"}},{"$f":"'T5.6 Berat'!N28","v":{"v":0,"d":"0.00"}},{"$f":"'T5.6 Berat'!O28","v":{"v":0,"d":"0.00"}},{"v":0,"d":"0.00"}]
[null,null,"Umweltmaßnahmen",{"$nulls":3},{"$f":"'T5.6 Berat'!K36","v":{"v":0,"d":"0.00"}},{"$f":"'T5.6 Berat'!L36","v":{"v":0,"d":"0.00"}},{"$f":"'T5.6 Berat'!M36","v":{"v":0,"d":"0.00"}},{"$f":"'T5.6 Berat'!N36","v":{"v":0,"d":"0.00"}},{"$f":"'T5.6 Berat'!O36","v":{"v":0,"d":"0.00"}},{"v":0,"d":"0.00"}]
["Ökologischer / biologischer Landbau",null,"Umweltmaßnahmen",{"$nulls":3},{"$f":"'T5.7 Umwelt'!K13","v":{"v":0,"d":"0.00"}},{"$f":"'T5.7 Umwelt'!L13","v":{"v":0,"d":"0.00"}},{"$f":"'T5.7 Umwelt'!M13","v":{"v":0,"d":"0.00"}},{"$f":"'T5.7 Umwelt'!N13","v":{"v":0,"d":"0.00"}},{"$f":"'T5.7 Umwelt'!O13","v":{"v":0,"d":"0.00"}},{"v":0,"d":"0.00"}]
["Integrierter Landbau",{"$nulls":5},{"$f":"'T5.7 Umwelt'!K14","v":{"v":0,"d":"0.00"}},{"$f":"'T5.7 Umwelt'!L14","v":{"v":0,"d":"0.00"}},{"$f":"'T5.7 Umwelt'!M14","v":{"v":0,"d":"0.00"}},{"$f":"'T5.7 Umwelt'!N14","v":{"v":0,"d":"0.00"}},{"$f":"'T5.7 Umwelt'!O14","v":{"v":0,"d":"0.00"}},{"v":0,"d":"0.00"}]
["Bessere Nutzung oder Bewirtschaftung von Wasser, einschließlich Wassereinsparung und -ableitung",{"$nulls":5},{"$f":"'T5.7 Umwelt'!K15","v":{"v":0,"d":"0.00"}},{"$f":"'T5.7 Umwelt'!L15","v":{"v":0,"d":"0.00"}},{"$f":"'T5.7 Umwelt'!M15","v":{"v":0,"d":"0.00"}},{"$f":"'T5.7 Umwelt'!N15","v":{"v":0,"d":"0.00"}},{"$f":"'T5.7 Umwelt'!O15","v":{"v":0,"d":"0.00"}},{"v":0,"d":"0.00"}]
["Maßnahmen zur Bodenerhaltung",{"$nulls":5},{"$f":"'T5.7 Umwelt'!K20","v":{"v":0,"d":"0.00"}},{"$f":"'T5.7 Umwelt'!L20","v":{"v":0,"d":"0.00"}},{"$f":"'T5.7 Umwelt'!M20","v":{"v":0,"d":"0.00"}},{"$f":"'T5.7 Umwelt'!N20","v":{"v":0,"d":"0.00"}},{"$f":"'T5.7 Umwelt'!O20","v":{"v":0,"d":"0.00"}},{"v":0,"d":"0.00"}]
["Maßnahmen zur Schaffung und Erhaltung von Lebensräumen, die die biologische Vielfalt begünstigen, und zur Landschaftspflege, einschließlich Erhaltung historischer Merkmale",{"$nulls":5},{"$f":"'T5.7 Umwelt'!K25","v":{"v":0,"d":"0.00"}},{"$f":"'T5.7 Umwelt'!L25","v":{"v":0,"d":"0.00"}},{"$f":"'T5.7 Umwelt'!M25","v":{"v":0,"d":"0.00"}},{"$f":"'T5.7 Umwelt'!N25","v":{"v":0,"d":"0.00"}},{"$f":"'T5.7 Umwelt'!O25","v":{"v":0,"d":"0.00"}},{"v":0,"d":"0.00"}]
["Maßnahmen zur Energieeinsparung (ohne Verkehr)",{"$nulls":5},{"$f":"'T5.7 Umwelt'!K30","v":{"v":0,"d":"0.00"}},{"$f":"'T5.7 Umwelt'!L30","v":{"v":0,"d":"0.00"}},{"$f":"'T5.7 Umwelt'!M30","v":{"v":0,"d":"0.00"}},{"$f":"'T5.7 Umwelt'!N30","v":{"v":0,"d":"0.00"}},{"$f":"'T5.7 Umwelt'!O30","v":{"v":0,"d":"0.00"}},{"v":0,"d":"0.00"}]
["Maßnahmen zur Verringerung der Abfallproduktion und Verbesserung der Abfallbewirtschaftung",{"$nulls":5},{"$f":"'T5.7 Umwelt'!K35","v":{"v":0,"d":"0.00"}},{"$f":"'T5.7 Umwelt'!L35","v":{"v":0,"d":"0.00"}},{"$f":"'T5.7 Umwelt'!M35","v":{"v":0,"d":"0.00"}},{"$f":"'T5.7 Umwelt'!N35","v":{"v":0,"d":"0.00"}},{"$f":"'T5.7 Umwelt'!O35","v":{"v":0,"d":"0.00"}},{"v":0,"d":"0.00"}]
["Verkehr",{"$nulls":5},{"$f":"'T5.7 Umwelt'!K40","v":{"v":0,"d":"0.00"}},{"$f":"'T5.7 Umwelt'!L40","v":{"v":0,"d":"0.00"}},{"$f":"'T5.7 Umwelt'!M40","v":{"v":0,"d":"0.00"}},{"$f":"'T5.7 Umwelt'!N40","v":{"v":0,"d":"0.00"}},{"$f":"'T5.7 Umwelt'!O40","v":{"v":0,"d":"0.00"}},{"v":0,"d":"0.00"}]
["Vermarktung",{"$nulls":5},{"$f":"'T5.7 Umwelt'!K45","v":{"v":0,"d":"0.00"}},{"$f":"'T5.7 Umwelt'!L45","v":{"v":0,"d":"0.00"}},{"$f":"'T5.7 Umwelt'!M45","v":{"v":0,"d":"0.00"}},{"$f":"'T5.7 Umwelt'!N45","v":{"v":0,"d":"0.00"}},{"$f":"'T5.7 Umwelt'!O45","v":{"v":0,"d":"0.00"}},{"v":0,"d":"0.00"}]
["Einrichtung von Fonds auf Gegenseitigkeit",null,"Krisenprävention und Krisenmanagement"]
["Neubefüllung von Fonds auf Gegenseitigkeit"]
["Wiederbepflanzung von Obstplantagen",{"$nulls":5},{"$f":"'T5.8 Krise'!K14","v":{"v":0,"d":"0.00"}},{"$f":"'T5.8 Krise'!L14","v":{"v":0,"d":"0.00"}},{"$f":"'T5.8 Krise'!M14","v":{"v":0,"d":"0.00"}},{"$f":"'T5.8 Krise'!N14","v":{"v":0,"d":"0.00"}},{"$f":"'T5.8 Krise'!O14","v":{"v":0,"d":"0.00"}},{"$f":"SUM(G56:K56)","v":{"v":0,"d":"0.00"}}]
["Marktrücknahmen"]
["— Freier Vertrieb"]
["— Sonstige"]
["Ernte vor der Reifung"]
["Nichternten"]
["Ernteversicherung",{"$nulls":5},{"$f":"'T5.8 Krise'!K22","v":{"v":0,"d":"0.00"}},{"$f":"'T5.8 Krise'!L22","v":{"v":0,"d":"0.00"}},{"$f":"'T5.8 Krise'!M22","v":{"v":0,"d":"0.00"}},{"$f":"'T5.8 Krise'!N22","v":{"v":0,"d":"0.00"}},{"$f":"'T5.8 Krise'!O22","v":{"v":0,"d":"0.00"}},{"$f":"SUM(G62:K62)","v":{"v":0,"d":"0.00"}}]
["Coaching"]
["Verwaltungskosten",null,"Planung der Produktion",{"$nulls":3},{"$f":"'T3 Ausg'!G61","v":{"v":0,"d":"0.00"}},{"v":0,"d":"0.00"},{"v":0,"d":"0.00"},{"v":0,"d":"0.00"},{"v":0,"d":"0.00"},{"$f":"SUM(G64:K64)","v":{"v":0,"d":"0.00"}}]
[null,null,"Verbesserung der Qualität der Erzeugnisse",{"$nulls":3},{"$f":"'T3 Ausg'!G62","v":{"v":0,"d":"0.00"}},{"v":0,"d":"0.00"},{"v":0,"d":"0.00"},{"v":0,"d":"0.00"},{"v":0,"d":"0.00"},{"$f":"SUM(G65:K65)","v":{"v":0,"d":"0.00"}}]
[null,null,"Steigerung des Vermarktungswerts der Erzeugnisse",{"$nulls":3},{"$f":"'T3 Ausg'!G63","v":{"v":0,"d":"0.00"}},{"v":0,"d":"0.00"},{"v":0,"d":"0.00"},{"v":0,"d":"0.00"},{"v":0,"d":"0.00"},{"v":0,"d":"0.00"}]
[null,null,"Förderung des Absatzes der Erzeugnisse",{"$nulls":3},{"$f":"'T3 Ausg'!G64","v":{"v":0,"d":"0.00"}},{"v":0,"d":"0.00"},{"v":0,"d":"0.00"},{"v":0,"d":"0.00"},{"v":0,"d":"0.00"},{"$f":"SUM(G67:K67)","v":{"v":0,"d":"0.00"}}]
[null,null,"Umweltmaßnahmen",{"$nulls":3},{"$f":"'T3 Ausg'!G65","v":{"v":0,"d":"0.00"}},{"v":0,"d":"0.00"},{"v":0,"d":"0.00"},{"v":0,"d":"0.00"},{"v":0,"d":"0.00"},{"v":0,"d":"0.00"}]
[null,null,"Krisenprävention und Krisenmanagement",{"$nulls":3},{"$f":"'T3 Ausg'!G66","v":{"v":0,"d":"0.00"}},{"v":0,"d":"0.00"},{"v":0,"d":"0.00"},{"v":0,"d":"0.00"},{"v":0,"d":"0.00"},{"v":0,"d":"0.00"}]
[null,null,"Forschung",{"$nulls":3},{"$f":"'T3 Ausg'!G67","v":{"v":0,"d":"0.00"}},{"v":0,"d":"0.00"},{"v":0,"d":"0.00"},{"v":0,"d":"0.00"},{"v":0,"d":"0.00"},{"v":0,"d":"0.00"}]
["Sonstige",null,"Planung der Produktion",{"$nulls":3},{"$f":"'T5.9 Sonst'!K12","v":{"v":0,"d":"0.00"}},{"$f":"'T5.9 Sonst'!L12","v":{"v":0,"d":"0.00"}},{"$f":"'T5.9 Sonst'!M12","v":{"v":0,"d":"0.00"}},{"$f":"'T5.9 Sonst'!N12","v":{"v":0,"d":"0.00"}},{"$f":"'T5.9 Sonst'!O12","v":{"v":0,"d":"0.00"}},{"v":0,"d":"0.00"}]
[null,null,"Verbesserung der Qualität der Erzeugnisse",{"$nulls":3},{"$f":"'T5.9 Sonst'!K20","v":{"v":0,"d":"0.00"}},{"$f":"'T5.9 Sonst'!L20","v":{"v":0,"d":"0.00"}},{"$f":"'T5.9 Sonst'!M20","v":{"v":0,"d":"0.00"}},{"$f":"'T5.9 Sonst'!N20","v":{"v":0,"d":"0.00"}},{"$f":"'T5.9 Sonst'!O20","v":{"v":0,"d":"0.00"}},{"v":0,"d":"0.00"}]
[null,null,"Steigerung des Vermarktungswerts der Erzeugnisse",{"$nulls":3},{"$f":"'T5.9 Sonst'!K28","v":{"v":0,"d":"0.00"}},{"$f":"'T5.9 Sonst'!L28","v":{"v":0,"d":"0.00"}},{"$f":"'T5.9 Sonst'!M28","v":{"v":0,"d":"0.00"}},{"$f":"'T5.9 Sonst'!N28","v":{"v":0,"d":"0.00"}},{"$f":"'T5.9 Sonst'!O28","v":{"v":0,"d":"0.00"}},{"v":0,"d":"0.00"}]
[null,null,"Umweltmaßnahmen",{"$nulls":3},{"$f":"'T5.9 Sonst'!K36","v":{"v":0,"d":"0.00"}},{"$f":"'T5.9 Sonst'!L36","v":{"v":0,"d":"0.00"}},{"$f":"'T5.9 Sonst'!M36","v":{"v":0,"d":"0.00"}},{"$f":"'T5.9 Sonst'!N36","v":{"v":0,"d":"0.00"}},{"$f":"'T5.9 Sonst'!O36","v":{"v":0,"d":"0.00"}},{"v":0,"d":"0.00"}]
[{"$nulls":4},"Summe:",null,{"$f":"SUM(G22:G74)","v":{"v":0,"d":"0.00"}},{"$f":"SUM(H22:H74)","v":{"v":0,"d":"0.00"}},{"v":0,"d":"0.00"},{"v":0,"d":"0.00"},{"v":0,"d":"0.00"},{"v":0,"d":"0.00"}]
[]
["Erläuterungen der EU-KOM  in deutscher Fassung vom 09.10.2019"]
["Investitionen - Ausgaben"]
["Die Ausgaben für den Erwerb / die Anmietung / das Leasing eines Anlagegutes können vom entsprechenden Wert der getätigten Investition abweichen. Dies ist beispielsweise der Fall, wenn die EO / VEO für den Erwerb des Anlagegutes ein Darlehen bei einem Kreditinstitut aufgenommen hat. In diesem Fall entsprächen die Ausgaben der jährlichen Rate für das Darlehen, das für den Erwerb des Anlagegutes aufgenommen wurde (oder der Summe mehrerer jährlicher Raten, wenn im Berichtsjahr mehrere Anlagegüter erworben wurden)."]
["Gleiches gilt beispielsweise, wenn ein Anlagegut (z. B. Ausstattung) im Jahr N erworben, aber erst im darauf folgenden Jahr auf- oder eingebaut wird und erst dann voll nutzbar ist (d.h. die Investition ist getätigt = die betreffende EO oder ihre Mitglieder können sie so nutzen, wie es im genehmigten operationellen Programm vorgesehen ist). In diesem Fall sind die Ausgaben für den Erwerb / die Anmietung / das Leasing des Anlageguts im Jahr N zu erfassen."]
["Übrige Felder - Ausgaben"]
["Die übrigen Ausgaben werden durch Addition aller nichtinvestiven Ausgaben je Art von Einrichtung in jedem Mitgliedstaat (Gesamtbetrag EO, Gesamtbetrag LEO, Gesamtbetrag VEO und/oder Gesamtbetrag LVEO) für die einzelnen Maßnahmen und Ziele, wie sie in den einzelnen operationellen Programmen genehmigt wurden, angegeben."]
["Verwaltungskosten  - Ausgaben"]
["In diesen Feldern sind die Ausgaben für Maßnahmen im Zusammenhang mit den Verwaltungskosten für die Durchführung des Betriebsfonds anzugeben (Anhang III Nummer 2 Buchstabe b der Delegierten Verordnung (EU) 2017/891 der Kommission)."]
["Andere Aktionen - Ausgaben"]
["Sonstige Maßnahmen sind Maßnahmen, die nicht unter die vorhergehenden Zeilen fallen und nicht mit dem Erwerb von Anlagegütern zusammenhängen."]
[]
["Anmerkung gem. DVO (EU) 2017/892, Anhang II  geändert mit DVO (EU) 2018/1146 - ergänzt um Nummerierung"]
["Die Verordnung (EU) Nr. 1308/2013 sieht folgende Ziele vor:  \n1. — Planung der Produktion Artikel 33 Absatz 1 Buchstabe a und Artikel 152 Absatz 1 Buchstabe c Ziffern i, ii und xi  \n2. — Verbesserung der Qualität der Erzeugnisse Artikel 33 Absatz 1 Buchstabe b und Artikel 152 Absatz 1 Buchstabe c Ziffern i, iv und vi  \n3. — Steigerung des Vermarktungswerts der Erzeugnisse Artikel 33 Absatz 1 Buchstabe c und Artikel 152 Absatz 1 Buchstabe c Ziffern i, ii, iii, iv, ix und xi  \n4. — Förderung des Absatzes der Erzeugnisse Artikel 33 Absatz 1 Buchstabe d und Artikel 152 Absatz 1 Buchstabe c Ziffern vi und ix  \n5. — Umweltmaßnahmen Artikel 33 Absatz 1 Buchstabe e und Artikel 152 Absatz 1 Buchstabe c Ziffern iii, iv, v, vii und viii  \n6. — Krisenprävention und Krisenmanagement Artikel 33 Absatz 1 Buchstabe f, Artikel 33 Absatz 3 Buchstabe a und Artikel 152 Absatz 1 Buchstabe c Ziffern iv und xi  \n7. — Forschung Artikel 152 Absatz 1 Buchstabe c Ziffer iv  "]

{"sheet":"Auswahl","index":18,"n_rows":32,"n_cols":3,"rows_kept":32,"merged":[[1,0,1,2]]}
[null,null,"Funktionsblatt 1"]
["Bestimmung des Inhalts bestimmter Auswahlfelder in den Tabellen"]
["Nationale Strategie vom 23.05.2018"]
["2.3 Strategie für nachhaltige operationelle Programme",null,"Auswahlfelder Ziele der Nationalen Strategie"]
["2.3.1 Strategische Ansatzpunkte und Allgemeine Ziele","1. Ziel","A. Verbesserung der Wettbewerbsfähigkeit"]
[null,"2. Ziel","B. Verbesserung der Attraktivität der Mitgliedschaft in Erzeugerorganisationen"]
[null,"3. Ziel","C. Erhaltung und Schutz der Umwelt"]
["2.3.2 Spezifische Ziele",null,"1. Förderung der Angebotskonzentration"]
[null,null,"2. Verbesserung der Marktorientierung"]
[null,null,"3. Steigerung und Erhaltung der Qualität"]
[null,null,"4. Verbesserung des Mitgliedermanagements und des Anreizes zur Mitgliedschaft"]
[null,null,"5. Effizienzsteigerung"]
[null,null,"6. Kompetenzentwicklung / Steigerung der Innovationsfähigkeit"]
["Anhang 4\nNationaler Rahmen für Umweltmaßnahmen",null,"7. Ressourcen schonende Erzeugung und Vermarktung sicherer Produkte\n(s. nationaler Rahmen für Umweltmaßnahmen)"]
["3.1 Zielbereiche bzw. spezifische Ziele Umwelt (s. Anhang 1)",null,"7.1 Verminderung von Rückständen / unerwünschten Stoffen als Beitrag zum Schutz der menschlichen Gesundheit"]
[null,null,"7.2 Nachhaltige Nutzung und Schutz der natürlichen Ressourcen, insbesondere Boden, Wasser und Luft"]
[null,null,"7.3 Beitrag zum Klimaschutz"]
[null,null,"7.4 Reduzierung des Abfallvolumens"]
[null,null,"7.5 Erhalt oder Förderung der Artenvielfalt (Biodiversität)"]
[]
[]
["Auswahlfeld"]
["ja"]
["nein"]
[]
["Auswahlfeld OP-Änderung"]
["entfällt"]
["Abbruch"]
["Aufnahme"]
[]
["Suche nicht gesperrte Zellen"]
[" =NICHT(ZELLE(\"Schutz\";A1))"]